Workbook
Name Biblioteca_1: '1. Plano anual atividades'!#REF!
Name Biblioteca_2: '1. Plano anual atividades'!#REF!
Name Biblioteca_3: '1. Plano anual atividades'!#REF!
Name Biblioteca_4: '1. Plano anual atividades'!#REF!
Name Biblioteca_5: '1. Plano anual atividades'!#REF!
Name Biblioteca_6: '1. Plano anual atividades'!#REF!
Name Biblioteca_7: '1. Plano anual atividades'!#REF!

Sheet Guia de apoio
B3: Contextualização
B5: O Plano Anual de Atividades (PAA) é um documento estruturante e estratégico que enquadra, em cada ano letivo, o trabalho a desenvolver pelas bibliotecas escolares de um agrupamento ou pela biblioteca de uma escola não agrupada.
B6: Reconhecendo o papel central das bibliotecas na promoção das aprendizagens, da leitura, da literacia informacional e mediática e na dinamização da comunidade educativa, a Rede de Bibliotecas Escolares (RBE) recomenda que o PAA das bibliotecas seja integrado no Plano Anual de Atividades do Agrupamento, refletindo a articulação e a colaboração com as diferentes estruturas educativas e pedagógicas.
B7: No caso dos Agrupamentos de Escolas, o PAA deverá contemplar a ação conjunta das bibliotecas escolares nas diferentes escolas (com qualquer tipologia de biblioteca instalada ou ainda a aguardar intervenção), salvaguardando, simultaneamente, as especificidades, necessidades e características de cada estabelecimento de ensino e respetiva comunidade educativa.
B8: Para que possa ser assumido como um instrumento orientador e integrador da ação do agrupamento, o PAA deverá ser objeto de discussão, aprovação e acompanhamento sistemático pelas diferentes estruturas pedagógicas e educativas.
B9: Enquanto instrumento de operacionalização estratégica, o PAA deve focar-se nos objetivos a atingir e nas ações que melhor sirvam a sua concretização. Assim, deve:
B10: 1. responder aos objetivos e metas do Projeto Educativo do agrupamento/ escola não agrupada;
B11: 2. seguir as linhas de atuação definidas pela RBE no Modelo de avaliação da biblioteca escolar e nos demais documentos orientadores;
B12: 3. ter em conta as prioridades definidas, anualmente, pela RBE.
B13: Para apoiar a operacionalização e monitorização do PAA da(s) biblioteca(s), a RBE propõe a utilização do modelo PAA-RBE, que pode ser alterado e adaptado às necessidades de cada agrupamento/ escola não agrupada.
B14: Guia de apoio
B15: Folha 0 – Informação geral
... B80: . Para criar novas colunas, deve selecionar-se uma coluna igual à que se pretende acrescentar, que esteja em branco, clicar em copiar e depois em "inserir". Sempre que inserir uma coluna nova no PAA terá de a inserir também na página de monotorização.

Sheet 0. Informação geral
B2: INFORMAÇÕES GERAIS
B3: Preencha os dados referentes aos estabelecimentos de ensino e os objetivos / linhas de ação do Projeto Educativo
B5: ESCOLAS DO AGRUPAMENTO
B7: N.º | C7: Nome da escola | D7: Tipo de instalação | E7: Sigla
B8: 1 | E8: 1
B9: 2 | E9: 2
B10: 3 | E10: 3
B11: 4 | E11: 4
B12: 5 | E12: 5
B13: 6 | E13: 6
B14: 7 | E14: 7
B15: 8 | E15: 8
B16: 9 | E16: 9
B17: 10 | E17: 10
B18: 11 | E18: 11
B19: 12 | E19: 12
... B32: 25 | E32: 25
B35: PROJETO EDUCATIVO
B37: N.º | C37: Objetivo / linha de ação
B38: 1
B39: 2
B40: 3
B41: 4
B42: 5
B43: 6
B44: 7
B45: 8
B46: 9
B47: 10
B50: TURMAS DO AGRUPAMENTO | até 150 turmas
B51: Escola-sigla | C51: Nível / ano | D51: Turma | E51: N.º alunos | F51: Identificação completa | G51: ID (fixo) | H51: Observações | I51: Verificação
F52: =IF(OR(B52="",C52="",D52=""),"",B52&" | "&C52&" | "&D52) | G52: T001 | I52: =IF(COUNTA(B52:E52)=0,"",IF(AND(B52<>"",C52<>"",D52<>"",ISNUMBER(E52),E52>0),"OK","Verificar dados"))
F53: =IF(OR(B53="",C53="",D53=""),"",B53&" | "&C53&" | "&D53) | G53: T002 | I53: =IF(COUNTA(B53:E53)=0,"",IF(AND(B53<>"",C53<>"",D53<>"",ISNUMBER(E53),E53>0),"OK","Verificar dados"))
F54: =IF(OR(B54="",C54="",D54=""),"",B54&" | "&C54&" | "&D54) | G54: T003 | I54: =IF(COUNTA(B54:E54)=0,"",IF(AND(B54<>"",C54<>"",D54<>"",ISNUMBER(E54),E54>0),"OK","Verificar dados"))
F55: =IF(OR(B55="",C55="",D55=""),"",B55&" | "&C55&" | "&D55) | G55: T004 | I55: =IF(COUNTA(B55:E55)=0,"",IF(AND(B55<>"",C55<>"",D55<>"",ISNUMBER(E55),E55>0),"OK","Verificar dados"))
F56: =IF(OR(B56="",C56="",D56=""),"",B56&" | "&C56&" | "&D56) | G56: T005 | I56: =IF(COUNTA(B56:E56)=0,"",IF(AND(B56<>"",C56<>"",D56<>"",ISNUMBER(E56),E56>0),"OK","Verificar dados"))
F57: =IF(OR(B57="",C57="",D57=""),"",B57&" | "&C57&" | "&D57) | G57: T006 | I57: =IF(COUNTA(B57:E57)=0,"",IF(AND(B57<>"",C57<>"",D57<>"",ISNUMBER(E57),E57>0),"OK","Verificar dados"))
F58: =IF(OR(B58="",C58="",D58=""),"",B58&" | "&C58&" | "&D58) | G58: T007 | I58: =IF(COUNTA(B58:E58)=0,"",IF(AND(B58<>"",C58<>"",D58<>"",ISNUMBER(E58),E58>0),"OK","Verificar dados"))
F59: =IF(OR(B59="",C59="",D59=""),"",B59&" | "&C59&" | "&D59) | G59: T008 | I59: =IF(COUNTA(B59:E59)=0,"",IF(AND(B59<>"",C59<>"",D59<>"",ISNUMBER(E59),E59>0),"OK","Verificar dados"))
F60: =IF(OR(B60="",C60="",D60=""),"",B60&" | "&C60&" | "&D60) | G60: T009 | I60: =IF(COUNTA(B60:E60)=0,"",IF(AND(B60<>"",C60<>"",D60<>"",ISNUMBER(E60),E60>0),"OK","Verificar dados"))
F61: =IF(OR(B61="",C61="",D61=""),"",B61&" | "&C61&" | "&D61) | G61: T010 | I61: =IF(COUNTA(B61:E61)=0,"",IF(AND(B61<>"",C61<>"",D61<>"",ISNUMBER(E61),E61>0),"OK","Verificar dados"))
F62: =IF(OR(B62="",C62="",D62=""),"",B62&" | "&C62&" | "&D62) | G62: T011 | I62: =IF(COUNTA(B62:E62)=0,"",IF(AND(B62<>"",C62<>"",D62<>"",ISNUMBER(E62),E62>0),"OK","Verificar dados"))
F63: =IF(OR(B63="",C63="",D63=""),"",B63&" | "&C63&" | "&D63) | G63: T012 | I63: =IF(COUNTA(B63:E63)=0,"",IF(AND(B63<>"",C63<>"",D63<>"",ISNUMBER(E63),E63>0),"OK","Verificar dados"))
... F251: =IF(OR(B251="",C251="",D251=""),"",B251&" | "&C251&" | "&D251) | G251: T200 | I251: =IF(COUNTA(B251:E251)=0,"",IF(AND(B251<>"",C251<>"",D251<>"",ISNUMBER(E251),E251>0),"OK","Verificar dados"))

Sheet 1. Plano anual atividades
B2: Biblioteca escolar
B3: Plano anual de atividades
B4: Agrupamento/ Escola não agrupada
B5: Ano letivo
B7: Domínio A - Currículo, literacias e aprendizagens
F8: Responsáveis / Dinamizadores | I8: Projeto Educativo | U8: Escolas | AE8: Escolas | AO8: Escolas
B9: Objetivos | C9: Atividades | D9: PM | E9: AcBE | G9: Público-alvo | H9: Calendarização | I9: 1 | J9: 2 | K9: 3 | L9: 4 | M9: 5 | N9: 6 | O9: 7 | P9: 8 | Q9: 9 | R9: 10 | S9: Recursos | T9: Orçamento | U9: ='0. Informação geral'!E8 -> 1 | V9: ='0. Informação geral'!E9 -> 2 | W9: ='0. Informação geral'!E10 -> 3 | X9: ='0. Informação geral'!$E11 -> 4 | Y9: ='0. Informação geral'!$E12 -> 5 | Z9: ='0. Informação geral'!$E13 -> 6 | AA9: ='0. Informação geral'!$E14 -> 7 | AB9: ='0. Informação geral'!$E15 -> 8 | AC9: ='0. Informação geral'!$E16 -> 9 | AD9: ='0. Informação geral'!$E17 -> 10 | AE9: ='0. Informação geral'!$E18 -> 11 | AF9: ='0. Informação geral'!$E19 -> 12 | AG9: ='0. Informação geral'!$E20 -> 13 | AH9: ='0. Informação geral'!$E21 -> 14 | AI9: ='0. Informação geral'!$E22 -> 15 | AJ9: ='0. Informação geral'!$E23 -> 16 | AK9: ='0. Informação geral'!$E24 -> 17 | AL9: ='0. Informação geral'!$E25 -> 18 | AM9: ='0. Informação geral'!$E26 -> 19 | AN9: ='0. Informação geral'!$E27 -> 20 | AO9: ='0. Informação geral'!$E28 -> 21 | AP9: ='0. Informação geral'!$E29 -> 22 | AQ9: ='0. Informação geral'!$E30 -> 23 | AR9: ='0. Informação geral'!$E31 -> 24 | AS9: ='0. Informação geral'!$E32 -> 25
B41: Nº de atividades planificadas | C41: =COUNTA(C10:C40) -> 0 | T41: Nº de atividades planificadas por escola | U41: =COUNTIF(U10:U40, "■") -> 0 | V41: =COUNTIF(V10:V40, "■") -> 0 | W41: =COUNTIF(W10:W40, "■") -> 0 | X41: =COUNTIF(X10:X40, "■") -> 0 | Y41: =COUNTIF(Y10:Y40, "■") -> 0 | Z41: =COUNTIF(Z10:Z40, "■") -> 0 | AA41: =COUNTIF(AA10:AA40, "■") -> 0 | AB41: =COUNTIF(AB10:AB40, "■") -> 0 | ... AS41: =COUNTIF(AS10:AS40, "■") -> 0
B42: Observações
B44: Domínio B - Leitura e literacia
F45: Responsáveis / Dinamizadores | I45: Projeto Educativo | U45: Escolas | AE45: Escolas | AO45: Escolas
B46: Objetivos | C46: Atividades | D46: PM | E46: AcBE | G46: Público-alvo | H46: Calendarização | I46: 1 | J46: 2 | K46: 3 | L46: 4 | M46: 5 | N46: 6 | O46: 7 | P46: 8 | Q46: 9 | R46: 10 | S46: Recursos | T46: Orçamento | U46: ='0. Informação geral'!E8 -> 1 | V46: ='0. Informação geral'!$E9 -> 2 | W46: ='0. Informação geral'!$E10 -> 3 | X46: ='0. Informação geral'!$E11 -> 4 | Y46: ='0. Informação geral'!$E12 -> 5 | Z46: ='0. Informação geral'!$E13 -> 6 | AA46: ='0. Informação geral'!$E14 -> 7 | AB46: ='0. Informação geral'!$E15 -> 8 | AC46: ='0. Informação geral'!$E16 -> 9 | AD46: ='0. Informação geral'!$E17 -> 10 | AE46: ='0. Informação geral'!$E18 -> 11 | AF46: ='0. Informação geral'!$E19 -> 12 | AG46: ='0. Informação geral'!$E20 -> 13 | AH46: ='0. Informação geral'!$E21 -> 14 | AI46: ='0. Informação geral'!$E22 -> 15 | AJ46: ='0. Informação geral'!$E23 -> 16 | AK46: ='0. Informação geral'!$E24 -> 17 | AL46: ='0. Informação geral'!$E25 -> 18 | AM46: ='0. Informação geral'!$E26 -> 19 | AN46: ='0. Informação geral'!$E27 -> 20 | AO46: ='0. Informação geral'!$E28 -> 21 | AP46: ='0. Informação geral'!$E29 -> 22 | AQ46: ='0. Informação geral'!$E30 -> 23 | AR46: ='0. Informação geral'!$E31 -> 24 | AS46: ='0. Informação geral'!$E32 -> 25
B78: Nº de atividades planificadas | C78: =COUNTA(C47:C77) -> 0 | T78: Nº de atividades planificadas por escola | U78: =COUNTIF(U47:U77, "■") -> 0 | V78: =COUNTIF(V47:V77, "■") -> 0 | W78: =COUNTIF(W47:W77, "■") -> 0 | X78: =COUNTIF(X47:X77, "■") -> 0 | Y78: =COUNTIF(Y47:Y77, "■") -> 0 | Z78: =COUNTIF(Z47:Z77, "■") -> 0 | AA78: =COUNTIF(AA47:AA77, "■") -> 0 | AB78: =COUNTIF(AB47:AB77, "■") -> 0 | ... AS78: =COUNTIF(AS47:AS77, "■") -> 0
B79: Observações
B81: Domínio C - Projetos e parcerias
F82: Responsáveis / Dinamizadores | I82: Projeto Educativo | U82: Escolas | AE82: Escolas | AO82: Escolas
B83: Objetivos | C83: Atividades | D83: PM | E83: AcBE | G83: Público-alvo | H83: Calendarização | I83: 1 | J83: 2 | K83: 3 | L83: 4 | M83: 5 | N83: 6 | O83: 7 | P83: 8 | Q83: 9 | R83: 10 | S83: Recursos | T83: Orçamento | U83: {=TRANSPOSE('0. Informação geral'!E8:E32)} -> 1 | V83: 2 | W83: 3 | X83: 4 | Y83: 5 | Z83: 6 | AA83: 7 | AB83: 8 | AC83: 9 | AD83: 10 | AE83: 11 | AF83: 12 | AG83: 13 | AH83: 14 | AI83: 15 | AJ83: 16 | AK83: 17 | AL83: 18 | AM83: 19 | AN83: 20 | AO83: 21 | AP83: 22 | AQ83: 23 | AR83: 24 | AS83: 25
B115: Nº de atividades planificadas | C115: =COUNTA(C84:C114) -> 0 | T115: Nº de atividades planificadas por escola | U115: =COUNTIF(U84:U114, "■") -> 0 | V115: =COUNTIF(V84:V114, "■") -> 0 | W115: =COUNTIF(W84:W114, "■") -> 0 | X115: =COUNTIF(X84:X114, "■") -> 0 | Y115: =COUNTIF(Y84:Y114, "■") -> 0 | Z115: =COUNTIF(Z84:Z114, "■") -> 0 | AA115: =COUNTIF(AA84:AA114, "■") -> 0 | AB115: =COUNTIF(AB84:AB114, "■") -> 0 | ... AS115: =COUNTIF(AS84:AS114, "■") -> 0
B116: Observações
B118: Domínio D - Gestão da biblioteca escolar
F119: Responsáveis / Dinamizadores | I119: Projeto Educativo | U119: Escolas | AE119: Escolas | AO119: Escolas
B120: Objetivos | C120: Atividades | D120: PM | E120: AcBE | G120: Público-alvo | H120: Calendarização | I120: 1 | J120: 2 | K120: 3 | L120: 4 | M120: 5 | N120: 6 | O120: 7 | P120: 8 | Q120: 9 | R120: 10 | S120: Recursos | T120: Orçamento | U120: {=TRANSPOSE('0. Informação geral'!E8:E32)} -> 1 | V120: 2 | W120: 3 | X120: 4 | Y120: 5 | Z120: 6 | AA120: 7 | AB120: 8 | AC120: 9 | AD120: 10 | AE120: 11 | AF120: 12 | AG120: 13 | AH120: 14 | AI120: 15 | AJ120: 16 | AK120: 17 | AL120: 18 | AM120: 19 | AN120: 20 | AO120: 21 | AP120: 22 | AQ120: 23 | AR120: 24 | AS120: 25
B152: Nº de atividades planificadas | C152: =COUNTA(C121:C151) -> 0 | T152: Nº de atividades planificadas por escola | U152: =COUNTIF(U121:U151, "■") -> 0 | V152: =COUNTIF(V121:V151, "■") -> 0 | W152: =COUNTIF(W121:W151, "■") -> 0 | X152: =COUNTIF(X121:X151, "■") -> 0 | Y152: =COUNTIF(Y121:Y151, "■") -> 0 | Z152: =COUNTIF(Z121:Z151, "■") -> 0 | AA152: =COUNTIF(AA121:AA151, "■") -> 0 | AB152: =COUNTIF(AB121:AB151, "■") -> 0 | ... AS152: =COUNTIF(AS121:AS151, "■") -> 0
B153: Observações
B155: Total de atividades planificadas | C155: =SUM(C41,C78,C115,C152) -> 0 | T155: Nº de atividades planificadas por escola | U155: =SUM(U41,U78,U115,U152) -> 0 | V155: =SUM(V41,V78,V115,V152) -> 0 | W155: =SUM(W41,W78,W115,W152) -> 0 | X155: =SUM(X41,X78,X115,X152) -> 0 | Y155: =SUM(Y41,Y78,Y115,Y152) -> 0 | Z155: =SUM(Z41,Z78,Z115,Z152) -> 0 | AA155: =SUM(AA41,AA78,AA115,AA152) -> 0 | AB155: =SUM(AB41,AB78,AB115,AB152) -> 0 | ... AS155: =SUM(AS41,AS78,AS115,AS152) -> 0
B157: Observações:
B158: PM - Plano de melhoria; AcBE - Referencial Aprender com a biblioteca escolar

Sheet 2. Monitorização
B2: Biblioteca escolar
B3: Recolha de evidências e indicadores de sucesso
B5: Domínio A - Currículo, literacias e aprendizagens
E6: Projeto Educativo | O6: N.º total | Q6: N.º de participações | R6: N.º de alunos envolvidos | T6: N.º participações de alunos | V6: N.º de docentes envolvidos | X6: N.º participações de docentes | AC6: Área de literacia | AF6: Área curricular e extracurricular | AM6: Alunos envolvidos | AR6: Docentes envolvidos | AW6: Nível de impacto | AY6: Projetos | AZ6: Propostas RBE | BA6: Propostas de outras instituições nacionais ou internacionais | BB6: Propostas locais ou regionais
B7: Atividades planificadas | C7: Executada | D7: PM | E7: 1 | F7: 2 | G7: 3 | H7: 4 | I7: 5 | J7: 6 | K7: 7 | L7: 8 | M7: 9 | N7: 10 | O7: Turmas | P7: Aulas/ sessões | Q7: Turmas | R7: Individual | S7: Em turma | T7: Individual | U7: Em turma | V7: Individual | W7: Com turma | X7: Individual | Y7: Com turma | Z7: N.º de Pais e EE envolvidos | AA7: N.º de outros envolvidos | AB7: AcBE | AC7: L | AD7: I | AE7: M | AF7: L | AG7: CSH | AH7: MCE | AI7: ET | AJ7: ACT | AK7: ALF | AL7: Outras | AM7: Pré-Escolar | AN7: 1.º CEB | AO7: 2.º CEB | AP7: 3.º CEB | AQ7: Ensino Secundário | AR7: Pré-Escolar | AS7: 1.º CEB | AT7: 2.º CEB | AU7: 3.º CEB | AV7: Ensino Secundário | AW7: CC | AX7: AV | BC7: 7D | BD7: N.º alunos | BE7: aler+ | BF7: N.º alunos | BG7: ECC | BH7: N.º alunos | BI7: CP | BJ7: N.º alunos | BK7: CR | BL7: N.º alunos | BM7: CC | BN7: N.º alunos | BO7: DIS | BP7: N.º alunos | BQ7: DMLP | BR7: N.º alunos | BS7: ITEC | BT7: N.º alunos | BU7: JR | BV7: N.º alunos | BW7: JC | BX7: N.º alunos | BY7: LECBE | BZ7: N.º alunos | CA7: LFE | CB7: N.º alunos | CC7: L | CD7: N.º alunos | CE7: M | CF7: N.º alunos | CG7: MIBE | CH7: N.º alunos | CI7: MV | CJ7: N.º alunos | CK7: NGL | CL7: N.º alunos | CM7: P | CN7: N.º alunos | CO7: PE | CP7: N.º alunos | CQ7: RO | CR7: N.º alunos | CS7: SL | CT7: N.º alunos | CU7: SAI | CV7: N.º alunos | CW7: TJPL | CX7: N.º alunos | CY7: VL | CZ7: N.º alunos | DA7: O | DB7: N.º alunos | DD7: PNA | DE7: N.º alunos | DF7: PNC | DG7: N.º alunos | DH7: PNFF | DI7: N.º alunos | DJ7: PNL | DK7: N.º alunos | DL7: O | DM7: N.º alunos | DO7: HCBE | DP7: N.º alunos | DQ7: JE | DR7: N.º alunos | DS7: RE | DT7: N.º alunos | DU7: TVE | DV7: N.º alunos | DW7: O | DX7: N.º alunos
B8: ='1. Plano anual atividades'!C10 -> 0 | D8: ='1. Plano anual atividades'!D10 -> 0 | E8: ='1. Plano anual atividades'!I10 -> 0 | F8: ='1. Plano anual atividades'!J10 -> 0 | G8: ='1. Plano anual atividades'!K10 -> 0 | H8: ='1. Plano anual atividades'!L10 -> 0 | I8: ='1. Plano anual atividades'!M10 -> 0 | J8: ='1. Plano anual atividades'!N10 -> 0 | K8: ='1. Plano anual atividades'!O10 -> 0 | L8: ='1. Plano anual atividades'!P10 -> 0 | ... N8: ='1. Plano anual atividades'!R10 -> 0 | Q8: =O8*P8 -> 0 | T8: =P8*R8 -> 0 | U8: =P8*S8 -> 0 | X8: =P8*V8 -> 0 | Y8: =P8*W8 -> 0 | AB8: ='1. Plano anual atividades'!E10 -> 0 | BC8: =IF($AZ8="7 dias com os media", "■",0) -> 0 | BD8: =IF(BC8="■", $R8+$S8) -> FALSE | BE8: =IF($AZ8="aLer mais e melhor", "■",0) -> 0 | BF8: =IF(BE8="■", $R8+$S8) -> FALSE | BG8: =IF($AZ8="Campeonato de Escrita e Ciência Criativa", "■",0) -> 0 | BH8: =IF(BG8="■", $R8+$S8) -> FALSE | BI8: =IF($AZ8="Cientificamente provável", "■",0) -> 0 | BJ8: =IF(BI8="■", $R8+$S8) -> FALSE | BK8: =IF($AZ8="Clássicos em rede", "■",0) -> 0 | BL8: =IF(BK8="■", $R8+$S8) -> FALSE | BM8: =IF($AZ8="Conto Contigo", "■",0) -> 0 | BN8: =IF(BM8="■", $R8+$S8) -> FALSE | BO8: =IF($AZ8="Dia da internet Mais Segura", "■",0) -> 0 | BP8: =IF(BO8="■", $R8+$S8) -> FALSE | BQ8: =IF($AZ8="Dia Mundial da Língua Portuguesa", "■",0) -> 0 | BR8: =IF(BQ8="■", $R8+$S8) -> FALSE | BS8: =IF($AZ8="Isto também é comigo", "■",0) -> 0 | BT8: =IF(BS8="■", $R8+$S8) -> FALSE | BU8: =IF($AZ8="Jornalistas em rede", "■",0) -> 0 | BV8: =IF(BU8="■", $R8+$S8) -> FALSE | BW8: =IF($AZ8="Juntos a criar", "■",0) -> 0 | BX8: =IF(BW8="■", $R8+$S8) -> FALSE | BY8: =IF($AZ8="Ler eescrever mais com a BE", "■",0) -> 0 | BZ8: =IF(BY8="■", $R8+$S8) -> FALSE | CA8: =IF($AZ8="Ler fora da escola", "■",0) -> 0 | CB8: =IF(CA8="■", $R8+$S8) -> FALSE | CC8: =IF($AZ8="Lidera", "■",0) -> 0 | CD8: =IF(CC8="■", $R8+$S8) -> FALSE | CE8: =IF($AZ8="Media@ção", "■",0) -> 0 | CF8: =IF(CE8="■", $R8+$S8) -> FALSE | CG8: =IF($AZ8="Mês Internacional da Biblioteca Escolar", "■",0) -> 0 | CH8: =IF(CG8="■", $R8+$S8) -> FALSE | CI8: =IF($AZ8="Miúdos a votos", "■",0) -> 0 | CJ8: =IF(CI8="■", $R8+$S8) -> FALSE | CK8: =IF($AZ8="Newton gostava de ler", "■",0) -> 0 | CL8: =IF(CK8="■", $R8+$S8) -> FALSE | CM8: =IF($AZ8="Proliteracias", "■",0) -> 0 | CN8: =IF(CM8="■", $R8+$S8) -> FALSE | CO8: =IF($AZ8="PÚBLICO na Escola", "■",0) -> 0 | CP8: =IF(CO8="■", $R8+$S8) -> FALSE | CQ8: =IF($AZ8="READ ON Portugal", "■",0) -> 0 | CR8: =IF(CQ8="■", $R8+$S8) -> FALSE | CS8: =IF($AZ8="Semana da leitura", "■",0) -> 0 | CT8: =IF(CS8="■", $R8+$S8) -> FALSE | CU8: =IF($AZ8="Supercharged by IA", "■",0) -> 0 | CV8: =IF(CU8="■", $R8+$S8) -> FALSE | CW8: =IF($AZ8="Todos Juntos Podemos Ler", "■",0) -> 0 | CX8: =IF(CW8="■", $R8+$S8) -> FALSE | CY8: =IF($AZ8="Voluntários de leitura", "■",0) -> 0 | CZ8: =IF(CY8="■", $R8+$S8) -> FALSE | DA8: =IF($AZ8="Outra(s)", "■",0) -> 0 | DB8: =IF(DA8="■", $R8+$S8) -> FALSE | DD8: =IF($BA8="Plano Nacional das Artes", "■",0) -> 0 | DE8: =IF(DD8="■", $R8+$S8) -> FALSE | DF8: =IF($BA8="Plano Nacional de Cinema", "■",0) -> 0 | DG8: =IF(DF8="■", $R8+$S8) -> FALSE | DH8: =IF($BA8="Plano Nacional de Formação Financeira", "■",0) -> 0 | DI8: =IF(DH8="■", $R8+$S8) -> FALSE | DJ8: =IF($BA8="Plano Nacional de Formação Financeira", "■",0) -> 0 | DK8: =IF(DJ8="■", $R8+$S8) -> FALSE | DL8: =IF($BA8="Outra(s)", "■",0) -> 0 | DM8: =IF(DL8="■", $R8+$S8) -> FALSE | DO8: =IF($BB8="Histórias com Ciência na Biblioteca Escolar", "■",0) -> 0 | DP8: =IF(DO8="■", $R8+$S8) -> FALSE | DQ8: =IF($BB8="Jornal escolar", "■",0) -> 0 | DR8: =IF(DQ8="■", $R8+$S8) -> FALSE | DS8: =IF($BB8="Rádio escolar", "■",0) -> 0 | DT8: =IF(DS8="■", $R8+$S8) -> FALSE | DU8: =IF($BB8="TV escolar", "■",0) -> 0 | DV8: =IF(DU8="■", $R8+$S8) -> FALSE | DW8: =IF($BB8="Outra(s)", "■",0) -> 0 | DX8: =IF(DW8="■", $R8+$S8) -> FALSE
B9: ='1. Plano anual atividades'!C11 -> 0 | D9: ='1. Plano anual atividades'!D11 -> 0 | E9: ='1. Plano anual atividades'!I11 -> 0 | F9: ='1. Plano anual atividades'!J11 -> 0 | G9: ='1. Plano anual atividades'!K11 -> 0 | H9: ='1. Plano anual atividades'!L11 -> 0 | I9: ='1. Plano anual atividades'!M11 -> 0 | J9: ='1. Plano anual atividades'!N11 -> 0 | K9: ='1. Plano anual atividades'!O11 -> 0 | L9: ='1. Plano anual atividades'!P11 -> 0 | ... N9: ='1. Plano anual atividades'!R11 -> 0 | Q9: =O9*P9 -> 0 | T9: =P9*R9 -> 0 | U9: =P9*S9 -> 0 | X9: =P9*V9 -> 0 | Y9: =P9*W9 -> 0 | AB9: ='1. Plano anual atividades'!E11 -> 0 | BC9: =IF($AZ9="7 dias com os media", "■",0) -> 0 | BD9: =IF(BC9="■", $R9+$S9) -> FALSE | BE9: =IF($AZ9="aLer mais e melhor", "■",0) -> 0 | BF9: =IF(BE9="■", $R9+$S9) -> FALSE | BG9: =IF($AZ9="Campeonato de Escrita e Ciência Criativa", "■",0) -> 0 | BH9: =IF(BG9="■", $R9+$S9) -> FALSE | BI9: =IF($AZ9="Cientificamente provável", "■",0) -> 0 | BJ9: =IF(BI9="■", $R9+$S9) -> FALSE | BK9: =IF($AZ9="Clássicos em rede", "■",0) -> 0 | BL9: =IF(BK9="■", $R9+$S9) -> FALSE | BM9: =IF($AZ9="Conto Contigo", "■",0) -> 0 | BN9: =IF(BM9="■", $R9+$S9) -> FALSE | BO9: =IF($AZ9="Dia da internet Mais Segura", "■",0) -> 0 | BP9: =IF(BO9="■", $R9+$S9) -> FALSE | BQ9: =IF($AZ9="Dia Mundial da Língua Portuguesa", "■",0) -> 0 | BR9: =IF(BQ9="■", $R9+$S9) -> FALSE | BS9: =IF($AZ9="Isto também é comigo", "■",0) -> 0 | BT9: =IF(BS9="■", $R9+$S9) -> FALSE | BU9: =IF($AZ9="Jornalistas em rede", "■",0) -> 0 | BV9: =IF(BU9="■", $R9+$S9) -> FALSE | BW9: =IF($AZ9="Juntos a criar", "■",0) -> 0 | BX9: =IF(BW9="■", $R9+$S9) -> FALSE | BY9: =IF($AZ9="Ler eescrever mais com a BE", "■",0) -> 0 | BZ9: =IF(BY9="■", $R9+$S9) -> FALSE | CA9: =IF($AZ9="Ler fora da escola", "■",0) -> 0 | CB9: =IF(CA9="■", $R9+$S9) -> FALSE | CC9: =IF($AZ9="Lidera", "■",0) -> 0 | CD9: =IF(CC9="■", $R9+$S9) -> FALSE | CE9: =IF($AZ9="Media@ção", "■",0) -> 0 | CF9: =IF(CE9="■", $R9+$S9) -> FALSE | CG9: =IF($AZ9="Mês Internacional da Biblioteca Escolar", "■",0) -> 0 | CH9: =IF(CG9="■", $R9+$S9) -> FALSE | CI9: =IF($AZ9="Miúdos a votos", "■",0) -> 0 | CJ9: =IF(CI9="■", $R9+$S9) -> FALSE | CK9: =IF($AZ9="Newton gostava de ler", "■",0) -> 0 | CL9: =IF(CK9="■", $R9+$S9) -> FALSE | CM9: =IF($AZ9="Proliteracias", "■",0) -> 0 | CN9: =IF(CM9="■", $R9+$S9) -> FALSE | CO9: =IF($AZ9="PÚBLICO na Escola", "■",0) -> 0 | CP9: =IF(CO9="■", $R9+$S9) -> FALSE | CQ9: =IF($AZ9="READ ON Portugal", "■",0) -> 0 | CR9: =IF(CQ9="■", $R9+$S9) -> FALSE | CS9: =IF($AZ9="Semana da leitura", "■",0) -> 0 | CT9: =IF(CS9="■", $R9+$S9) -> FALSE | CU9: =IF($AZ9="Supercharged by IA", "■",0) -> 0 | CV9: =IF(CU9="■", $R9+$S9) -> FALSE | CW9: =IF($AZ9="Todos Juntos Podemos Ler", "■",0) -> 0 | CX9: =IF(CW9="■", $R9+$S9) -> FALSE | CY9: =IF($AZ9="Voluntários de leitura", "■",0) -> 0 | CZ9: =IF(CY9="■", $R9+$S9) -> FALSE | DA9: =IF($AZ9="Outra(s)", "■",0) -> 0 | DB9: =IF(DA9="■", $R9+$S9) -> FALSE | DD9: =IF($BA9="Plano Nacional das Artes", "■",0) -> 0 | DE9: =IF(DD9="■", $R9+$S9) -> FALSE | DF9: =IF($BA9="Plano Nacional de Cinema", "■",0) -> 0 | DG9: =IF(DF9="■", $R9+$S9) -> FALSE | DH9: =IF($BA9="Plano Nacional de Formação Financeira", "■",0) -> 0 | DI9: =IF(DH9="■", $R9+$S9) -> FALSE | DJ9: =IF($BA9="Plano Nacional de Formação Financeira", "■",0) -> 0 | DK9: =IF(DJ9="■", $R9+$S9) -> FALSE | DL9: =IF($BA9="Outra(s)", "■",0) -> 0 | DM9: =IF(DL9="■", $R9+$S9) -> FALSE | DO9: =IF($BB9="Histórias com Ciência na Biblioteca Escolar", "■",0) -> 0 | DP9: =IF(DO9="■", $R9+$S9) -> FALSE | DQ9: =IF($BB9="Jornal escolar", "■",0) -> 0 | DR9: =IF(DQ9="■", $R9+$S9) -> FALSE | DS9: =IF($BB9="Rádio escolar", "■",0) -> 0 | DT9: =IF(DS9="■", $R9+$S9) -> FALSE | DU9: =IF($BB9="TV escolar", "■",0) -> 0 | DV9: =IF(DU9="■", $R9+$S9) -> FALSE | DW9: =IF($BB9="Outra(s)", "■",0) -> 0 | DX9: =IF(DW9="■", $R9+$S9) -> FALSE
B10: ='1. Plano anual atividades'!C12 -> 0 | D10: ='1. Plano anual atividades'!D12 -> 0 | E10: ='1. Plano anual atividades'!I12 -> 0 | F10: ='1. Plano anual atividades'!J12 -> 0 | G10: ='1. Plano anual atividades'!K12 -> 0 | H10: ='1. Plano anual atividades'!L12 -> 0 | I10: ='1. Plano anual atividades'!M12 -> 0 | J10: ='1. Plano anual atividades'!N12 -> 0 | K10: ='1. Plano anual atividades'!O12 -> 0 | L10: ='1. Plano anual atividades'!P12 -> 0 | ... N10: ='1. Plano anual atividades'!R12 -> 0 | Q10: =O10*P10 -> 0 | T10: =P10*R10 -> 0 | U10: =P10*S10 -> 0 | X10: =P10*V10 -> 0 | Y10: =P10*W10 -> 0 | AB10: ='1. Plano anual atividades'!E12 -> 0 | BC10: =IF($AZ10="7 dias com os media", "■",0) -> 0 | BD10: =IF(BC10="■", $R10+$S10) -> FALSE | BE10: =IF($AZ10="aLer mais e melhor", "■",0) -> 0 | BF10: =IF(BE10="■", $R10+$S10) -> FALSE | BG10: =IF($AZ10="Campeonato de Escrita e Ciência Criativa", "■",0) -> 0 | BH10: =IF(BG10="■", $R10+$S10) -> FALSE | BI10: =IF($AZ10="Cientificamente provável", "■",0) -> 0 | BJ10: =IF(BI10="■", $R10+$S10) -> FALSE | BK10: =IF($AZ10="Clássicos em rede", "■",0) -> 0 | BL10: =IF(BK10="■", $R10+$S10) -> FALSE | BM10: =IF($AZ10="Conto Contigo", "■",0) -> 0 | BN10: =IF(BM10="■", $R10+$S10) -> FALSE | BO10: =IF($AZ10="Dia da internet Mais Segura", "■",0) -> 0 | BP10: =IF(BO10="■", $R10+$S10) -> FALSE | BQ10: =IF($AZ10="Dia Mundial da Língua Portuguesa", "■",0) -> 0 | BR10: =IF(BQ10="■", $R10+$S10) -> FALSE | BS10: =IF($AZ10="Isto também é comigo", "■",0) -> 0 | BT10: =IF(BS10="■", $R10+$S10) -> FALSE | BU10: =IF($AZ10="Jornalistas em rede", "■",0) -> 0 | BV10: =IF(BU10="■", $R10+$S10) -> FALSE | BW10: =IF($AZ10="Juntos a criar", "■",0) -> 0 | BX10: =IF(BW10="■", $R10+$S10) -> FALSE | BY10: =IF($AZ10="Ler eescrever mais com a BE", "■",0) -> 0 | BZ10: =IF(BY10="■", $R10+$S10) -> FALSE | CA10: =IF($AZ10="Ler fora da escola", "■",0) -> 0 | CB10: =IF(CA10="■", $R10+$S10) -> FALSE | CC10: =IF($AZ10="Lidera", "■",0) -> 0 | CD10: =IF(CC10="■", $R10+$S10) -> FALSE | CE10: =IF($AZ10="Media@ção", "■",0) -> 0 | CF10: =IF(CE10="■", $R10+$S10) -> FALSE | CG10: =IF($AZ10="Mês Internacional da Biblioteca Escolar", "■",0) -> 0 | CH10: =IF(CG10="■", $R10+$S10) -> FALSE | CI10: =IF($AZ10="Miúdos a votos", "■",0) -> 0 | CJ10: =IF(CI10="■", $R10+$S10) -> FALSE | CK10: =IF($AZ10="Newton gostava de ler", "■",0) -> 0 | CL10: =IF(CK10="■", $R10+$S10) -> FALSE | CM10: =IF($AZ10="Proliteracias", "■",0) -> 0 | CN10: =IF(CM10="■", $R10+$S10) -> FALSE | CO10: =IF($AZ10="PÚBLICO na Escola", "■",0) -> 0 | CP10: =IF(CO10="■", $R10+$S10) -> FALSE | CQ10: =IF($AZ10="READ ON Portugal", "■",0) -> 0 | CR10: =IF(CQ10="■", $R10+$S10) -> FALSE | CS10: =IF($AZ10="Semana da leitura", "■",0) -> 0 | CT10: =IF(CS10="■", $R10+$S10) -> FALSE | CU10: =IF($AZ10="Supercharged by IA", "■",0) -> 0 | CV10: =IF(CU10="■", $R10+$S10) -> FALSE | CW10: =IF($AZ10="Todos Juntos Podemos Ler", "■",0) -> 0 | CX10: =IF(CW10="■", $R10+$S10) -> FALSE | CY10: =IF($AZ10="Voluntários de leitura", "■",0) -> 0 | CZ10: =IF(CY10="■", $R10+$S10) -> FALSE | DA10: =IF($AZ10="Outra(s)", "■",0) -> 0 | DB10: =IF(DA10="■", $R10+$S10) -> FALSE | DD10: =IF($BA10="Plano Nacional das Artes", "■",0) -> 0 | DE10: =IF(DD10="■", $R10+$S10) -> FALSE | DF10: =IF($BA10="Plano Nacional de Cinema", "■",0) -> 0 | DG10: =IF(DF10="■", $R10+$S10) -> FALSE | DH10: =IF($BA10="Plano Nacional de Formação Financeira", "■",0) -> 0 | DI10: =IF(DH10="■", $R10+$S10) -> FALSE | DJ10: =IF($BA10="Plano Nacional de Formação Financeira", "■",0) -> 0 | DK10: =IF(DJ10="■", $R10+$S10) -> FALSE | DL10: =IF($BA10="Outra(s)", "■",0) -> 0 | DM10: =IF(DL10="■", $R10+$S10) -> FALSE | DO10: =IF($BB10="Histórias com Ciência na Biblioteca Escolar", "■",0) -> 0 | DP10: =IF(DO10="■", $R10+$S10) -> FALSE | DQ10: =IF($BB10="Jornal escolar", "■",0) -> 0 | DR10: =IF(DQ10="■", $R10+$S10) -> FALSE | DS10: =IF($BB10="Rádio escolar", "■",0) -> 0 | DT10: =IF(DS10="■", $R10+$S10) -> FALSE | DU10: =IF($BB10="TV escolar", "■",0) -> 0 | DV10: =IF(DU10="■", $R10+$S10) -> FALSE | DW10: =IF($BB10="Outra(s)", "■",0) -> 0 | DX10: =IF(DW10="■", $R10+$S10) -> FALSE
B11: ='1. Plano anual atividades'!C13 -> 0 | D11: ='1. Plano anual atividades'!D13 -> 0 | E11: ='1. Plano anual atividades'!I13 -> 0 | F11: ='1. Plano anual atividades'!J13 -> 0 | G11: ='1. Plano anual atividades'!K13 -> 0 | H11: ='1. Plano anual atividades'!L13 -> 0 | I11: ='1. Plano anual atividades'!M13 -> 0 | J11: ='1. Plano anual atividades'!N13 -> 0 | K11: ='1. Plano anual atividades'!O13 -> 0 | L11: ='1. Plano anual atividades'!P13 -> 0 | ... N11: ='1. Plano anual atividades'!R13 -> 0 | Q11: =O11*P11 -> 0 | T11: =P11*R11 -> 0 | U11: =P11*S11 -> 0 | X11: =P11*V11 -> 0 | Y11: =P11*W11 -> 0 | AB11: ='1. Plano anual atividades'!E13 -> 0 | BC11: =IF($AZ11="7 dias com os media", "■",0) -> 0 | BD11: =IF(BC11="■", $R11+$S11) -> FALSE | BE11: =IF($AZ11="aLer mais e melhor", "■",0) -> 0 | BF11: =IF(BE11="■", $R11+$S11) -> FALSE | BG11: =IF($AZ11="Campeonato de Escrita e Ciência Criativa", "■",0) -> 0 | BH11: =IF(BG11="■", $R11+$S11) -> FALSE | BI11: =IF($AZ11="Cientificamente provável", "■",0) -> 0 | BJ11: =IF(BI11="■", $R11+$S11) -> FALSE | BK11: =IF($AZ11="Clássicos em rede", "■",0) -> 0 | BL11: =IF(BK11="■", $R11+$S11) -> FALSE | BM11: =IF($AZ11="Conto Contigo", "■",0) -> 0 | BN11: =IF(BM11="■", $R11+$S11) -> FALSE | BO11: =IF($AZ11="Dia da internet Mais Segura", "■",0) -> 0 | BP11: =IF(BO11="■", $R11+$S11) -> FALSE | BQ11: =IF($AZ11="Dia Mundial da Língua Portuguesa", "■",0) -> 0 | BR11: =IF(BQ11="■", $R11+$S11) -> FALSE | BS11: =IF($AZ11="Isto também é comigo", "■",0) -> 0 | BT11: =IF(BS11="■", $R11+$S11) -> FALSE | BU11: =IF($AZ11="Jornalistas em rede", "■",0) -> 0 | BV11: =IF(BU11="■", $R11+$S11) -> FALSE | BW11: =IF($AZ11="Juntos a criar", "■",0) -> 0 | BX11: =IF(BW11="■", $R11+$S11) -> FALSE | BY11: =IF($AZ11="Ler eescrever mais com a BE", "■",0) -> 0 | BZ11: =IF(BY11="■", $R11+$S11) -> FALSE | CA11: =IF($AZ11="Ler fora da escola", "■",0) -> 0 | CB11: =IF(CA11="■", $R11+$S11) -> FALSE | CC11: =IF($AZ11="Lidera", "■",0) -> 0 | CD11: =IF(CC11="■", $R11+$S11) -> FALSE | CE11: =IF($AZ11="Media@ção", "■",0) -> 0 | CF11: =IF(CE11="■", $R11+$S11) -> FALSE | CG11: =IF($AZ11="Mês Internacional da Biblioteca Escolar", "■",0) -> 0 | CH11: =IF(CG11="■", $R11+$S11) -> FALSE | CI11: =IF($AZ11="Miúdos a votos", "■",0) -> 0 | CJ11: =IF(CI11="■", $R11+$S11) -> FALSE | CK11: =IF($AZ11="Newton gostava de ler", "■",0) -> 0 | CL11: =IF(CK11="■", $R11+$S11) -> FALSE | CM11: =IF($AZ11="Proliteracias", "■",0) -> 0 | CN11: =IF(CM11="■", $R11+$S11) -> FALSE | CO11: =IF($AZ11="PÚBLICO na Escola", "■",0) -> 0 | CP11: =IF(CO11="■", $R11+$S11) -> FALSE | CQ11: =IF($AZ11="READ ON Portugal", "■",0) -> 0 | CR11: =IF(CQ11="■", $R11+$S11) -> FALSE | CS11: =IF($AZ11="Semana da leitura", "■",0) -> 0 | CT11: =IF(CS11="■", $R11+$S11) -> FALSE | CU11: =IF($AZ11="Supercharged by IA", "■",0) -> 0 | CV11: =IF(CU11="■", $R11+$S11) -> FALSE | CW11: =IF($AZ11="Todos Juntos Podemos Ler", "■",0) -> 0 | CX11: =IF(CW11="■", $R11+$S11) -> FALSE | CY11: =IF($AZ11="Voluntários de leitura", "■",0) -> 0 | CZ11: =IF(CY11="■", $R11+$S11) -> FALSE | DA11: =IF($AZ11="Outra(s)", "■",0) -> 0 | DB11: =IF(DA11="■", $R11+$S11) -> FALSE | DD11: =IF($BA11="Plano Nacional das Artes", "■",0) -> 0 | DE11: =IF(DD11="■", $R11+$S11) -> FALSE | DF11: =IF($BA11="Plano Nacional de Cinema", "■",0) -> 0 | DG11: =IF(DF11="■", $R11+$S11) -> FALSE | DH11: =IF($BA11="Plano Nacional de Formação Financeira", "■",0) -> 0 | DI11: =IF(DH11="■", $R11+$S11) -> FALSE | DJ11: =IF($BA11="Plano Nacional de Formação Financeira", "■",0) -> 0 | DK11: =IF(DJ11="■", $R11+$S11) -> FALSE | DL11: =IF($BA11="Outra(s)", "■",0) -> 0 | DM11: =IF(DL11="■", $R11+$S11) -> FALSE | DO11: =IF($BB11="Histórias com Ciência na Biblioteca Escolar", "■",0) -> 0 | DP11: =IF(DO11="■", $R11+$S11) -> FALSE | DQ11: =IF($BB11="Jornal escolar", "■",0) -> 0 | DR11: =IF(DQ11="■", $R11+$S11) -> FALSE | DS11: =IF($BB11="Rádio escolar", "■",0) -> 0 | DT11: =IF(DS11="■", $R11+$S11) -> FALSE | DU11: =IF($BB11="TV escolar", "■",0) -> 0 | DV11: =IF(DU11="■", $R11+$S11) -> FALSE | DW11: =IF($BB11="Outra(s)", "■",0) -> 0 | DX11: =IF(DW11="■", $R11+$S11) -> FALSE
B12: ='1. Plano anual atividades'!C14 -> 0 | D12: ='1. Plano anual atividades'!D14 -> 0 | E12: ='1. Plano anual atividades'!I14 -> 0 | F12: ='1. Plano anual atividades'!J14 -> 0 | G12: ='1. Plano anual atividades'!K14 -> 0 | H12: ='1. Plano anual atividades'!L14 -> 0 | I12: ='1. Plano anual atividades'!M14 -> 0 | J12: ='1. Plano anual atividades'!N14 -> 0 | K12: ='1. Plano anual atividades'!O14 -> 0 | L12: ='1. Plano anual atividades'!P14 -> 0 | ... N12: ='1. Plano anual atividades'!R14 -> 0 | Q12: =O12*P12 -> 0 | T12: =P12*R12 -> 0 | U12: =P12*S12 -> 0 | X12: =P12*V12 -> 0 | Y12: =P12*W12 -> 0 | AB12: ='1. Plano anual atividades'!E14 -> 0 | BC12: =IF($AZ12="7 dias com os media", "■",0) -> 0 | BD12: =IF(BC12="■", $R12+$S12) -> FALSE | BE12: =IF($AZ12="aLer mais e melhor", "■",0) -> 0 | BF12: =IF(BE12="■", $R12+$S12) -> FALSE | BG12: =IF($AZ12="Campeonato de Escrita e Ciência Criativa", "■",0) -> 0 | BH12: =IF(BG12="■", $R12+$S12) -> FALSE | BI12: =IF($AZ12="Cientificamente provável", "■",0) -> 0 | BJ12: =IF(BI12="■", $R12+$S12) -> FALSE | BK12: =IF($AZ12="Clássicos em rede", "■",0) -> 0 | BL12: =IF(BK12="■", $R12+$S12) -> FALSE | BM12: =IF($AZ12="Conto Contigo", "■",0) -> 0 | BN12: =IF(BM12="■", $R12+$S12) -> FALSE | BO12: =IF($AZ12="Dia da internet Mais Segura", "■",0) -> 0 | BP12: =IF(BO12="■", $R12+$S12) -> FALSE | BQ12: =IF($AZ12="Dia Mundial da Língua Portuguesa", "■",0) -> 0 | BR12: =IF(BQ12="■", $R12+$S12) -> FALSE | BS12: =IF($AZ12="Isto também é comigo", "■",0) -> 0 | BT12: =IF(BS12="■", $R12+$S12) -> FALSE | BU12: =IF($AZ12="Jornalistas em rede", "■",0) -> 0 | BV12: =IF(BU12="■", $R12+$S12) -> FALSE | BW12: =IF($AZ12="Juntos a criar", "■",0) -> 0 | BX12: =IF(BW12="■", $R12+$S12) -> FALSE | BY12: =IF($AZ12="Ler eescrever mais com a BE", "■",0) -> 0 | BZ12: =IF(BY12="■", $R12+$S12) -> FALSE | CA12: =IF($AZ12="Ler fora da escola", "■",0) -> 0 | CB12: =IF(CA12="■", $R12+$S12) -> FALSE | CC12: =IF($AZ12="Lidera", "■",0) -> 0 | CD12: =IF(CC12="■", $R12+$S12) -> FALSE | CE12: =IF($AZ12="Media@ção", "■",0) -> 0 | CF12: =IF(CE12="■", $R12+$S12) -> FALSE | CG12: =IF($AZ12="Mês Internacional da Biblioteca Escolar", "■",0) -> 0 | CH12: =IF(CG12="■", $R12+$S12) -> FALSE | CI12: =IF($AZ12="Miúdos a votos", "■",0) -> 0 | CJ12: =IF(CI12="■", $R12+$S12) -> FALSE | CK12: =IF($AZ12="Newton gostava de ler", "■",0) -> 0 | CL12: =IF(CK12="■", $R12+$S12) -> FALSE | CM12: =IF($AZ12="Proliteracias", "■",0) -> 0 | CN12: =IF(CM12="■", $R12+$S12) -> FALSE | CO12: =IF($AZ12="PÚBLICO na Escola", "■",0) -> 0 | CP12: =IF(CO12="■", $R12+$S12) -> FALSE | CQ12: =IF($AZ12="READ ON Portugal", "■",0) -> 0 | CR12: =IF(CQ12="■", $R12+$S12) -> FALSE | CS12: =IF($AZ12="Semana da leitura", "■",0) -> 0 | CT12: =IF(CS12="■", $R12+$S12) -> FALSE | CU12: =IF($AZ12="Supercharged by IA", "■",0) -> 0 | CV12: =IF(CU12="■", $R12+$S12) -> FALSE | CW12: =IF($AZ12="Todos Juntos Podemos Ler", "■",0) -> 0 | CX12: =IF(CW12="■", $R12+$S12) -> FALSE | CY12: =IF($AZ12="Voluntários de leitura", "■",0) -> 0 | CZ12: =IF(CY12="■", $R12+$S12) -> FALSE | DA12: =IF($AZ12="Outra(s)", "■",0) -> 0 | DB12: =IF(DA12="■", $R12+$S12) -> FALSE | DD12: =IF($BA12="Plano Nacional das Artes", "■",0) -> 0 | DE12: =IF(DD12="■", $R12+$S12) -> FALSE | DF12: =IF($BA12="Plano Nacional de Cinema", "■",0) -> 0 | DG12: =IF(DF12="■", $R12+$S12) -> FALSE | DH12: =IF($BA12="Plano Nacional de Formação Financeira", "■",0) -> 0 | DI12: =IF(DH12="■", $R12+$S12) -> FALSE | DJ12: =IF($BA12="Plano Nacional de Formação Financeira", "■",0) -> 0 | DK12: =IF(DJ12="■", $R12+$S12) -> FALSE | DL12: =IF($BA12="Outra(s)", "■",0) -> 0 | DM12: =IF(DL12="■", $R12+$S12) -> FALSE | DO12: =IF($BB12="Histórias com Ciência na Biblioteca Escolar", "■",0) -> 0 | DP12: =IF(DO12="■", $R12+$S12) -> FALSE | DQ12: =IF($BB12="Jornal escolar", "■",0) -> 0 | DR12: =IF(DQ12="■", $R12+$S12) -> FALSE | DS12: =IF($BB12="Rádio escolar", "■",0) -> 0 | DT12: =IF(DS12="■", $R12+$S12) -> FALSE | DU12: =IF($BB12="TV escolar", "■",0) -> 0 | DV12: =IF(DU12="■", $R12+$S12) -> FALSE | DW12: =IF($BB12="Outra(s)", "■",0) -> 0 | DX12: =IF(DW12="■", $R12+$S12) -> FALSE
B13: ='1. Plano anual atividades'!C15 -> 0 | D13: ='1. Plano anual atividades'!D15 -> 0 | E13: ='1. Plano anual atividades'!I15 -> 0 | F13: ='1. Plano anual atividades'!J15 -> 0 | G13: ='1. Plano anual atividades'!K15 -> 0 | H13: ='1. Plano anual atividades'!L15 -> 0 | I13: ='1. Plano anual atividades'!M15 -> 0 | J13: ='1. Plano anual atividades'!N15 -> 0 | K13: ='1. Plano anual atividades'!O15 -> 0 | L13: ='1. Plano anual atividades'!P15 -> 0 | ... N13: ='1. Plano anual atividades'!R15 -> 0 | Q13: =O13*P13 -> 0 | T13: =P13*R13 -> 0 | U13: =P13*S13 -> 0 | X13: =P13*V13 -> 0 | Y13: =P13*W13 -> 0 | AB13: ='1. Plano anual atividades'!E15 -> 0 | BC13: =IF($AZ13="7 dias com os media", "■",0) -> 0 | BD13: =IF(BC13="■", $R13+$S13) -> FALSE | BE13: =IF($AZ13="aLer mais e melhor", "■",0) -> 0 | BF13: =IF(BE13="■", $R13+$S13) -> FALSE | BG13: =IF($AZ13="Campeonato de Escrita e Ciência Criativa", "■",0) -> 0 | BH13: =IF(BG13="■", $R13+$S13) -> FALSE | BI13: =IF($AZ13="Cientificamente provável", "■",0) -> 0 | BJ13: =IF(BI13="■", $R13+$S13) -> FALSE | BK13: =IF($AZ13="Clássicos em rede", "■",0) -> 0 | BL13: =IF(BK13="■", $R13+$S13) -> FALSE | BM13: =IF($AZ13="Conto Contigo", "■",0) -> 0 | BN13: =IF(BM13="■", $R13+$S13) -> FALSE | BO13: =IF($AZ13="Dia da internet Mais Segura", "■",0) -> 0 | BP13: =IF(BO13="■", $R13+$S13) -> FALSE | BQ13: =IF($AZ13="Dia Mundial da Língua Portuguesa", "■",0) -> 0 | BR13: =IF(BQ13="■", $R13+$S13) -> FALSE | BS13: =IF($AZ13="Isto também é comigo", "■",0) -> 0 | BT13: =IF(BS13="■", $R13+$S13) -> FALSE | BU13: =IF($AZ13="Jornalistas em rede", "■",0) -> 0 | BV13: =IF(BU13="■", $R13+$S13) -> FALSE | BW13: =IF($AZ13="Juntos a criar", "■",0) -> 0 | BX13: =IF(BW13="■", $R13+$S13) -> FALSE | BY13: =IF($AZ13="Ler eescrever mais com a BE", "■",0) -> 0 | BZ13: =IF(BY13="■", $R13+$S13) -> FALSE | CA13: =IF($AZ13="Ler fora da escola", "■",0) -> 0 | CB13: =IF(CA13="■", $R13+$S13) -> FALSE | CC13: =IF($AZ13="Lidera", "■",0) -> 0 | CD13: =IF(CC13="■", $R13+$S13) -> FALSE | CE13: =IF($AZ13="Media@ção", "■",0) -> 0 | CF13: =IF(CE13="■", $R13+$S13) -> FALSE | CG13: =IF($AZ13="Mês Internacional da Biblioteca Escolar", "■",0) -> 0 | CH13: =IF(CG13="■", $R13+$S13) -> FALSE | CI13: =IF($AZ13="Miúdos a votos", "■",0) -> 0 | CJ13: =IF(CI13="■", $R13+$S13) -> FALSE | CK13: =IF($AZ13="Newton gostava de ler", "■",0) -> 0 | CL13: =IF(CK13="■", $R13+$S13) -> FALSE | CM13: =IF($AZ13="Proliteracias", "■",0) -> 0 | CN13: =IF(CM13="■", $R13+$S13) -> FALSE | CO13: =IF($AZ13="PÚBLICO na Escola", "■",0) -> 0 | CP13: =IF(CO13="■", $R13+$S13) -> FALSE | CQ13: =IF($AZ13="READ ON Portugal", "■",0) -> 0 | CR13: =IF(CQ13="■", $R13+$S13) -> FALSE | CS13: =IF($AZ13="Semana da leitura", "■",0) -> 0 | CT13: =IF(CS13="■", $R13+$S13) -> FALSE | CU13: =IF($AZ13="Supercharged by IA", "■",0) -> 0 | CV13: =IF(CU13="■", $R13+$S13) -> FALSE | CW13: =IF($AZ13="Todos Juntos Podemos Ler", "■",0) -> 0 | CX13: =IF(CW13="■", $R13+$S13) -> FALSE | CY13: =IF($AZ13="Voluntários de leitura", "■",0) -> 0 | CZ13: =IF(CY13="■", $R13+$S13) -> FALSE | DA13: =IF($AZ13="Outra(s)", "■",0) -> 0 | DB13: =IF(DA13="■", $R13+$S13) -> FALSE | DD13: =IF($BA13="Plano Nacional das Artes", "■",0) -> 0 | DE13: =IF(DD13="■", $R13+$S13) -> FALSE | DF13: =IF($BA13="Plano Nacional de Cinema", "■",0) -> 0 | DG13: =IF(DF13="■", $R13+$S13) -> FALSE | DH13: =IF($BA13="Plano Nacional de Formação Financeira", "■",0) -> 0 | DI13: =IF(DH13="■", $R13+$S13) -> FALSE | DJ13: =IF($BA13="Plano Nacional de Formação Financeira", "■",0) -> 0 | DK13: =IF(DJ13="■", $R13+$S13) -> FALSE | DL13: =IF($BA13="Outra(s)", "■",0) -> 0 | DM13: =IF(DL13="■", $R13+$S13) -> FALSE | DO13: =IF($BB13="Histórias com Ciência na Biblioteca Escolar", "■",0) -> 0 | DP13: =IF(DO13="■", $R13+$S13) -> FALSE | DQ13: =IF($BB13="Jornal escolar", "■",0) -> 0 | DR13: =IF(DQ13="■", $R13+$S13) -> FALSE | DS13: =IF($BB13="Rádio escolar", "■",0) -> 0 | DT13: =IF(DS13="■", $R13+$S13) -> FALSE | DU13: =IF($BB13="TV escolar", "■",0) -> 0 | DV13: =IF(DU13="■", $R13+$S13) -> FALSE | DW13: =IF($BB13="Outra(s)", "■",0) -> 0 | DX13: =IF(DW13="■", $R13+$S13) -> FALSE
B14: ='1. Plano anual atividades'!C16 -> 0 | D14: ='1. Plano anual atividades'!D16 -> 0 | E14: ='1. Plano anual atividades'!I16 -> 0 | F14: ='1. Plano anual atividades'!J16 -> 0 | G14: ='1. Plano anual atividades'!K16 -> 0 | H14: ='1. Plano anual atividades'!L16 -> 0 | I14: ='1. Plano anual atividades'!M16 -> 0 | J14: ='1. Plano anual atividades'!N16 -> 0 | K14: ='1. Plano anual atividades'!O16 -> 0 | L14: ='1. Plano anual atividades'!P16 -> 0 | ... N14: ='1. Plano anual atividades'!R16 -> 0 | Q14: =O14*P14 -> 0 | T14: =P14*R14 -> 0 | U14: =P14*S14 -> 0 | X14: =P14*V14 -> 0 | Y14: =P14*W14 -> 0 | AB14: ='1. Plano anual atividades'!E16 -> 0 | BC14: =IF($AZ14="7 dias com os media", "■",0) -> 0 | BD14: =IF(BC14="■", $R14+$S14) -> FALSE | BE14: =IF($AZ14="aLer mais e melhor", "■",0) -> 0 | BF14: =IF(BE14="■", $R14+$S14) -> FALSE | BG14: =IF($AZ14="Campeonato de Escrita e Ciência Criativa", "■",0) -> 0 | BH14: =IF(BG14="■", $R14+$S14) -> FALSE | BI14: =IF($AZ14="Cientificamente provável", "■",0) -> 0 | BJ14: =IF(BI14="■", $R14+$S14) -> FALSE | BK14: =IF($AZ14="Clássicos em rede", "■",0) -> 0 | BL14: =IF(BK14="■", $R14+$S14) -> FALSE | BM14: =IF($AZ14="Conto Contigo", "■",0) -> 0 | BN14: =IF(BM14="■", $R14+$S14) -> FALSE | BO14: =IF($AZ14="Dia da internet Mais Segura", "■",0) -> 0 | BP14: =IF(BO14="■", $R14+$S14) -> FALSE | BQ14: =IF($AZ14="Dia Mundial da Língua Portuguesa", "■",0) -> 0 | BR14: =IF(BQ14="■", $R14+$S14) -> FALSE | BS14: =IF($AZ14="Isto também é comigo", "■",0) -> 0 | BT14: =IF(BS14="■", $R14+$S14) -> FALSE | BU14: =IF($AZ14="Jornalistas em rede", "■",0) -> 0 | BV14: =IF(BU14="■", $R14+$S14) -> FALSE | BW14: =IF($AZ14="Juntos a criar", "■",0) -> 0 | BX14: =IF(BW14="■", $R14+$S14) -> FALSE | BY14: =IF($AZ14="Ler eescrever mais com a BE", "■",0) -> 0 | BZ14: =IF(BY14="■", $R14+$S14) -> FALSE | CA14: =IF($AZ14="Ler fora da escola", "■",0) -> 0 | CB14: =IF(CA14="■", $R14+$S14) -> FALSE | CC14: =IF($AZ14="Lidera", "■",0) -> 0 | CD14: =IF(CC14="■", $R14+$S14) -> FALSE | CE14: =IF($AZ14="Media@ção", "■",0) -> 0 | CF14: =IF(CE14="■", $R14+$S14) -> FALSE | CG14: =IF($AZ14="Mês Internacional da Biblioteca Escolar", "■",0) -> 0 | CH14: =IF(CG14="■", $R14+$S14) -> FALSE | CI14: =IF($AZ14="Miúdos a votos", "■",0) -> 0 | CJ14: =IF(CI14="■", $R14+$S14) -> FALSE | CK14: =IF($AZ14="Newton gostava de ler", "■",0) -> 0 | CL14: =IF(CK14="■", $R14+$S14) -> FALSE | CM14: =IF($AZ14="Proliteracias", "■",0) -> 0 | CN14: =IF(CM14="■", $R14+$S14) -> FALSE | CO14: =IF($AZ14="PÚBLICO na Escola", "■",0) -> 0 | CP14: =IF(CO14="■", $R14+$S14) -> FALSE | CQ14: =IF($AZ14="READ ON Portugal", "■",0) -> 0 | CR14: =IF(CQ14="■", $R14+$S14) -> FALSE | CS14: =IF($AZ14="Semana da leitura", "■",0) -> 0 | CT14: =IF(CS14="■", $R14+$S14) -> FALSE | CU14: =IF($AZ14="Supercharged by IA", "■",0) -> 0 | CV14: =IF(CU14="■", $R14+$S14) -> FALSE | CW14: =IF($AZ14="Todos Juntos Podemos Ler", "■",0) -> 0 | CX14: =IF(CW14="■", $R14+$S14) -> FALSE | CY14: =IF($AZ14="Voluntários de leitura", "■",0) -> 0 | CZ14: =IF(CY14="■", $R14+$S14) -> FALSE | DA14: =IF($AZ14="Outra(s)", "■",0) -> 0 | DB14: =IF(DA14="■", $R14+$S14) -> FALSE | DD14: =IF($BA14="Plano Nacional das Artes", "■",0) -> 0 | DE14: =IF(DD14="■", $R14+$S14) -> FALSE | DF14: =IF($BA14="Plano Nacional de Cinema", "■",0) -> 0 | DG14: =IF(DF14="■", $R14+$S14) -> FALSE | DH14: =IF($BA14="Plano Nacional de Formação Financeira", "■",0) -> 0 | DI14: =IF(DH14="■", $R14+$S14) -> FALSE | DJ14: =IF($BA14="Plano Nacional de Formação Financeira", "■",0) -> 0 | DK14: =IF(DJ14="■", $R14+$S14) -> FALSE | DL14: =IF($BA14="Outra(s)", "■",0) -> 0 | DM14: =IF(DL14="■", $R14+$S14) -> FALSE | DO14: =IF($BB14="Histórias com Ciência na Biblioteca Escolar", "■",0) -> 0 | DP14: =IF(DO14="■", $R14+$S14) -> FALSE | DQ14: =IF($BB14="Jornal escolar", "■",0) -> 0 | DR14: =IF(DQ14="■", $R14+$S14) -> FALSE | DS14: =IF($BB14="Rádio escolar", "■",0) -> 0 | DT14: =IF(DS14="■", $R14+$S14) -> FALSE | DU14: =IF($BB14="TV escolar", "■",0) -> 0 | DV14: =IF(DU14="■", $R14+$S14) -> FALSE | DW14: =IF($BB14="Outra(s)", "■",0) -> 0 | DX14: =IF(DW14="■", $R14+$S14) -> FALSE
B15: ='1. Plano anual atividades'!C17 -> 0 | D15: ='1. Plano anual atividades'!D17 -> 0 | E15: ='1. Plano anual atividades'!I17 -> 0 | F15: ='1. Plano anual atividades'!J17 -> 0 | G15: ='1. Plano anual atividades'!K17 -> 0 | H15: ='1. Plano anual atividades'!L17 -> 0 | I15: ='1. Plano anual atividades'!M17 -> 0 | J15: ='1. Plano anual atividades'!N17 -> 0 | K15: ='1. Plano anual atividades'!O17 -> 0 | L15: ='1. Plano anual atividades'!P17 -> 0 | ... N15: ='1. Plano anual atividades'!R17 -> 0 | Q15: =O15*P15 -> 0 | T15: =P15*R15 -> 0 | U15: =P15*S15 -> 0 | X15: =P15*V15 -> 0 | Y15: =P15*W15 -> 0 | AB15: ='1. Plano anual atividades'!E17 -> 0 | BC15: =IF($AZ15="7 dias com os media", "■",0) -> 0 | BD15: =IF(BC15="■", $R15+$S15) -> FALSE | BE15: =IF($AZ15="aLer mais e melhor", "■",0) -> 0 | BF15: =IF(BE15="■", $R15+$S15) -> FALSE | BG15: =IF($AZ15="Campeonato de Escrita e Ciência Criativa", "■",0) -> 0 | BH15: =IF(BG15="■", $R15+$S15) -> FALSE | BI15: =IF($AZ15="Cientificamente provável", "■",0) -> 0 | BJ15: =IF(BI15="■", $R15+$S15) -> FALSE | BK15: =IF($AZ15="Clássicos em rede", "■",0) -> 0 | BL15: =IF(BK15="■", $R15+$S15) -> FALSE | BM15: =IF($AZ15="Conto Contigo", "■",0) -> 0 | BN15: =IF(BM15="■", $R15+$S15) -> FALSE | BO15: =IF($AZ15="Dia da internet Mais Segura", "■",0) -> 0 | BP15: =IF(BO15="■", $R15+$S15) -> FALSE | BQ15: =IF($AZ15="Dia Mundial da Língua Portuguesa", "■",0) -> 0 | BR15: =IF(BQ15="■", $R15+$S15) -> FALSE | BS15: =IF($AZ15="Isto também é comigo", "■",0) -> 0 | BT15: =IF(BS15="■", $R15+$S15) -> FALSE | BU15: =IF($AZ15="Jornalistas em rede", "■",0) -> 0 | BV15: =IF(BU15="■", $R15+$S15) -> FALSE | BW15: =IF($AZ15="Juntos a criar", "■",0) -> 0 | BX15: =IF(BW15="■", $R15+$S15) -> FALSE | BY15: =IF($AZ15="Ler eescrever mais com a BE", "■",0) -> 0 | BZ15: =IF(BY15="■", $R15+$S15) -> FALSE | CA15: =IF($AZ15="Ler fora da escola", "■",0) -> 0 | CB15: =IF(CA15="■", $R15+$S15) -> FALSE | CC15: =IF($AZ15="Lidera", "■",0) -> 0 | CD15: =IF(CC15="■", $R15+$S15) -> FALSE | CE15: =IF($AZ15="Media@ção", "■",0) -> 0 | CF15: =IF(CE15="■", $R15+$S15) -> FALSE | CG15: =IF($AZ15="Mês Internacional da Biblioteca Escolar", "■",0) -> 0 | CH15: =IF(CG15="■", $R15+$S15) -> FALSE | CI15: =IF($AZ15="Miúdos a votos", "■",0) -> 0 | CJ15: =IF(CI15="■", $R15+$S15) -> FALSE | CK15: =IF($AZ15="Newton gostava de ler", "■",0) -> 0 | CL15: =IF(CK15="■", $R15+$S15) -> FALSE | CM15: =IF($AZ15="Proliteracias", "■",0) -> 0 | CN15: =IF(CM15="■", $R15+$S15) -> FALSE | CO15: =IF($AZ15="PÚBLICO na Escola", "■",0) -> 0 | CP15: =IF(CO15="■", $R15+$S15) -> FALSE | CQ15: =IF($AZ15="READ ON Portugal", "■",0) -> 0 | CR15: =IF(CQ15="■", $R15+$S15) -> FALSE | CS15: =IF($AZ15="Semana da leitura", "■",0) -> 0 | CT15: =IF(CS15="■", $R15+$S15) -> FALSE | CU15: =IF($AZ15="Supercharged by IA", "■",0) -> 0 | CV15: =IF(CU15="■", $R15+$S15) -> FALSE | CW15: =IF($AZ15="Todos Juntos Podemos Ler", "■",0) -> 0 | CX15: =IF(CW15="■", $R15+$S15) -> FALSE | CY15: =IF($AZ15="Voluntários de leitura", "■",0) -> 0 | CZ15: =IF(CY15="■", $R15+$S15) -> FALSE | DA15: =IF($AZ15="Outra(s)", "■",0) -> 0 | DB15: =IF(DA15="■", $R15+$S15) -> FALSE | DD15: =IF($BA15="Plano Nacional das Artes", "■",0) -> 0 | DE15: =IF(DD15="■", $R15+$S15) -> FALSE | DF15: =IF($BA15="Plano Nacional de Cinema", "■",0) -> 0 | DG15: =IF(DF15="■", $R15+$S15) -> FALSE | DH15: =IF($BA15="Plano Nacional de Formação Financeira", "■",0) -> 0 | DI15: =IF(DH15="■", $R15+$S15) -> FALSE | DJ15: =IF($BA15="Plano Nacional de Formação Financeira", "■",0) -> 0 | DK15: =IF(DJ15="■", $R15+$S15) -> FALSE | DL15: =IF($BA15="Outra(s)", "■",0) -> 0 | DM15: =IF(DL15="■", $R15+$S15) -> FALSE | DO15: =IF($BB15="Histórias com Ciência na Biblioteca Escolar", "■",0) -> 0 | DP15: =IF(DO15="■", $R15+$S15) -> FALSE | DQ15: =IF($BB15="Jornal escolar", "■",0) -> 0 | DR15: =IF(DQ15="■", $R15+$S15) -> FALSE | DS15: =IF($BB15="Rádio escolar", "■",0) -> 0 | DT15: =IF(DS15="■", $R15+$S15) -> FALSE | DU15: =IF($BB15="TV escolar", "■",0) -> 0 | DV15: =IF(DU15="■", $R15+$S15) -> FALSE | DW15: =IF($BB15="Outra(s)", "■",0) -> 0 | DX15: =IF(DW15="■", $R15+$S15) -> FALSE
B16: ='1. Plano anual atividades'!C18 -> 0 | D16: ='1. Plano anual atividades'!D18 -> 0 | E16: ='1. Plano anual atividades'!I18 -> 0 | F16: ='1. Plano anual atividades'!J18 -> 0 | G16: ='1. Plano anual atividades'!K18 -> 0 | H16: ='1. Plano anual atividades'!L18 -> 0 | I16: ='1. Plano anual atividades'!M18 -> 0 | J16: ='1. Plano anual atividades'!N18 -> 0 | K16: ='1. Plano anual atividades'!O18 -> 0 | L16: ='1. Plano anual atividades'!P18 -> 0 | ... N16: ='1. Plano anual atividades'!R18 -> 0 | Q16: =O16*P16 -> 0 | T16: =P16*R16 -> 0 | U16: =P16*S16 -> 0 | X16: =P16*V16 -> 0 | Y16: =P16*W16 -> 0 | AB16: ='1. Plano anual atividades'!E18 -> 0 | BC16: =IF($AZ16="7 dias com os media", "■",0) -> 0 | BD16: =IF(BC16="■", $R16+$S16) -> FALSE | BE16: =IF($AZ16="aLer mais e melhor", "■",0) -> 0 | BF16: =IF(BE16="■", $R16+$S16) -> FALSE | BG16: =IF($AZ16="Campeonato de Escrita e Ciência Criativa", "■",0) -> 0 | BH16: =IF(BG16="■", $R16+$S16) -> FALSE | BI16: =IF($AZ16="Cientificamente provável", "■",0) -> 0 | BJ16: =IF(BI16="■", $R16+$S16) -> FALSE | BK16: =IF($AZ16="Clássicos em rede", "■",0) -> 0 | BL16: =IF(BK16="■", $R16+$S16) -> FALSE | BM16: =IF($AZ16="Conto Contigo", "■",0) -> 0 | BN16: =IF(BM16="■", $R16+$S16) -> FALSE | BO16: =IF($AZ16="Dia da internet Mais Segura", "■",0) -> 0 | BP16: =IF(BO16="■", $R16+$S16) -> FALSE | BQ16: =IF($AZ16="Dia Mundial da Língua Portuguesa", "■",0) -> 0 | BR16: =IF(BQ16="■", $R16+$S16) -> FALSE | BS16: =IF($AZ16="Isto também é comigo", "■",0) -> 0 | BT16: =IF(BS16="■", $R16+$S16) -> FALSE | BU16: =IF($AZ16="Jornalistas em rede", "■",0) -> 0 | BV16: =IF(BU16="■", $R16+$S16) -> FALSE | BW16: =IF($AZ16="Juntos a criar", "■",0) -> 0 | BX16: =IF(BW16="■", $R16+$S16) -> FALSE | BY16: =IF($AZ16="Ler eescrever mais com a BE", "■",0) -> 0 | BZ16: =IF(BY16="■", $R16+$S16) -> FALSE | CA16: =IF($AZ16="Ler fora da escola", "■",0) -> 0 | CB16: =IF(CA16="■", $R16+$S16) -> FALSE | CC16: =IF($AZ16="Lidera", "■",0) -> 0 | CD16: =IF(CC16="■", $R16+$S16) -> FALSE | CE16: =IF($AZ16="Media@ção", "■",0) -> 0 | CF16: =IF(CE16="■", $R16+$S16) -> FALSE | CG16: =IF($AZ16="Mês Internacional da Biblioteca Escolar", "■",0) -> 0 | CH16: =IF(CG16="■", $R16+$S16) -> FALSE | CI16: =IF($AZ16="Miúdos a votos", "■",0) -> 0 | CJ16: =IF(CI16="■", $R16+$S16) -> FALSE | CK16: =IF($AZ16="Newton gostava de ler", "■",0) -> 0 | CL16: =IF(CK16="■", $R16+$S16) -> FALSE | CM16: =IF($AZ16="Proliteracias", "■",0) -> 0 | CN16: =IF(CM16="■", $R16+$S16) -> FALSE | CO16: =IF($AZ16="PÚBLICO na Escola", "■",0) -> 0 | CP16: =IF(CO16="■", $R16+$S16) -> FALSE | CQ16: =IF($AZ16="READ ON Portugal", "■",0) -> 0 | CR16: =IF(CQ16="■", $R16+$S16) -> FALSE | CS16: =IF($AZ16="Semana da leitura", "■",0) -> 0 | CT16: =IF(CS16="■", $R16+$S16) -> FALSE | CU16: =IF($AZ16="Supercharged by IA", "■",0) -> 0 | CV16: =IF(CU16="■", $R16+$S16) -> FALSE | CW16: =IF($AZ16="Todos Juntos Podemos Ler", "■",0) -> 0 | CX16: =IF(CW16="■", $R16+$S16) -> FALSE | CY16: =IF($AZ16="Voluntários de leitura", "■",0) -> 0 | CZ16: =IF(CY16="■", $R16+$S16) -> FALSE | DA16: =IF($AZ16="Outra(s)", "■",0) -> 0 | DB16: =IF(DA16="■", $R16+$S16) -> FALSE | DD16: =IF($BA16="Plano Nacional das Artes", "■",0) -> 0 | DE16: =IF(DD16="■", $R16+$S16) -> FALSE | DF16: =IF($BA16="Plano Nacional de Cinema", "■",0) -> 0 | DG16: =IF(DF16="■", $R16+$S16) -> FALSE | DH16: =IF($BA16="Plano Nacional de Formação Financeira", "■",0) -> 0 | DI16: =IF(DH16="■", $R16+$S16) -> FALSE | DJ16: =IF($BA16="Plano Nacional de Formação Financeira", "■",0) -> 0 | DK16: =IF(DJ16="■", $R16+$S16) -> FALSE | DL16: =IF($BA16="Outra(s)", "■",0) -> 0 | DM16: =IF(DL16="■", $R16+$S16) -> FALSE | DO16: =IF($BB16="Histórias com Ciência na Biblioteca Escolar", "■",0) -> 0 | DP16: =IF(DO16="■", $R16+$S16) -> FALSE | DQ16: =IF($BB16="Jornal escolar", "■",0) -> 0 | DR16: =IF(DQ16="■", $R16+$S16) -> FALSE | DS16: =IF($BB16="Rádio escolar", "■",0) -> 0 | DT16: =IF(DS16="■", $R16+$S16) -> FALSE | DU16: =IF($BB16="TV escolar", "■",0) -> 0 | DV16: =IF(DU16="■", $R16+$S16) -> FALSE | DW16: =IF($BB16="Outra(s)", "■",0) -> 0 | DX16: =IF(DW16="■", $R16+$S16) -> FALSE
B17: ='1. Plano anual atividades'!C19 -> 0 | D17: ='1. Plano anual atividades'!D19 -> 0 | E17: ='1. Plano anual atividades'!I19 -> 0 | F17: ='1. Plano anual atividades'!J19 -> 0 | G17: ='1. Plano anual atividades'!K19 -> 0 | H17: ='1. Plano anual atividades'!L19 -> 0 | I17: ='1. Plano anual atividades'!M19 -> 0 | J17: ='1. Plano anual atividades'!N19 -> 0 | K17: ='1. Plano anual atividades'!O19 -> 0 | L17: ='1. Plano anual atividades'!P19 -> 0 | ... N17: ='1. Plano anual atividades'!R19 -> 0 | Q17: =O17*P17 -> 0 | T17: =P17*R17 -> 0 | U17: =P17*S17 -> 0 | X17: =P17*V17 -> 0 | Y17: =P17*W17 -> 0 | AB17: ='1. Plano anual atividades'!E19 -> 0 | BC17: =IF($AZ17="7 dias com os media", "■",0) -> 0 | BD17: =IF(BC17="■", $R17+$S17) -> FALSE | BE17: =IF($AZ17="aLer mais e melhor", "■",0) -> 0 | BF17: =IF(BE17="■", $R17+$S17) -> FALSE | BG17: =IF($AZ17="Campeonato de Escrita e Ciência Criativa", "■",0) -> 0 | BH17: =IF(BG17="■", $R17+$S17) -> FALSE | BI17: =IF($AZ17="Cientificamente provável", "■",0) -> 0 | BJ17: =IF(BI17="■", $R17+$S17) -> FALSE | BK17: =IF($AZ17="Clássicos em rede", "■",0) -> 0 | BL17: =IF(BK17="■", $R17+$S17) -> FALSE | BM17: =IF($AZ17="Conto Contigo", "■",0) -> 0 | BN17: =IF(BM17="■", $R17+$S17) -> FALSE | BO17: =IF($AZ17="Dia da internet Mais Segura", "■",0) -> 0 | BP17: =IF(BO17="■", $R17+$S17) -> FALSE | BQ17: =IF($AZ17="Dia Mundial da Língua Portuguesa", "■",0) -> 0 | BR17: =IF(BQ17="■", $R17+$S17) -> FALSE | BS17: =IF($AZ17="Isto também é comigo", "■",0) -> 0 | BT17: =IF(BS17="■", $R17+$S17) -> FALSE | BU17: =IF($AZ17="Jornalistas em rede", "■",0) -> 0 | BV17: =IF(BU17="■", $R17+$S17) -> FALSE | BW17: =IF($AZ17="Juntos a criar", "■",0) -> 0 | BX17: =IF(BW17="■", $R17+$S17) -> FALSE | BY17: =IF($AZ17="Ler eescrever mais com a BE", "■",0) -> 0 | BZ17: =IF(BY17="■", $R17+$S17) -> FALSE | CA17: =IF($AZ17="Ler fora da escola", "■",0) -> 0 | CB17: =IF(CA17="■", $R17+$S17) -> FALSE | CC17: =IF($AZ17="Lidera", "■",0) -> 0 | CD17: =IF(CC17="■", $R17+$S17) -> FALSE | CE17: =IF($AZ17="Media@ção", "■",0) -> 0 | CF17: =IF(CE17="■", $R17+$S17) -> FALSE | CG17: =IF($AZ17="Mês Internacional da Biblioteca Escolar", "■",0) -> 0 | CH17: =IF(CG17="■", $R17+$S17) -> FALSE | CI17: =IF($AZ17="Miúdos a votos", "■",0) -> 0 | CJ17: =IF(CI17="■", $R17+$S17) -> FALSE | CK17: =IF($AZ17="Newton gostava de ler", "■",0) -> 0 | CL17: =IF(CK17="■", $R17+$S17) -> FALSE | CM17: =IF($AZ17="Proliteracias", "■",0) -> 0 | CN17: =IF(CM17="■", $R17+$S17) -> FALSE | CO17: =IF($AZ17="PÚBLICO na Escola", "■",0) -> 0 | CP17: =IF(CO17="■", $R17+$S17) -> FALSE | CQ17: =IF($AZ17="READ ON Portugal", "■",0) -> 0 | CR17: =IF(CQ17="■", $R17+$S17) -> FALSE | CS17: =IF($AZ17="Semana da leitura", "■",0) -> 0 | CT17: =IF(CS17="■", $R17+$S17) -> FALSE | CU17: =IF($AZ17="Supercharged by IA", "■",0) -> 0 | CV17: =IF(CU17="■", $R17+$S17) -> FALSE | CW17: =IF($AZ17="Todos Juntos Podemos Ler", "■",0) -> 0 | CX17: =IF(CW17="■", $R17+$S17) -> FALSE | CY17: =IF($AZ17="Voluntários de leitura", "■",0) -> 0 | CZ17: =IF(CY17="■", $R17+$S17) -> FALSE | DA17: =IF($AZ17="Outra(s)", "■",0) -> 0 | DB17: =IF(DA17="■", $R17+$S17) -> FALSE | DD17: =IF($BA17="Plano Nacional das Artes", "■",0) -> 0 | DE17: =IF(DD17="■", $R17+$S17) -> FALSE | DF17: =IF($BA17="Plano Nacional de Cinema", "■",0) -> 0 | DG17: =IF(DF17="■", $R17+$S17) -> FALSE | DH17: =IF($BA17="Plano Nacional de Formação Financeira", "■",0) -> 0 | DI17: =IF(DH17="■", $R17+$S17) -> FALSE | DJ17: =IF($BA17="Plano Nacional de Formação Financeira", "■",0) -> 0 | DK17: =IF(DJ17="■", $R17+$S17) -> FALSE | DL17: =IF($BA17="Outra(s)", "■",0) -> 0 | DM17: =IF(DL17="■", $R17+$S17) -> FALSE | DO17: =IF($BB17="Histórias com Ciência na Biblioteca Escolar", "■",0) -> 0 | DP17: =IF(DO17="■", $R17+$S17) -> FALSE | DQ17: =IF($BB17="Jornal escolar", "■",0) -> 0 | DR17: =IF(DQ17="■", $R17+$S17) -> FALSE | DS17: =IF($BB17="Rádio escolar", "■",0) -> 0 | DT17: =IF(DS17="■", $R17+$S17) -> FALSE | DU17: =IF($BB17="TV escolar", "■",0) -> 0 | DV17: =IF(DU17="■", $R17+$S17) -> FALSE | DW17: =IF($BB17="Outra(s)", "■",0) -> 0 | DX17: =IF(DW17="■", $R17+$S17) -> FALSE
B18: ='1. Plano anual atividades'!C20 -> 0 | D18: ='1. Plano anual atividades'!D30 -> 0 | E18: ='1. Plano anual atividades'!I30 -> 0 | F18: ='1. Plano anual atividades'!J30 -> 0 | G18: ='1. Plano anual atividades'!K30 -> 0 | H18: ='1. Plano anual atividades'!L30 -> 0 | I18: ='1. Plano anual atividades'!M30 -> 0 | J18: ='1. Plano anual atividades'!N30 -> 0 | K18: ='1. Plano anual atividades'!O30 -> 0 | L18: ='1. Plano anual atividades'!P30 -> 0 | ... N18: ='1. Plano anual atividades'!R30 -> 0 | Q18: =O18*P18 -> 0 | T18: =P18*R18 -> 0 | U18: =P18*S18 -> 0 | X18: =P18*V18 -> 0 | Y18: =P18*W18 -> 0 | AB18: ='1. Plano anual atividades'!E30 -> 0 | BC18: =IF($AZ18="7 dias com os media", "■",0) -> 0 | BD18: =IF(BC18="■", $R18+$S18) -> FALSE | BE18: =IF($AZ18="aLer mais e melhor", "■",0) -> 0 | BF18: =IF(BE18="■", $R18+$S18) -> FALSE | BG18: =IF($AZ18="Campeonato de Escrita e Ciência Criativa", "■",0) -> 0 | BH18: =IF(BG18="■", $R18+$S18) -> FALSE | BI18: =IF($AZ18="Cientificamente provável", "■",0) -> 0 | BJ18: =IF(BI18="■", $R18+$S18) -> FALSE | BK18: =IF($AZ18="Clássicos em rede", "■",0) -> 0 | BL18: =IF(BK18="■", $R18+$S18) -> FALSE | BM18: =IF($AZ18="Conto Contigo", "■",0) -> 0 | BN18: =IF(BM18="■", $R18+$S18) -> FALSE | BO18: =IF($AZ18="Dia da internet Mais Segura", "■",0) -> 0 | BP18: =IF(BO18="■", $R18+$S18) -> FALSE | BQ18: =IF($AZ18="Dia Mundial da Língua Portuguesa", "■",0) -> 0 | BR18: =IF(BQ18="■", $R18+$S18) -> FALSE | BS18: =IF($AZ18="Isto também é comigo", "■",0) -> 0 | BT18: =IF(BS18="■", $R18+$S18) -> FALSE | BU18: =IF($AZ18="Jornalistas em rede", "■",0) -> 0 | BV18: =IF(BU18="■", $R18+$S18) -> FALSE | BW18: =IF($AZ18="Juntos a criar", "■",0) -> 0 | BX18: =IF(BW18="■", $R18+$S18) -> FALSE | BY18: =IF($AZ18="Ler eescrever mais com a BE", "■",0) -> 0 | BZ18: =IF(BY18="■", $R18+$S18) -> FALSE | CA18: =IF($AZ18="Ler fora da escola", "■",0) -> 0 | CB18: =IF(CA18="■", $R18+$S18) -> FALSE | CC18: =IF($AZ18="Lidera", "■",0) -> 0 | CD18: =IF(CC18="■", $R18+$S18) -> FALSE | CE18: =IF($AZ18="Media@ção", "■",0) -> 0 | CF18: =IF(CE18="■", $R18+$S18) -> FALSE | CG18: =IF($AZ18="Mês Internacional da Biblioteca Escolar", "■",0) -> 0 | CH18: =IF(CG18="■", $R18+$S18) -> FALSE | CI18: =IF($AZ18="Miúdos a votos", "■",0) -> 0 | CJ18: =IF(CI18="■", $R18+$S18) -> FALSE | CK18: =IF($AZ18="Newton gostava de ler", "■",0) -> 0 | CL18: =IF(CK18="■", $R18+$S18) -> FALSE | CM18: =IF($AZ18="Proliteracias", "■",0) -> 0 | CN18: =IF(CM18="■", $R18+$S18) -> FALSE | CO18: =IF($AZ18="PÚBLICO na Escola", "■",0) -> 0 | CP18: =IF(CO18="■", $R18+$S18) -> FALSE | CQ18: =IF($AZ18="READ ON Portugal", "■",0) -> 0 | CR18: =IF(CQ18="■", $R18+$S18) -> FALSE | CS18: =IF($AZ18="Semana da leitura", "■",0) -> 0 | CT18: =IF(CS18="■", $R18+$S18) -> FALSE | CU18: =IF($AZ18="Supercharged by IA", "■",0) -> 0 | CV18: =IF(CU18="■", $R18+$S18) -> FALSE | CW18: =IF($AZ18="Todos Juntos Podemos Ler", "■",0) -> 0 | CX18: =IF(CW18="■", $R18+$S18) -> FALSE | CY18: =IF($AZ18="Voluntários de leitura", "■",0) -> 0 | CZ18: =IF(CY18="■", $R18+$S18) -> FALSE | DA18: =IF($AZ18="Outra(s)", "■",0) -> 0 | DB18: =IF(DA18="■", $R18+$S18) -> FALSE | DD18: =IF($BA18="Plano Nacional das Artes", "■",0) -> 0 | DE18: =IF(DD18="■", $R18+$S18) -> FALSE | DF18: =IF($BA18="Plano Nacional de Cinema", "■",0) -> 0 | DG18: =IF(DF18="■", $R18+$S18) -> FALSE | DH18: =IF($BA18="Plano Nacional de Formação Financeira", "■",0) -> 0 | DI18: =IF(DH18="■", $R18+$S18) -> FALSE | DJ18: =IF($BA18="Plano Nacional de Formação Financeira", "■",0) -> 0 | DK18: =IF(DJ18="■", $R18+$S18) -> FALSE | DL18: =IF($BA18="Outra(s)", "■",0) -> 0 | DM18: =IF(DL18="■", $R18+$S18) -> FALSE | DO18: =IF($BB18="Histórias com Ciência na Biblioteca Escolar", "■",0) -> 0 | DP18: =IF(DO18="■", $R18+$S18) -> FALSE | DQ18: =IF($BB18="Jornal escolar", "■",0) -> 0 | DR18: =IF(DQ18="■", $R18+$S18) -> FALSE | DS18: =IF($BB18="Rádio escolar", "■",0) -> 0 | DT18: =IF(DS18="■", $R18+$S18) -> FALSE | DU18: =IF($BB18="TV escolar", "■",0) -> 0 | DV18: =IF(DU18="■", $R18+$S18) -> FALSE | DW18: =IF($BB18="Outra(s)", "■",0) -> 0 | DX18: =IF(DW18="■", $R18+$S18) -> FALSE
B19: ='1. Plano anual atividades'!C21 -> 0 | D19: ='1. Plano anual atividades'!D21 -> 0 | E19: ='1. Plano anual atividades'!I21 -> 0 | F19: ='1. Plano anual atividades'!J21 -> 0 | G19: ='1. Plano anual atividades'!K21 -> 0 | H19: ='1. Plano anual atividades'!L21 -> 0 | I19: ='1. Plano anual atividades'!M21 -> 0 | J19: ='1. Plano anual atividades'!N21 -> 0 | K19: ='1. Plano anual atividades'!O21 -> 0 | L19: ='1. Plano anual atividades'!P21 -> 0 | ... N19: ='1. Plano anual atividades'!R21 -> 0 | Q19: =O19*P19 -> 0 | T19: =P19*R19 -> 0 | U19: =P19*S19 -> 0 | X19: =P19*V19 -> 0 | Y19: =P19*W19 -> 0 | AB19: ='1. Plano anual atividades'!E21 -> 0 | BC19: =IF($AZ19="7 dias com os media", "■",0) -> 0 | BD19: =IF(BC19="■", $R19+$S19) -> FALSE | BE19: =IF($AZ19="aLer mais e melhor", "■",0) -> 0 | BF19: =IF(BE19="■", $R19+$S19) -> FALSE | BG19: =IF($AZ19="Campeonato de Escrita e Ciência Criativa", "■",0) -> 0 | BH19: =IF(BG19="■", $R19+$S19) -> FALSE | BI19: =IF($AZ19="Cientificamente provável", "■",0) -> 0 | BJ19: =IF(BI19="■", $R19+$S19) -> FALSE | BK19: =IF($AZ19="Clássicos em rede", "■",0) -> 0 | BL19: =IF(BK19="■", $R19+$S19) -> FALSE | BM19: =IF($AZ19="Conto Contigo", "■",0) -> 0 | BN19: =IF(BM19="■", $R19+$S19) -> FALSE | BO19: =IF($AZ19="Dia da internet Mais Segura", "■",0) -> 0 | BP19: =IF(BO19="■", $R19+$S19) -> FALSE | BQ19: =IF($AZ19="Dia Mundial da Língua Portuguesa", "■",0) -> 0 | BR19: =IF(BQ19="■", $R19+$S19) -> FALSE | BS19: =IF($AZ19="Isto também é comigo", "■",0) -> 0 | BT19: =IF(BS19="■", $R19+$S19) -> FALSE | BU19: =IF($AZ19="Jornalistas em rede", "■",0) -> 0 | BV19: =IF(BU19="■", $R19+$S19) -> FALSE | BW19: =IF($AZ19="Juntos a criar", "■",0) -> 0 | BX19: =IF(BW19="■", $R19+$S19) -> FALSE | BY19: =IF($AZ19="Ler eescrever mais com a BE", "■",0) -> 0 | BZ19: =IF(BY19="■", $R19+$S19) -> FALSE | CA19: =IF($AZ19="Ler fora da escola", "■",0) -> 0 | CB19: =IF(CA19="■", $R19+$S19) -> FALSE | CC19: =IF($AZ19="Lidera", "■",0) -> 0 | CD19: =IF(CC19="■", $R19+$S19) -> FALSE | CE19: =IF($AZ19="Media@ção", "■",0) -> 0 | CF19: =IF(CE19="■", $R19+$S19) -> FALSE | CG19: =IF($AZ19="Mês Internacional da Biblioteca Escolar", "■",0) -> 0 | CH19: =IF(CG19="■", $R19+$S19) -> FALSE | CI19: =IF($AZ19="Miúdos a votos", "■",0) -> 0 | CJ19: =IF(CI19="■", $R19+$S19) -> FALSE | CK19: =IF($AZ19="Newton gostava de ler", "■",0) -> 0 | CL19: =IF(CK19="■", $R19+$S19) -> FALSE | CM19: =IF($AZ19="Proliteracias", "■",0) -> 0 | CN19: =IF(CM19="■", $R19+$S19) -> FALSE | CO19: =IF($AZ19="PÚBLICO na Escola", "■",0) -> 0 | CP19: =IF(CO19="■", $R19+$S19) -> FALSE | CQ19: =IF($AZ19="READ ON Portugal", "■",0) -> 0 | CR19: =IF(CQ19="■", $R19+$S19) -> FALSE | CS19: =IF($AZ19="Semana da leitura", "■",0) -> 0 | CT19: =IF(CS19="■", $R19+$S19) -> FALSE | CU19: =IF($AZ19="Supercharged by IA", "■",0) -> 0 | CV19: =IF(CU19="■", $R19+$S19) -> FALSE | CW19: =IF($AZ19="Todos Juntos Podemos Ler", "■",0) -> 0 | CX19: =IF(CW19="■", $R19+$S19) -> FALSE | CY19: =IF($AZ19="Voluntários de leitura", "■",0) -> 0 | CZ19: =IF(CY19="■", $R19+$S19) -> FALSE | DA19: =IF($AZ19="Outra(s)", "■",0) -> 0 | DB19: =IF(DA19="■", $R19+$S19) -> FALSE | DD19: =IF($BA19="Plano Nacional das Artes", "■",0) -> 0 | DE19: =IF(DD19="■", $R19+$S19) -> FALSE | DF19: =IF($BA19="Plano Nacional de Cinema", "■",0) -> 0 | DG19: =IF(DF19="■", $R19+$S19) -> FALSE | DH19: =IF($BA19="Plano Nacional de Formação Financeira", "■",0) -> 0 | DI19: =IF(DH19="■", $R19+$S19) -> FALSE | DJ19: =IF($BA19="Plano Nacional de Formação Financeira", "■",0) -> 0 | DK19: =IF(DJ19="■", $R19+$S19) -> FALSE | DL19: =IF($BA19="Outra(s)", "■",0) -> 0 | DM19: =IF(DL19="■", $R19+$S19) -> FALSE | DO19: =IF($BB19="Histórias com Ciência na Biblioteca Escolar", "■",0) -> 0 | DP19: =IF(DO19="■", $R19+$S19) -> FALSE | DQ19: =IF($BB19="Jornal escolar", "■",0) -> 0 | DR19: =IF(DQ19="■", $R19+$S19) -> FALSE | DS19: =IF($BB19="Rádio escolar", "■",0) -> 0 | DT19: =IF(DS19="■", $R19+$S19) -> FALSE | DU19: =IF($BB19="TV escolar", "■",0) -> 0 | DV19: =IF(DU19="■", $R19+$S19) -> FALSE | DW19: =IF($BB19="Outra(s)", "■",0) -> 0 | DX19: =IF(DW19="■", $R19+$S19) -> FALSE
B20: ='1. Plano anual atividades'!C22 -> 0 | D20: ='1. Plano anual atividades'!D22 -> 0 | E20: ='1. Plano anual atividades'!I22 -> 0 | F20: ='1. Plano anual atividades'!J22 -> 0 | G20: ='1. Plano anual atividades'!K22 -> 0 | H20: ='1. Plano anual atividades'!L22 -> 0 | I20: ='1. Plano anual atividades'!M22 -> 0 | J20: ='1. Plano anual atividades'!N22 -> 0 | K20: ='1. Plano anual atividades'!O22 -> 0 | L20: ='1. Plano anual atividades'!P22 -> 0 | ... N20: ='1. Plano anual atividades'!R22 -> 0 | Q20: =O20*P20 -> 0 | T20: =P20*R20 -> 0 | U20: =P20*S20 -> 0 | X20: =P20*V20 -> 0 | Y20: =P20*W20 -> 0 | AB20: ='1. Plano anual atividades'!E22 -> 0 | BC20: =IF($AZ20="7 dias com os media", "■",0) -> 0 | BD20: =IF(BC20="■", $R20+$S20) -> FALSE | BE20: =IF($AZ20="aLer mais e melhor", "■",0) -> 0 | BF20: =IF(BE20="■", $R20+$S20) -> FALSE | BG20: =IF($AZ20="Campeonato de Escrita e Ciência Criativa", "■",0) -> 0 | BH20: =IF(BG20="■", $R20+$S20) -> FALSE | BI20: =IF($AZ20="Cientificamente provável", "■",0) -> 0 | BJ20: =IF(BI20="■", $R20+$S20) -> FALSE | BK20: =IF($AZ20="Clássicos em rede", "■",0) -> 0 | BL20: =IF(BK20="■", $R20+$S20) -> FALSE | BM20: =IF($AZ20="Conto Contigo", "■",0) -> 0 | BN20: =IF(BM20="■", $R20+$S20) -> FALSE | BO20: =IF($AZ20="Dia da internet Mais Segura", "■",0) -> 0 | BP20: =IF(BO20="■", $R20+$S20) -> FALSE | BQ20: =IF($AZ20="Dia Mundial da Língua Portuguesa", "■",0) -> 0 | BR20: =IF(BQ20="■", $R20+$S20) -> FALSE | BS20: =IF($AZ20="Isto também é comigo", "■",0) -> 0 | BT20: =IF(BS20="■", $R20+$S20) -> FALSE | BU20: =IF($AZ20="Jornalistas em rede", "■",0) -> 0 | BV20: =IF(BU20="■", $R20+$S20) -> FALSE | BW20: =IF($AZ20="Juntos a criar", "■",0) -> 0 | BX20: =IF(BW20="■", $R20+$S20) -> FALSE | BY20: =IF($AZ20="Ler eescrever mais com a BE", "■",0) -> 0 | BZ20: =IF(BY20="■", $R20+$S20) -> FALSE | CA20: =IF($AZ20="Ler fora da escola", "■",0) -> 0 | CB20: =IF(CA20="■", $R20+$S20) -> FALSE | CC20: =IF($AZ20="Lidera", "■",0) -> 0 | CD20: =IF(CC20="■", $R20+$S20) -> FALSE | CE20: =IF($AZ20="Media@ção", "■",0) -> 0 | CF20: =IF(CE20="■", $R20+$S20) -> FALSE | CG20: =IF($AZ20="Mês Internacional da Biblioteca Escolar", "■",0) -> 0 | CH20: =IF(CG20="■", $R20+$S20) -> FALSE | CI20: =IF($AZ20="Miúdos a votos", "■",0) -> 0 | CJ20: =IF(CI20="■", $R20+$S20) -> FALSE | CK20: =IF($AZ20="Newton gostava de ler", "■",0) -> 0 | CL20: =IF(CK20="■", $R20+$S20) -> FALSE | CM20: =IF($AZ20="Proliteracias", "■",0) -> 0 | CN20: =IF(CM20="■", $R20+$S20) -> FALSE | CO20: =IF($AZ20="PÚBLICO na Escola", "■",0) -> 0 | CP20: =IF(CO20="■", $R20+$S20) -> FALSE | CQ20: =IF($AZ20="READ ON Portugal", "■",0) -> 0 | CR20: =IF(CQ20="■", $R20+$S20) -> FALSE | CS20: =IF($AZ20="Semana da leitura", "■",0) -> 0 | CT20: =IF(CS20="■", $R20+$S20) -> FALSE | CU20: =IF($AZ20="Supercharged by IA", "■",0) -> 0 | CV20: =IF(CU20="■", $R20+$S20) -> FALSE | CW20: =IF($AZ20="Todos Juntos Podemos Ler", "■",0) -> 0 | CX20: =IF(CW20="■", $R20+$S20) -> FALSE | CY20: =IF($AZ20="Voluntários de leitura", "■",0) -> 0 | CZ20: =IF(CY20="■", $R20+$S20) -> FALSE | DA20: =IF($AZ20="Outra(s)", "■",0) -> 0 | DB20: =IF(DA20="■", $R20+$S20) -> FALSE | DD20: =IF($BA20="Plano Nacional das Artes", "■",0) -> 0 | DE20: =IF(DD20="■", $R20+$S20) -> FALSE | DF20: =IF($BA20="Plano Nacional de Cinema", "■",0) -> 0 | DG20: =IF(DF20="■", $R20+$S20) -> FALSE | DH20: =IF($BA20="Plano Nacional de Formação Financeira", "■",0) -> 0 | DI20: =IF(DH20="■", $R20+$S20) -> FALSE | DJ20: =IF($BA20="Plano Nacional de Formação Financeira", "■",0) -> 0 | DK20: =IF(DJ20="■", $R20+$S20) -> FALSE | DL20: =IF($BA20="Outra(s)", "■",0) -> 0 | DM20: =IF(DL20="■", $R20+$S20) -> FALSE | DO20: =IF($BB20="Histórias com Ciência na Biblioteca Escolar", "■",0) -> 0 | DP20: =IF(DO20="■", $R20+$S20) -> FALSE | DQ20: =IF($BB20="Jornal escolar", "■",0) -> 0 | DR20: =IF(DQ20="■", $R20+$S20) -> FALSE | DS20: =IF($BB20="Rádio escolar", "■",0) -> 0 | DT20: =IF(DS20="■", $R20+$S20) -> FALSE | DU20: =IF($BB20="TV escolar", "■",0) -> 0 | DV20: =IF(DU20="■", $R20+$S20) -> FALSE | DW20: =IF($BB20="Outra(s)", "■",0) -> 0 | DX20: =IF(DW20="■", $R20+$S20) -> FALSE
B21: ='1. Plano anual atividades'!C23 -> 0 | D21: ='1. Plano anual atividades'!D23 -> 0 | E21: ='1. Plano anual atividades'!I23 -> 0 | F21: ='1. Plano anual atividades'!J23 -> 0 | G21: ='1. Plano anual atividades'!K23 -> 0 | H21: ='1. Plano anual atividades'!L23 -> 0 | I21: ='1. Plano anual atividades'!M23 -> 0 | J21: ='1. Plano anual atividades'!N23 -> 0 | K21: ='1. Plano anual atividades'!O23 -> 0 | L21: ='1. Plano anual atividades'!P23 -> 0 | ... N21: ='1. Plano anual atividades'!R23 -> 0 | Q21: =O21*P21 -> 0 | T21: =P21*R21 -> 0 | U21: =P21*S21 -> 0 | X21: =P21*V21 -> 0 | Y21: =P21*W21 -> 0 | AB21: ='1. Plano anual atividades'!E23 -> 0 | BC21: =IF($AZ21="7 dias com os media", "■",0) -> 0 | BD21: =IF(BC21="■", $R21+$S21) -> FALSE | BE21: =IF($AZ21="aLer mais e melhor", "■",0) -> 0 | BF21: =IF(BE21="■", $R21+$S21) -> FALSE | BG21: =IF($AZ21="Campeonato de Escrita e Ciência Criativa", "■",0) -> 0 | BH21: =IF(BG21="■", $R21+$S21) -> FALSE | BI21: =IF($AZ21="Cientificamente provável", "■",0) -> 0 | BJ21: =IF(BI21="■", $R21+$S21) -> FALSE | BK21: =IF($AZ21="Clássicos em rede", "■",0) -> 0 | BL21: =IF(BK21="■", $R21+$S21) -> FALSE | BM21: =IF($AZ21="Conto Contigo", "■",0) -> 0 | BN21: =IF(BM21="■", $R21+$S21) -> FALSE | BO21: =IF($AZ21="Dia da internet Mais Segura", "■",0) -> 0 | BP21: =IF(BO21="■", $R21+$S21) -> FALSE | BQ21: =IF($AZ21="Dia Mundial da Língua Portuguesa", "■",0) -> 0 | BR21: =IF(BQ21="■", $R21+$S21) -> FALSE | BS21: =IF($AZ21="Isto também é comigo", "■",0) -> 0 | BT21: =IF(BS21="■", $R21+$S21) -> FALSE | BU21: =IF($AZ21="Jornalistas em rede", "■",0) -> 0 | BV21: =IF(BU21="■", $R21+$S21) -> FALSE | BW21: =IF($AZ21="Juntos a criar", "■",0) -> 0 | BX21: =IF(BW21="■", $R21+$S21) -> FALSE | BY21: =IF($AZ21="Ler eescrever mais com a BE", "■",0) -> 0 | BZ21: =IF(BY21="■", $R21+$S21) -> FALSE | CA21: =IF($AZ21="Ler fora da escola", "■",0) -> 0 | CB21: =IF(CA21="■", $R21+$S21) -> FALSE | CC21: =IF($AZ21="Lidera", "■",0) -> 0 | CD21: =IF(CC21="■", $R21+$S21) -> FALSE | CE21: =IF($AZ21="Media@ção", "■",0) -> 0 | CF21: =IF(CE21="■", $R21+$S21) -> FALSE | CG21: =IF($AZ21="Mês Internacional da Biblioteca Escolar", "■",0) -> 0 | CH21: =IF(CG21="■", $R21+$S21) -> FALSE | CI21: =IF($AZ21="Miúdos a votos", "■",0) -> 0 | CJ21: =IF(CI21="■", $R21+$S21) -> FALSE | CK21: =IF($AZ21="Newton gostava de ler", "■",0) -> 0 | CL21: =IF(CK21="■", $R21+$S21) -> FALSE | CM21: =IF($AZ21="Proliteracias", "■",0) -> 0 | CN21: =IF(CM21="■", $R21+$S21) -> FALSE | CO21: =IF($AZ21="PÚBLICO na Escola", "■",0) -> 0 | CP21: =IF(CO21="■", $R21+$S21) -> FALSE | CQ21: =IF($AZ21="READ ON Portugal", "■",0) -> 0 | CR21: =IF(CQ21="■", $R21+$S21) -> FALSE | CS21: =IF($AZ21="Semana da leitura", "■",0) -> 0 | CT21: =IF(CS21="■", $R21+$S21) -> FALSE | CU21: =IF($AZ21="Supercharged by IA", "■",0) -> 0 | CV21: =IF(CU21="■", $R21+$S21) -> FALSE | CW21: =IF($AZ21="Todos Juntos Podemos Ler", "■",0) -> 0 | CX21: =IF(CW21="■", $R21+$S21) -> FALSE | CY21: =IF($AZ21="Voluntários de leitura", "■",0) -> 0 | CZ21: =IF(CY21="■", $R21+$S21) -> FALSE | DA21: =IF($AZ21="Outra(s)", "■",0) -> 0 | DB21: =IF(DA21="■", $R21+$S21) -> FALSE | DD21: =IF($BA21="Plano Nacional das Artes", "■",0) -> 0 | DE21: =IF(DD21="■", $R21+$S21) -> FALSE | DF21: =IF($BA21="Plano Nacional de Cinema", "■",0) -> 0 | DG21: =IF(DF21="■", $R21+$S21) -> FALSE | DH21: =IF($BA21="Plano Nacional de Formação Financeira", "■",0) -> 0 | DI21: =IF(DH21="■", $R21+$S21) -> FALSE | DJ21: =IF($BA21="Plano Nacional de Formação Financeira", "■",0) -> 0 | DK21: =IF(DJ21="■", $R21+$S21) -> FALSE | DL21: =IF($BA21="Outra(s)", "■",0) -> 0 | DM21: =IF(DL21="■", $R21+$S21) -> FALSE | DO21: =IF($BB21="Histórias com Ciência na Biblioteca Escolar", "■",0) -> 0 | DP21: =IF(DO21="■", $R21+$S21) -> FALSE | DQ21: =IF($BB21="Jornal escolar", "■",0) -> 0 | DR21: =IF(DQ21="■", $R21+$S21) -> FALSE | DS21: =IF($BB21="Rádio escolar", "■",0) -> 0 | DT21: =IF(DS21="■", $R21+$S21) -> FALSE | DU21: =IF($BB21="TV escolar", "■",0) -> 0 | DV21: =IF(DU21="■", $R21+$S21) -> FALSE | DW21: =IF($BB21="Outra(s)", "■",0) -> 0 | DX21: =IF(DW21="■", $R21+$S21) -> FALSE
B22: ='1. Plano anual atividades'!C24 -> 0 | D22: ='1. Plano anual atividades'!D24 -> 0 | E22: ='1. Plano anual atividades'!I24 -> 0 | F22: ='1. Plano anual atividades'!J24 -> 0 | G22: ='1. Plano anual atividades'!K24 -> 0 | H22: ='1. Plano anual atividades'!L24 -> 0 | I22: ='1. Plano anual atividades'!M24 -> 0 | J22: ='1. Plano anual atividades'!N24 -> 0 | K22: ='1. Plano anual atividades'!O24 -> 0 | L22: ='1. Plano anual atividades'!P24 -> 0 | ... N22: ='1. Plano anual atividades'!R24 -> 0 | Q22: =O22*P22 -> 0 | T22: =P22*R22 -> 0 | U22: =P22*S22 -> 0 | X22: =P22*V22 -> 0 | Y22: =P22*W22 -> 0 | AB22: ='1. Plano anual atividades'!E24 -> 0 | BC22: =IF($AZ22="7 dias com os media", "■",0) -> 0 | BD22: =IF(BC22="■", $R22+$S22) -> FALSE | BE22: =IF($AZ22="aLer mais e melhor", "■",0) -> 0 | BF22: =IF(BE22="■", $R22+$S22) -> FALSE | BG22: =IF($AZ22="Campeonato de Escrita e Ciência Criativa", "■",0) -> 0 | BH22: =IF(BG22="■", $R22+$S22) -> FALSE | BI22: =IF($AZ22="Cientificamente provável", "■",0) -> 0 | BJ22: =IF(BI22="■", $R22+$S22) -> FALSE | BK22: =IF($AZ22="Clássicos em rede", "■",0) -> 0 | BL22: =IF(BK22="■", $R22+$S22) -> FALSE | BM22: =IF($AZ22="Conto Contigo", "■",0) -> 0 | BN22: =IF(BM22="■", $R22+$S22) -> FALSE | BO22: =IF($AZ22="Dia da internet Mais Segura", "■",0) -> 0 | BP22: =IF(BO22="■", $R22+$S22) -> FALSE | BQ22: =IF($AZ22="Dia Mundial da Língua Portuguesa", "■",0) -> 0 | BR22: =IF(BQ22="■", $R22+$S22) -> FALSE | BS22: =IF($AZ22="Isto também é comigo", "■",0) -> 0 | BT22: =IF(BS22="■", $R22+$S22) -> FALSE | BU22: =IF($AZ22="Jornalistas em rede", "■",0) -> 0 | BV22: =IF(BU22="■", $R22+$S22) -> FALSE | BW22: =IF($AZ22="Juntos a criar", "■",0) -> 0 | BX22: =IF(BW22="■", $R22+$S22) -> FALSE | BY22: =IF($AZ22="Ler eescrever mais com a BE", "■",0) -> 0 | BZ22: =IF(BY22="■", $R22+$S22) -> FALSE | CA22: =IF($AZ22="Ler fora da escola", "■",0) -> 0 | CB22: =IF(CA22="■", $R22+$S22) -> FALSE | CC22: =IF($AZ22="Lidera", "■",0) -> 0 | CD22: =IF(CC22="■", $R22+$S22) -> FALSE | CE22: =IF($AZ22="Media@ção", "■",0) -> 0 | CF22: =IF(CE22="■", $R22+$S22) -> FALSE | CG22: =IF($AZ22="Mês Internacional da Biblioteca Escolar", "■",0) -> 0 | CH22: =IF(CG22="■", $R22+$S22) -> FALSE | CI22: =IF($AZ22="Miúdos a votos", "■",0) -> 0 | CJ22: =IF(CI22="■", $R22+$S22) -> FALSE | CK22: =IF($AZ22="Newton gostava de ler", "■",0) -> 0 | CL22: =IF(CK22="■", $R22+$S22) -> FALSE | CM22: =IF($AZ22="Proliteracias", "■",0) -> 0 | CN22: =IF(CM22="■", $R22+$S22) -> FALSE | CO22: =IF($AZ22="PÚBLICO na Escola", "■",0) -> 0 | CP22: =IF(CO22="■", $R22+$S22) -> FALSE | CQ22: =IF($AZ22="READ ON Portugal", "■",0) -> 0 | CR22: =IF(CQ22="■", $R22+$S22) -> FALSE | CS22: =IF($AZ22="Semana da leitura", "■",0) -> 0 | CT22: =IF(CS22="■", $R22+$S22) -> FALSE | CU22: =IF($AZ22="Supercharged by IA", "■",0) -> 0 | CV22: =IF(CU22="■", $R22+$S22) -> FALSE | CW22: =IF($AZ22="Todos Juntos Podemos Ler", "■",0) -> 0 | CX22: =IF(CW22="■", $R22+$S22) -> FALSE | CY22: =IF($AZ22="Voluntários de leitura", "■",0) -> 0 | CZ22: =IF(CY22="■", $R22+$S22) -> FALSE | DA22: =IF($AZ22="Outra(s)", "■",0) -> 0 | DB22: =IF(DA22="■", $R22+$S22) -> FALSE | DD22: =IF($BA22="Plano Nacional das Artes", "■",0) -> 0 | DE22: =IF(DD22="■", $R22+$S22) -> FALSE | DF22: =IF($BA22="Plano Nacional de Cinema", "■",0) -> 0 | DG22: =IF(DF22="■", $R22+$S22) -> FALSE | DH22: =IF($BA22="Plano Nacional de Formação Financeira", "■",0) -> 0 | DI22: =IF(DH22="■", $R22+$S22) -> FALSE | DJ22: =IF($BA22="Plano Nacional de Formação Financeira", "■",0) -> 0 | DK22: =IF(DJ22="■", $R22+$S22) -> FALSE | DL22: =IF($BA22="Outra(s)", "■",0) -> 0 | DM22: =IF(DL22="■", $R22+$S22) -> FALSE | DO22: =IF($BB22="Histórias com Ciência na Biblioteca Escolar", "■",0) -> 0 | DP22: =IF(DO22="■", $R22+$S22) -> FALSE | DQ22: =IF($BB22="Jornal escolar", "■",0) -> 0 | DR22: =IF(DQ22="■", $R22+$S22) -> FALSE | DS22: =IF($BB22="Rádio escolar", "■",0) -> 0 | DT22: =IF(DS22="■", $R22+$S22) -> FALSE | DU22: =IF($BB22="TV escolar", "■",0) -> 0 | DV22: =IF(DU22="■", $R22+$S22) -> FALSE | DW22: =IF($BB22="Outra(s)", "■",0) -> 0 | DX22: =IF(DW22="■", $R22+$S22) -> FALSE
B23: ='1. Plano anual atividades'!C25 -> 0 | D23: ='1. Plano anual atividades'!D25 -> 0 | E23: ='1. Plano anual atividades'!I25 -> 0 | F23: ='1. Plano anual atividades'!J25 -> 0 | G23: ='1. Plano anual atividades'!K25 -> 0 | H23: ='1. Plano anual atividades'!L25 -> 0 | I23: ='1. Plano anual atividades'!M25 -> 0 | J23: ='1. Plano anual atividades'!N25 -> 0 | K23: ='1. Plano anual atividades'!O25 -> 0 | L23: ='1. Plano anual atividades'!P25 -> 0 | ... N23: ='1. Plano anual atividades'!R25 -> 0 | Q23: =O23*P23 -> 0 | T23: =P23*R23 -> 0 | U23: =P23*S23 -> 0 | X23: =P23*V23 -> 0 | Y23: =P23*W23 -> 0 | AB23: ='1. Plano anual atividades'!E25 -> 0 | BC23: =IF($AZ23="7 dias com os media", "■",0) -> 0 | BD23: =IF(BC23="■", $R23+$S23) -> FALSE | BE23: =IF($AZ23="aLer mais e melhor", "■",0) -> 0 | BF23: =IF(BE23="■", $R23+$S23) -> FALSE | BG23: =IF($AZ23="Campeonato de Escrita e Ciência Criativa", "■",0) -> 0 | BH23: =IF(BG23="■", $R23+$S23) -> FALSE | BI23: =IF($AZ23="Cientificamente provável", "■",0) -> 0 | BJ23: =IF(BI23="■", $R23+$S23) -> FALSE | BK23: =IF($AZ23="Clássicos em rede", "■",0) -> 0 | BL23: =IF(BK23="■", $R23+$S23) -> FALSE | BM23: =IF($AZ23="Conto Contigo", "■",0) -> 0 | BN23: =IF(BM23="■", $R23+$S23) -> FALSE | BO23: =IF($AZ23="Dia da internet Mais Segura", "■",0) -> 0 | BP23: =IF(BO23="■", $R23+$S23) -> FALSE | BQ23: =IF($AZ23="Dia Mundial da Língua Portuguesa", "■",0) -> 0 | BR23: =IF(BQ23="■", $R23+$S23) -> FALSE | BS23: =IF($AZ23="Isto também é comigo", "■",0) -> 0 | BT23: =IF(BS23="■", $R23+$S23) -> FALSE | BU23: =IF($AZ23="Jornalistas em rede", "■",0) -> 0 | BV23: =IF(BU23="■", $R23+$S23) -> FALSE | BW23: =IF($AZ23="Juntos a criar", "■",0) -> 0 | BX23: =IF(BW23="■", $R23+$S23) -> FALSE | BY23: =IF($AZ23="Ler eescrever mais com a BE", "■",0) -> 0 | BZ23: =IF(BY23="■", $R23+$S23) -> FALSE | CA23: =IF($AZ23="Ler fora da escola", "■",0) -> 0 | CB23: =IF(CA23="■", $R23+$S23) -> FALSE | CC23: =IF($AZ23="Lidera", "■",0) -> 0 | CD23: =IF(CC23="■", $R23+$S23) -> FALSE | CE23: =IF($AZ23="Media@ção", "■",0) -> 0 | CF23: =IF(CE23="■", $R23+$S23) -> FALSE | CG23: =IF($AZ23="Mês Internacional da Biblioteca Escolar", "■",0) -> 0 | CH23: =IF(CG23="■", $R23+$S23) -> FALSE | CI23: =IF($AZ23="Miúdos a votos", "■",0) -> 0 | CJ23: =IF(CI23="■", $R23+$S23) -> FALSE | CK23: =IF($AZ23="Newton gostava de ler", "■",0) -> 0 | CL23: =IF(CK23="■", $R23+$S23) -> FALSE | CM23: =IF($AZ23="Proliteracias", "■",0) -> 0 | CN23: =IF(CM23="■", $R23+$S23) -> FALSE | CO23: =IF($AZ23="PÚBLICO na Escola", "■",0) -> 0 | CP23: =IF(CO23="■", $R23+$S23) -> FALSE | CQ23: =IF($AZ23="READ ON Portugal", "■",0) -> 0 | CR23: =IF(CQ23="■", $R23+$S23) -> FALSE | CS23: =IF($AZ23="Semana da leitura", "■",0) -> 0 | CT23: =IF(CS23="■", $R23+$S23) -> FALSE | CU23: =IF($AZ23="Supercharged by IA", "■",0) -> 0 | CV23: =IF(CU23="■", $R23+$S23) -> FALSE | CW23: =IF($AZ23="Todos Juntos Podemos Ler", "■",0) -> 0 | CX23: =IF(CW23="■", $R23+$S23) -> FALSE | CY23: =IF($AZ23="Voluntários de leitura", "■",0) -> 0 | CZ23: =IF(CY23="■", $R23+$S23) -> FALSE | DA23: =IF($AZ23="Outra(s)", "■",0) -> 0 | DB23: =IF(DA23="■", $R23+$S23) -> FALSE | DD23: =IF($BA23="Plano Nacional das Artes", "■",0) -> 0 | DE23: =IF(DD23="■", $R23+$S23) -> FALSE | DF23: =IF($BA23="Plano Nacional de Cinema", "■",0) -> 0 | DG23: =IF(DF23="■", $R23+$S23) -> FALSE | DH23: =IF($BA23="Plano Nacional de Formação Financeira", "■",0) -> 0 | DI23: =IF(DH23="■", $R23+$S23) -> FALSE | DJ23: =IF($BA23="Plano Nacional de Formação Financeira", "■",0) -> 0 | DK23: =IF(DJ23="■", $R23+$S23) -> FALSE | DL23: =IF($BA23="Outra(s)", "■",0) -> 0 | DM23: =IF(DL23="■", $R23+$S23) -> FALSE | DO23: =IF($BB23="Histórias com Ciência na Biblioteca Escolar", "■",0) -> 0 | DP23: =IF(DO23="■", $R23+$S23) -> FALSE | DQ23: =IF($BB23="Jornal escolar", "■",0) -> 0 | DR23: =IF(DQ23="■", $R23+$S23) -> FALSE | DS23: =IF($BB23="Rádio escolar", "■",0) -> 0 | DT23: =IF(DS23="■", $R23+$S23) -> FALSE | DU23: =IF($BB23="TV escolar", "■",0) -> 0 | DV23: =IF(DU23="■", $R23+$S23) -> FALSE | DW23: =IF($BB23="Outra(s)", "■",0) -> 0 | DX23: =IF(DW23="■", $R23+$S23) -> FALSE
B24: ='1. Plano anual atividades'!C26 -> 0 | D24: ='1. Plano anual atividades'!D26 -> 0 | E24: ='1. Plano anual atividades'!I26 -> 0 | F24: ='1. Plano anual atividades'!J26 -> 0 | G24: ='1. Plano anual atividades'!K26 -> 0 | H24: ='1. Plano anual atividades'!L26 -> 0 | I24: ='1. Plano anual atividades'!M26 -> 0 | J24: ='1. Plano anual atividades'!N26 -> 0 | K24: ='1. Plano anual atividades'!O26 -> 0 | L24: ='1. Plano anual atividades'!P26 -> 0 | ... N24: ='1. Plano anual atividades'!R26 -> 0 | Q24: =O24*P24 -> 0 | T24: =P24*R24 -> 0 | U24: =P24*S24 -> 0 | X24: =P24*V24 -> 0 | Y24: =P24*W24 -> 0 | AB24: ='1. Plano anual atividades'!E26 -> 0 | BC24: =IF($AZ24="7 dias com os media", "■",0) -> 0 | BD24: =IF(BC24="■", $R24+$S24) -> FALSE | BE24: =IF($AZ24="aLer mais e melhor", "■",0) -> 0 | BF24: =IF(BE24="■", $R24+$S24) -> FALSE | BG24: =IF($AZ24="Campeonato de Escrita e Ciência Criativa", "■",0) -> 0 | BH24: =IF(BG24="■", $R24+$S24) -> FALSE | BI24: =IF($AZ24="Cientificamente provável", "■",0) -> 0 | BJ24: =IF(BI24="■", $R24+$S24) -> FALSE | BK24: =IF($AZ24="Clássicos em rede", "■",0) -> 0 | BL24: =IF(BK24="■", $R24+$S24) -> FALSE | BM24: =IF($AZ24="Conto Contigo", "■",0) -> 0 | BN24: =IF(BM24="■", $R24+$S24) -> FALSE | BO24: =IF($AZ24="Dia da internet Mais Segura", "■",0) -> 0 | BP24: =IF(BO24="■", $R24+$S24) -> FALSE | BQ24: =IF($AZ24="Dia Mundial da Língua Portuguesa", "■",0) -> 0 | BR24: =IF(BQ24="■", $R24+$S24) -> FALSE | BS24: =IF($AZ24="Isto também é comigo", "■",0) -> 0 | BT24: =IF(BS24="■", $R24+$S24) -> FALSE | BU24: =IF($AZ24="Jornalistas em rede", "■",0) -> 0 | BV24: =IF(BU24="■", $R24+$S24) -> FALSE | BW24: =IF($AZ24="Juntos a criar", "■",0) -> 0 | BX24: =IF(BW24="■", $R24+$S24) -> FALSE | BY24: =IF($AZ24="Ler eescrever mais com a BE", "■",0) -> 0 | BZ24: =IF(BY24="■", $R24+$S24) -> FALSE | CA24: =IF($AZ24="Ler fora da escola", "■",0) -> 0 | CB24: =IF(CA24="■", $R24+$S24) -> FALSE | CC24: =IF($AZ24="Lidera", "■",0) -> 0 | CD24: =IF(CC24="■", $R24+$S24) -> FALSE | CE24: =IF($AZ24="Media@ção", "■",0) -> 0 | CF24: =IF(CE24="■", $R24+$S24) -> FALSE | CG24: =IF($AZ24="Mês Internacional da Biblioteca Escolar", "■",0) -> 0 | CH24: =IF(CG24="■", $R24+$S24) -> FALSE | CI24: =IF($AZ24="Miúdos a votos", "■",0) -> 0 | CJ24: =IF(CI24="■", $R24+$S24) -> FALSE | CK24: =IF($AZ24="Newton gostava de ler", "■",0) -> 0 | CL24: =IF(CK24="■", $R24+$S24) -> FALSE | CM24: =IF($AZ24="Proliteracias", "■",0) -> 0 | CN24: =IF(CM24="■", $R24+$S24) -> FALSE | CO24: =IF($AZ24="PÚBLICO na Escola", "■",0) -> 0 | CP24: =IF(CO24="■", $R24+$S24) -> FALSE | CQ24: =IF($AZ24="READ ON Portugal", "■",0) -> 0 | CR24: =IF(CQ24="■", $R24+$S24) -> FALSE | CS24: =IF($AZ24="Semana da leitura", "■",0) -> 0 | CT24: =IF(CS24="■", $R24+$S24) -> FALSE | CU24: =IF($AZ24="Supercharged by IA", "■",0) -> 0 | CV24: =IF(CU24="■", $R24+$S24) -> FALSE | CW24: =IF($AZ24="Todos Juntos Podemos Ler", "■",0) -> 0 | CX24: =IF(CW24="■", $R24+$S24) -> FALSE | CY24: =IF($AZ24="Voluntários de leitura", "■",0) -> 0 | CZ24: =IF(CY24="■", $R24+$S24) -> FALSE | DA24: =IF($AZ24="Outra(s)", "■",0) -> 0 | DB24: =IF(DA24="■", $R24+$S24) -> FALSE | DD24: =IF($BA24="Plano Nacional das Artes", "■",0) -> 0 | DE24: =IF(DD24="■", $R24+$S24) -> FALSE | DF24: =IF($BA24="Plano Nacional de Cinema", "■",0) -> 0 | DG24: =IF(DF24="■", $R24+$S24) -> FALSE | DH24: =IF($BA24="Plano Nacional de Formação Financeira", "■",0) -> 0 | DI24: =IF(DH24="■", $R24+$S24) -> FALSE | DJ24: =IF($BA24="Plano Nacional de Formação Financeira", "■",0) -> 0 | DK24: =IF(DJ24="■", $R24+$S24) -> FALSE | DL24: =IF($BA24="Outra(s)", "■",0) -> 0 | DM24: =IF(DL24="■", $R24+$S24) -> FALSE | DO24: =IF($BB24="Histórias com Ciência na Biblioteca Escolar", "■",0) -> 0 | DP24: =IF(DO24="■", $R24+$S24) -> FALSE | DQ24: =IF($BB24="Jornal escolar", "■",0) -> 0 | DR24: =IF(DQ24="■", $R24+$S24) -> FALSE | DS24: =IF($BB24="Rádio escolar", "■",0) -> 0 | DT24: =IF(DS24="■", $R24+$S24) -> FALSE | DU24: =IF($BB24="TV escolar", "■",0) -> 0 | DV24: =IF(DU24="■", $R24+$S24) -> FALSE | DW24: =IF($BB24="Outra(s)", "■",0) -> 0 | DX24: =IF(DW24="■", $R24+$S24) -> FALSE
B25: ='1. Plano anual atividades'!C27 -> 0 | D25: ='1. Plano anual atividades'!D27 -> 0 | E25: ='1. Plano anual atividades'!I27 -> 0 | F25: ='1. Plano anual atividades'!J27 -> 0 | G25: ='1. Plano anual atividades'!K27 -> 0 | H25: ='1. Plano anual atividades'!L27 -> 0 | I25: ='1. Plano anual atividades'!M27 -> 0 | J25: ='1. Plano anual atividades'!N27 -> 0 | K25: ='1. Plano anual atividades'!O27 -> 0 | L25: ='1. Plano anual atividades'!P27 -> 0 | ... N25: ='1. Plano anual atividades'!R27 -> 0 | Q25: =O25*P25 -> 0 | T25: =P25*R25 -> 0 | U25: =P25*S25 -> 0 | X25: =P25*V25 -> 0 | Y25: =P25*W25 -> 0 | AB25: ='1. Plano anual atividades'!E27 -> 0 | BC25: =IF($AZ25="7 dias com os media", "■",0) -> 0 | BD25: =IF(BC25="■", $R25+$S25) -> FALSE | BE25: =IF($AZ25="aLer mais e melhor", "■",0) -> 0 | BF25: =IF(BE25="■", $R25+$S25) -> FALSE | BG25: =IF($AZ25="Campeonato de Escrita e Ciência Criativa", "■",0) -> 0 | BH25: =IF(BG25="■", $R25+$S25) -> FALSE | BI25: =IF($AZ25="Cientificamente provável", "■",0) -> 0 | BJ25: =IF(BI25="■", $R25+$S25) -> FALSE | BK25: =IF($AZ25="Clássicos em rede", "■",0) -> 0 | BL25: =IF(BK25="■", $R25+$S25) -> FALSE | BM25: =IF($AZ25="Conto Contigo", "■",0) -> 0 | BN25: =IF(BM25="■", $R25+$S25) -> FALSE | BO25: =IF($AZ25="Dia da internet Mais Segura", "■",0) -> 0 | BP25: =IF(BO25="■", $R25+$S25) -> FALSE | BQ25: =IF($AZ25="Dia Mundial da Língua Portuguesa", "■",0) -> 0 | BR25: =IF(BQ25="■", $R25+$S25) -> FALSE | BS25: =IF($AZ25="Isto também é comigo", "■",0) -> 0 | BT25: =IF(BS25="■", $R25+$S25) -> FALSE | BU25: =IF($AZ25="Jornalistas em rede", "■",0) -> 0 | BV25: =IF(BU25="■", $R25+$S25) -> FALSE | BW25: =IF($AZ25="Juntos a criar", "■",0) -> 0 | BX25: =IF(BW25="■", $R25+$S25) -> FALSE | BY25: =IF($AZ25="Ler eescrever mais com a BE", "■",0) -> 0 | BZ25: =IF(BY25="■", $R25+$S25) -> FALSE | CA25: =IF($AZ25="Ler fora da escola", "■",0) -> 0 | CB25: =IF(CA25="■", $R25+$S25) -> FALSE | CC25: =IF($AZ25="Lidera", "■",0) -> 0 | CD25: =IF(CC25="■", $R25+$S25) -> FALSE | CE25: =IF($AZ25="Media@ção", "■",0) -> 0 | CF25: =IF(CE25="■", $R25+$S25) -> FALSE | CG25: =IF($AZ25="Mês Internacional da Biblioteca Escolar", "■",0) -> 0 | CH25: =IF(CG25="■", $R25+$S25) -> FALSE | CI25: =IF($AZ25="Miúdos a votos", "■",0) -> 0 | CJ25: =IF(CI25="■", $R25+$S25) -> FALSE | CK25: =IF($AZ25="Newton gostava de ler", "■",0) -> 0 | CL25: =IF(CK25="■", $R25+$S25) -> FALSE | CM25: =IF($AZ25="Proliteracias", "■",0) -> 0 | CN25: =IF(CM25="■", $R25+$S25) -> FALSE | CO25: =IF($AZ25="PÚBLICO na Escola", "■",0) -> 0 | CP25: =IF(CO25="■", $R25+$S25) -> FALSE | CQ25: =IF($AZ25="READ ON Portugal", "■",0) -> 0 | CR25: =IF(CQ25="■", $R25+$S25) -> FALSE | CS25: =IF($AZ25="Semana da leitura", "■",0) -> 0 | CT25: =IF(CS25="■", $R25+$S25) -> FALSE | CU25: =IF($AZ25="Supercharged by IA", "■",0) -> 0 | CV25: =IF(CU25="■", $R25+$S25) -> FALSE | CW25: =IF($AZ25="Todos Juntos Podemos Ler", "■",0) -> 0 | CX25: =IF(CW25="■", $R25+$S25) -> FALSE | CY25: =IF($AZ25="Voluntários de leitura", "■",0) -> 0 | CZ25: =IF(CY25="■", $R25+$S25) -> FALSE | DA25: =IF($AZ25="Outra(s)", "■",0) -> 0 | DB25: =IF(DA25="■", $R25+$S25) -> FALSE | DD25: =IF($BA25="Plano Nacional das Artes", "■",0) -> 0 | DE25: =IF(DD25="■", $R25+$S25) -> FALSE | DF25: =IF($BA25="Plano Nacional de Cinema", "■",0) -> 0 | DG25: =IF(DF25="■", $R25+$S25) -> FALSE | DH25: =IF($BA25="Plano Nacional de Formação Financeira", "■",0) -> 0 | DI25: =IF(DH25="■", $R25+$S25) -> FALSE | DJ25: =IF($BA25="Plano Nacional de Formação Financeira", "■",0) -> 0 | DK25: =IF(DJ25="■", $R25+$S25) -> FALSE | DL25: =IF($BA25="Outra(s)", "■",0) -> 0 | DM25: =IF(DL25="■", $R25+$S25) -> FALSE | DO25: =IF($BB25="Histórias com Ciência na Biblioteca Escolar", "■",0) -> 0 | DP25: =IF(DO25="■", $R25+$S25) -> FALSE | DQ25: =IF($BB25="Jornal escolar", "■",0) -> 0 | DR25: =IF(DQ25="■", $R25+$S25) -> FALSE | DS25: =IF($BB25="Rádio escolar", "■",0) -> 0 | DT25: =IF(DS25="■", $R25+$S25) -> FALSE | DU25: =IF($BB25="TV escolar", "■",0) -> 0 | DV25: =IF(DU25="■", $R25+$S25) -> FALSE | DW25: =IF($BB25="Outra(s)", "■",0) -> 0 | DX25: =IF(DW25="■", $R25+$S25) -> FALSE
B26: ='1. Plano anual atividades'!C28 -> 0 | D26: ='1. Plano anual atividades'!D28 -> 0 | E26: ='1. Plano anual atividades'!I28 -> 0 | F26: ='1. Plano anual atividades'!J28 -> 0 | G26: ='1. Plano anual atividades'!K28 -> 0 | H26: ='1. Plano anual atividades'!L28 -> 0 | I26: ='1. Plano anual atividades'!M28 -> 0 | J26: ='1. Plano anual atividades'!N28 -> 0 | K26: ='1. Plano anual atividades'!O28 -> 0 | L26: ='1. Plano anual atividades'!P28 -> 0 | ... N26: ='1. Plano anual atividades'!R28 -> 0 | Q26: =O26*P26 -> 0 | T26: =P26*R26 -> 0 | U26: =P26*S26 -> 0 | X26: =P26*V26 -> 0 | Y26: =P26*W26 -> 0 | AB26: ='1. Plano anual atividades'!E28 -> 0 | BC26: =IF($AZ26="7 dias com os media", "■",0) -> 0 | BD26: =IF(BC26="■", $R26+$S26) -> FALSE | BE26: =IF($AZ26="aLer mais e melhor", "■",0) -> 0 | BF26: =IF(BE26="■", $R26+$S26) -> FALSE | BG26: =IF($AZ26="Campeonato de Escrita e Ciência Criativa", "■",0) -> 0 | BH26: =IF(BG26="■", $R26+$S26) -> FALSE | BI26: =IF($AZ26="Cientificamente provável", "■",0) -> 0 | BJ26: =IF(BI26="■", $R26+$S26) -> FALSE | BK26: =IF($AZ26="Clássicos em rede", "■",0) -> 0 | BL26: =IF(BK26="■", $R26+$S26) -> FALSE | BM26: =IF($AZ26="Conto Contigo", "■",0) -> 0 | BN26: =IF(BM26="■", $R26+$S26) -> FALSE | BO26: =IF($AZ26="Dia da internet Mais Segura", "■",0) -> 0 | BP26: =IF(BO26="■", $R26+$S26) -> FALSE | BQ26: =IF($AZ26="Dia Mundial da Língua Portuguesa", "■",0) -> 0 | BR26: =IF(BQ26="■", $R26+$S26) -> FALSE | BS26: =IF($AZ26="Isto também é comigo", "■",0) -> 0 | BT26: =IF(BS26="■", $R26+$S26) -> FALSE | BU26: =IF($AZ26="Jornalistas em rede", "■",0) -> 0 | BV26: =IF(BU26="■", $R26+$S26) -> FALSE | BW26: =IF($AZ26="Juntos a criar", "■",0) -> 0 | BX26: =IF(BW26="■", $R26+$S26) -> FALSE | BY26: =IF($AZ26="Ler eescrever mais com a BE", "■",0) -> 0 | BZ26: =IF(BY26="■", $R26+$S26) -> FALSE | CA26: =IF($AZ26="Ler fora da escola", "■",0) -> 0 | CB26: =IF(CA26="■", $R26+$S26) -> FALSE | CC26: =IF($AZ26="Lidera", "■",0) -> 0 | CD26: =IF(CC26="■", $R26+$S26) -> FALSE | CE26: =IF($AZ26="Media@ção", "■",0) -> 0 | CF26: =IF(CE26="■", $R26+$S26) -> FALSE | CG26: =IF($AZ26="Mês Internacional da Biblioteca Escolar", "■",0) -> 0 | CH26: =IF(CG26="■", $R26+$S26) -> FALSE | CI26: =IF($AZ26="Miúdos a votos", "■",0) -> 0 | CJ26: =IF(CI26="■", $R26+$S26) -> FALSE | CK26: =IF($AZ26="Newton gostava de ler", "■",0) -> 0 | CL26: =IF(CK26="■", $R26+$S26) -> FALSE | CM26: =IF($AZ26="Proliteracias", "■",0) -> 0 | CN26: =IF(CM26="■", $R26+$S26) -> FALSE | CO26: =IF($AZ26="PÚBLICO na Escola", "■",0) -> 0 | CP26: =IF(CO26="■", $R26+$S26) -> FALSE | CQ26: =IF($AZ26="READ ON Portugal", "■",0) -> 0 | CR26: =IF(CQ26="■", $R26+$S26) -> FALSE | CS26: =IF($AZ26="Semana da leitura", "■",0) -> 0 | CT26: =IF(CS26="■", $R26+$S26) -> FALSE | CU26: =IF($AZ26="Supercharged by IA", "■",0) -> 0 | CV26: =IF(CU26="■", $R26+$S26) -> FALSE | CW26: =IF($AZ26="Todos Juntos Podemos Ler", "■",0) -> 0 | CX26: =IF(CW26="■", $R26+$S26) -> FALSE | CY26: =IF($AZ26="Voluntários de leitura", "■",0) -> 0 | CZ26: =IF(CY26="■", $R26+$S26) -> FALSE | DA26: =IF($AZ26="Outra(s)", "■",0) -> 0 | DB26: =IF(DA26="■", $R26+$S26) -> FALSE | DD26: =IF($BA26="Plano Nacional das Artes", "■",0) -> 0 | DE26: =IF(DD26="■", $R26+$S26) -> FALSE | DF26: =IF($BA26="Plano Nacional de Cinema", "■",0) -> 0 | DG26: =IF(DF26="■", $R26+$S26) -> FALSE | DH26: =IF($BA26="Plano Nacional de Formação Financeira", "■",0) -> 0 | DI26: =IF(DH26="■", $R26+$S26) -> FALSE | DJ26: =IF($BA26="Plano Nacional de Formação Financeira", "■",0) -> 0 | DK26: =IF(DJ26="■", $R26+$S26) -> FALSE | DL26: =IF($BA26="Outra(s)", "■",0) -> 0 | DM26: =IF(DL26="■", $R26+$S26) -> FALSE | DO26: =IF($BB26="Histórias com Ciência na Biblioteca Escolar", "■",0) -> 0 | DP26: =IF(DO26="■", $R26+$S26) -> FALSE | DQ26: =IF($BB26="Jornal escolar", "■",0) -> 0 | DR26: =IF(DQ26="■", $R26+$S26) -> FALSE | DS26: =IF($BB26="Rádio escolar", "■",0) -> 0 | DT26: =IF(DS26="■", $R26+$S26) -> FALSE | DU26: =IF($BB26="TV escolar", "■",0) -> 0 | DV26: =IF(DU26="■", $R26+$S26) -> FALSE | DW26: =IF($BB26="Outra(s)", "■",0) -> 0 | DX26: =IF(DW26="■", $R26+$S26) -> FALSE
B27: ='1. Plano anual atividades'!C29 -> 0 | D27: ='1. Plano anual atividades'!D29 -> 0 | E27: ='1. Plano anual atividades'!I29 -> 0 | F27: ='1. Plano anual atividades'!J29 -> 0 | G27: ='1. Plano anual atividades'!K29 -> 0 | H27: ='1. Plano anual atividades'!L29 -> 0 | I27: ='1. Plano anual atividades'!M29 -> 0 | J27: ='1. Plano anual atividades'!N29 -> 0 | K27: ='1. Plano anual atividades'!O29 -> 0 | L27: ='1. Plano anual atividades'!P29 -> 0 | ... N27: ='1. Plano anual atividades'!R29 -> 0 | Q27: =O27*P27 -> 0 | T27: =P27*R27 -> 0 | U27: =P27*S27 -> 0 | X27: =P27*V27 -> 0 | Y27: =P27*W27 -> 0 | AB27: ='1. Plano anual atividades'!E29 -> 0 | BC27: =IF($AZ27="7 dias com os media", "■",0) -> 0 | BD27: =IF(BC27="■", $R27+$S27) -> FALSE | BE27: =IF($AZ27="aLer mais e melhor", "■",0) -> 0 | BF27: =IF(BE27="■", $R27+$S27) -> FALSE | BG27: =IF($AZ27="Campeonato de Escrita e Ciência Criativa", "■",0) -> 0 | BH27: =IF(BG27="■", $R27+$S27) -> FALSE | BI27: =IF($AZ27="Cientificamente provável", "■",0) -> 0 | BJ27: =IF(BI27="■", $R27+$S27) -> FALSE | BK27: =IF($AZ27="Clássicos em rede", "■",0) -> 0 | BL27: =IF(BK27="■", $R27+$S27) -> FALSE | BM27: =IF($AZ27="Conto Contigo", "■",0) -> 0 | BN27: =IF(BM27="■", $R27+$S27) -> FALSE | BO27: =IF($AZ27="Dia da internet Mais Segura", "■",0) -> 0 | BP27: =IF(BO27="■", $R27+$S27) -> FALSE | BQ27: =IF($AZ27="Dia Mundial da Língua Portuguesa", "■",0) -> 0 | BR27: =IF(BQ27="■", $R27+$S27) -> FALSE | BS27: =IF($AZ27="Isto também é comigo", "■",0) -> 0 | BT27: =IF(BS27="■", $R27+$S27) -> FALSE | BU27: =IF($AZ27="Jornalistas em rede", "■",0) -> 0 | BV27: =IF(BU27="■", $R27+$S27) -> FALSE | BW27: =IF($AZ27="Juntos a criar", "■",0) -> 0 | BX27: =IF(BW27="■", $R27+$S27) -> FALSE | BY27: =IF($AZ27="Ler eescrever mais com a BE", "■",0) -> 0 | BZ27: =IF(BY27="■", $R27+$S27) -> FALSE | CA27: =IF($AZ27="Ler fora da escola", "■",0) -> 0 | CB27: =IF(CA27="■", $R27+$S27) -> FALSE | CC27: =IF($AZ27="Lidera", "■",0) -> 0 | CD27: =IF(CC27="■", $R27+$S27) -> FALSE | CE27: =IF($AZ27="Media@ção", "■",0) -> 0 | CF27: =IF(CE27="■", $R27+$S27) -> FALSE | CG27: =IF($AZ27="Mês Internacional da Biblioteca Escolar", "■",0) -> 0 | CH27: =IF(CG27="■", $R27+$S27) -> FALSE | CI27: =IF($AZ27="Miúdos a votos", "■",0) -> 0 | CJ27: =IF(CI27="■", $R27+$S27) -> FALSE | CK27: =IF($AZ27="Newton gostava de ler", "■",0) -> 0 | CL27: =IF(CK27="■", $R27+$S27) -> FALSE | CM27: =IF($AZ27="Proliteracias", "■",0) -> 0 | CN27: =IF(CM27="■", $R27+$S27) -> FALSE | CO27: =IF($AZ27="PÚBLICO na Escola", "■",0) -> 0 | CP27: =IF(CO27="■", $R27+$S27) -> FALSE | CQ27: =IF($AZ27="READ ON Portugal", "■",0) -> 0 | CR27: =IF(CQ27="■", $R27+$S27) -> FALSE | CS27: =IF($AZ27="Semana da leitura", "■",0) -> 0 | CT27: =IF(CS27="■", $R27+$S27) -> FALSE | CU27: =IF($AZ27="Supercharged by IA", "■",0) -> 0 | CV27: =IF(CU27="■", $R27+$S27) -> FALSE | CW27: =IF($AZ27="Todos Juntos Podemos Ler", "■",0) -> 0 | CX27: =IF(CW27="■", $R27+$S27) -> FALSE | CY27: =IF($AZ27="Voluntários de leitura", "■",0) -> 0 | CZ27: =IF(CY27="■", $R27+$S27) -> FALSE | DA27: =IF($AZ27="Outra(s)", "■",0) -> 0 | DB27: =IF(DA27="■", $R27+$S27) -> FALSE | DD27: =IF($BA27="Plano Nacional das Artes", "■",0) -> 0 | DE27: =IF(DD27="■", $R27+$S27) -> FALSE | DF27: =IF($BA27="Plano Nacional de Cinema", "■",0) -> 0 | DG27: =IF(DF27="■", $R27+$S27) -> FALSE | DH27: =IF($BA27="Plano Nacional de Formação Financeira", "■",0) -> 0 | DI27: =IF(DH27="■", $R27+$S27) -> FALSE | DJ27: =IF($BA27="Plano Nacional de Formação Financeira", "■",0) -> 0 | DK27: =IF(DJ27="■", $R27+$S27) -> FALSE | DL27: =IF($BA27="Outra(s)", "■",0) -> 0 | DM27: =IF(DL27="■", $R27+$S27) -> FALSE | DO27: =IF($BB27="Histórias com Ciência na Biblioteca Escolar", "■",0) -> 0 | DP27: =IF(DO27="■", $R27+$S27) -> FALSE | DQ27: =IF($BB27="Jornal escolar", "■",0) -> 0 | DR27: =IF(DQ27="■", $R27+$S27) -> FALSE | DS27: =IF($BB27="Rádio escolar", "■",0) -> 0 | DT27: =IF(DS27="■", $R27+$S27) -> FALSE | DU27: =IF($BB27="TV escolar", "■",0) -> 0 | DV27: =IF(DU27="■", $R27+$S27) -> FALSE | DW27: =IF($BB27="Outra(s)", "■",0) -> 0 | DX27: =IF(DW27="■", $R27+$S27) -> FALSE
B28: ='1. Plano anual atividades'!C30 -> 0 | D28: ='1. Plano anual atividades'!D40 -> 0 | E28: ='1. Plano anual atividades'!I40 -> 0 | F28: ='1. Plano anual atividades'!J40 -> 0 | G28: ='1. Plano anual atividades'!K40 -> 0 | H28: ='1. Plano anual atividades'!L40 -> 0 | I28: ='1. Plano anual atividades'!M40 -> 0 | J28: ='1. Plano anual atividades'!N40 -> 0 | K28: ='1. Plano anual atividades'!O40 -> 0 | L28: ='1. Plano anual atividades'!P40 -> 0 | ... N28: ='1. Plano anual atividades'!R40 -> 0 | Q28: =O28*P28 -> 0 | T28: =P28*R28 -> 0 | U28: =P28*S28 -> 0 | X28: =P28*V28 -> 0 | Y28: =P28*W28 -> 0 | AB28: ='1. Plano anual atividades'!E40 -> 0 | BC28: =IF($AZ28="7 dias com os media", "■",0) -> 0 | BD28: =IF(BC28="■", $R28+$S28) -> FALSE | BE28: =IF($AZ28="aLer mais e melhor", "■",0) -> 0 | BF28: =IF(BE28="■", $R28+$S28) -> FALSE | BG28: =IF($AZ28="Campeonato de Escrita e Ciência Criativa", "■",0) -> 0 | BH28: =IF(BG28="■", $R28+$S28) -> FALSE | BI28: =IF($AZ28="Cientificamente provável", "■",0) -> 0 | BJ28: =IF(BI28="■", $R28+$S28) -> FALSE | BK28: =IF($AZ28="Clássicos em rede", "■",0) -> 0 | BL28: =IF(BK28="■", $R28+$S28) -> FALSE | BM28: =IF($AZ28="Conto Contigo", "■",0) -> 0 | BN28: =IF(BM28="■", $R28+$S28) -> FALSE | BO28: =IF($AZ28="Dia da internet Mais Segura", "■",0) -> 0 | BP28: =IF(BO28="■", $R28+$S28) -> FALSE | BQ28: =IF($AZ28="Dia Mundial da Língua Portuguesa", "■",0) -> 0 | BR28: =IF(BQ28="■", $R28+$S28) -> FALSE | BS28: =IF($AZ28="Isto também é comigo", "■",0) -> 0 | BT28: =IF(BS28="■", $R28+$S28) -> FALSE | BU28: =IF($AZ28="Jornalistas em rede", "■",0) -> 0 | BV28: =IF(BU28="■", $R28+$S28) -> FALSE | BW28: =IF($AZ28="Juntos a criar", "■",0) -> 0 | BX28: =IF(BW28="■", $R28+$S28) -> FALSE | BY28: =IF($AZ28="Ler eescrever mais com a BE", "■",0) -> 0 | BZ28: =IF(BY28="■", $R28+$S28) -> FALSE | CA28: =IF($AZ28="Ler fora da escola", "■",0) -> 0 | CB28: =IF(CA28="■", $R28+$S28) -> FALSE | CC28: =IF($AZ28="Lidera", "■",0) -> 0 | CD28: =IF(CC28="■", $R28+$S28) -> FALSE | CE28: =IF($AZ28="Media@ção", "■",0) -> 0 | CF28: =IF(CE28="■", $R28+$S28) -> FALSE | CG28: =IF($AZ28="Mês Internacional da Biblioteca Escolar", "■",0) -> 0 | CH28: =IF(CG28="■", $R28+$S28) -> FALSE | CI28: =IF($AZ28="Miúdos a votos", "■",0) -> 0 | CJ28: =IF(CI28="■", $R28+$S28) -> FALSE | CK28: =IF($AZ28="Newton gostava de ler", "■",0) -> 0 | CL28: =IF(CK28="■", $R28+$S28) -> FALSE | CM28: =IF($AZ28="Proliteracias", "■",0) -> 0 | CN28: =IF(CM28="■", $R28+$S28) -> FALSE | CO28: =IF($AZ28="PÚBLICO na Escola", "■",0) -> 0 | CP28: =IF(CO28="■", $R28+$S28) -> FALSE | CQ28: =IF($AZ28="READ ON Portugal", "■",0) -> 0 | CR28: =IF(CQ28="■", $R28+$S28) -> FALSE | CS28: =IF($AZ28="Semana da leitura", "■",0) -> 0 | CT28: =IF(CS28="■", $R28+$S28) -> FALSE | CU28: =IF($AZ28="Supercharged by IA", "■",0) -> 0 | CV28: =IF(CU28="■", $R28+$S28) -> FALSE | CW28: =IF($AZ28="Todos Juntos Podemos Ler", "■",0) -> 0 | CX28: =IF(CW28="■", $R28+$S28) -> FALSE | CY28: =IF($AZ28="Voluntários de leitura", "■",0) -> 0 | CZ28: =IF(CY28="■", $R28+$S28) -> FALSE | DA28: =IF($AZ28="Outra(s)", "■",0) -> 0 | DB28: =IF(DA28="■", $R28+$S28) -> FALSE | DD28: =IF($BA28="Plano Nacional das Artes", "■",0) -> 0 | DE28: =IF(DD28="■", $R28+$S28) -> FALSE | DF28: =IF($BA28="Plano Nacional de Cinema", "■",0) -> 0 | DG28: =IF(DF28="■", $R28+$S28) -> FALSE | DH28: =IF($BA28="Plano Nacional de Formação Financeira", "■",0) -> 0 | DI28: =IF(DH28="■", $R28+$S28) -> FALSE | DJ28: =IF($BA28="Plano Nacional de Formação Financeira", "■",0) -> 0 | DK28: =IF(DJ28="■", $R28+$S28) -> FALSE | DL28: =IF($BA28="Outra(s)", "■",0) -> 0 | DM28: =IF(DL28="■", $R28+$S28) -> FALSE | DO28: =IF($BB28="Histórias com Ciência na Biblioteca Escolar", "■",0) -> 0 | DP28: =IF(DO28="■", $R28+$S28) -> FALSE | DQ28: =IF($BB28="Jornal escolar", "■",0) -> 0 | DR28: =IF(DQ28="■", $R28+$S28) -> FALSE | DS28: =IF($BB28="Rádio escolar", "■",0) -> 0 | DT28: =IF(DS28="■", $R28+$S28) -> FALSE | DU28: =IF($BB28="TV escolar", "■",0) -> 0 | DV28: =IF(DU28="■", $R28+$S28) -> FALSE | DW28: =IF($BB28="Outra(s)", "■",0) -> 0 | DX28: =IF(DW28="■", $R28+$S28) -> FALSE
B29: ='1. Plano anual atividades'!C31 -> 0 | D29: ='1. Plano anual atividades'!D31 -> 0 | E29: ='1. Plano anual atividades'!I31 -> 0 | F29: ='1. Plano anual atividades'!J31 -> 0 | G29: ='1. Plano anual atividades'!K31 -> 0 | H29: ='1. Plano anual atividades'!L31 -> 0 | I29: ='1. Plano anual atividades'!M31 -> 0 | J29: ='1. Plano anual atividades'!N31 -> 0 | K29: ='1. Plano anual atividades'!O31 -> 0 | L29: ='1. Plano anual atividades'!P31 -> 0 | ... N29: ='1. Plano anual atividades'!R31 -> 0 | Q29: =O29*P29 -> 0 | T29: =P29*R29 -> 0 | U29: =P29*S29 -> 0 | X29: =P29*V29 -> 0 | Y29: =P29*W29 -> 0 | AB29: ='1. Plano anual atividades'!E31 -> 0 | BC29: =IF($AZ29="7 dias com os media", "■",0) -> 0 | BD29: =IF(BC29="■", $R29+$S29) -> FALSE | BE29: =IF($AZ29="aLer mais e melhor", "■",0) -> 0 | BF29: =IF(BE29="■", $R29+$S29) -> FALSE | BG29: =IF($AZ29="Campeonato de Escrita e Ciência Criativa", "■",0) -> 0 | BH29: =IF(BG29="■", $R29+$S29) -> FALSE | BI29: =IF($AZ29="Cientificamente provável", "■",0) -> 0 | BJ29: =IF(BI29="■", $R29+$S29) -> FALSE | BK29: =IF($AZ29="Clássicos em rede", "■",0) -> 0 | BL29: =IF(BK29="■", $R29+$S29) -> FALSE | BM29: =IF($AZ29="Conto Contigo", "■",0) -> 0 | BN29: =IF(BM29="■", $R29+$S29) -> FALSE | BO29: =IF($AZ29="Dia da internet Mais Segura", "■",0) -> 0 | BP29: =IF(BO29="■", $R29+$S29) -> FALSE | BQ29: =IF($AZ29="Dia Mundial da Língua Portuguesa", "■",0) -> 0 | BR29: =IF(BQ29="■", $R29+$S29) -> FALSE | BS29: =IF($AZ29="Isto também é comigo", "■",0) -> 0 | BT29: =IF(BS29="■", $R29+$S29) -> FALSE | BU29: =IF($AZ29="Jornalistas em rede", "■",0) -> 0 | BV29: =IF(BU29="■", $R29+$S29) -> FALSE | BW29: =IF($AZ29="Juntos a criar", "■",0) -> 0 | BX29: =IF(BW29="■", $R29+$S29) -> FALSE | BY29: =IF($AZ29="Ler eescrever mais com a BE", "■",0) -> 0 | BZ29: =IF(BY29="■", $R29+$S29) -> FALSE | CA29: =IF($AZ29="Ler fora da escola", "■",0) -> 0 | CB29: =IF(CA29="■", $R29+$S29) -> FALSE | CC29: =IF($AZ29="Lidera", "■",0) -> 0 | CD29: =IF(CC29="■", $R29+$S29) -> FALSE | CE29: =IF($AZ29="Media@ção", "■",0) -> 0 | CF29: =IF(CE29="■", $R29+$S29) -> FALSE | CG29: =IF($AZ29="Mês Internacional da Biblioteca Escolar", "■",0) -> 0 | CH29: =IF(CG29="■", $R29+$S29) -> FALSE | CI29: =IF($AZ29="Miúdos a votos", "■",0) -> 0 | CJ29: =IF(CI29="■", $R29+$S29) -> FALSE | CK29: =IF($AZ29="Newton gostava de ler", "■",0) -> 0 | CL29: =IF(CK29="■", $R29+$S29) -> FALSE | CM29: =IF($AZ29="Proliteracias", "■",0) -> 0 | CN29: =IF(CM29="■", $R29+$S29) -> FALSE | CO29: =IF($AZ29="PÚBLICO na Escola", "■",0) -> 0 | CP29: =IF(CO29="■", $R29+$S29) -> FALSE | CQ29: =IF($AZ29="READ ON Portugal", "■",0) -> 0 | CR29: =IF(CQ29="■", $R29+$S29) -> FALSE | CS29: =IF($AZ29="Semana da leitura", "■",0) -> 0 | CT29: =IF(CS29="■", $R29+$S29) -> FALSE | CU29: =IF($AZ29="Supercharged by IA", "■",0) -> 0 | CV29: =IF(CU29="■", $R29+$S29) -> FALSE | CW29: =IF($AZ29="Todos Juntos Podemos Ler", "■",0) -> 0 | CX29: =IF(CW29="■", $R29+$S29) -> FALSE | CY29: =IF($AZ29="Voluntários de leitura", "■",0) -> 0 | CZ29: =IF(CY29="■", $R29+$S29) -> FALSE | DA29: =IF($AZ29="Outra(s)", "■",0) -> 0 | DB29: =IF(DA29="■", $R29+$S29) -> FALSE | DD29: =IF($BA29="Plano Nacional das Artes", "■",0) -> 0 | DE29: =IF(DD29="■", $R29+$S29) -> FALSE | DF29: =IF($BA29="Plano Nacional de Cinema", "■",0) -> 0 | DG29: =IF(DF29="■", $R29+$S29) -> FALSE | DH29: =IF($BA29="Plano Nacional de Formação Financeira", "■",0) -> 0 | DI29: =IF(DH29="■", $R29+$S29) -> FALSE | DJ29: =IF($BA29="Plano Nacional de Formação Financeira", "■",0) -> 0 | DK29: =IF(DJ29="■", $R29+$S29) -> FALSE | DL29: =IF($BA29="Outra(s)", "■",0) -> 0 | DM29: =IF(DL29="■", $R29+$S29) -> FALSE | DO29: =IF($BB29="Histórias com Ciência na Biblioteca Escolar", "■",0) -> 0 | DP29: =IF(DO29="■", $R29+$S29) -> FALSE | DQ29: =IF($BB29="Jornal escolar", "■",0) -> 0 | DR29: =IF(DQ29="■", $R29+$S29) -> FALSE | DS29: =IF($BB29="Rádio escolar", "■",0) -> 0 | DT29: =IF(DS29="■", $R29+$S29) -> FALSE | DU29: =IF($BB29="TV escolar", "■",0) -> 0 | DV29: =IF(DU29="■", $R29+$S29) -> FALSE | DW29: =IF($BB29="Outra(s)", "■",0) -> 0 | DX29: =IF(DW29="■", $R29+$S29) -> FALSE
B30: ='1. Plano anual atividades'!C32 -> 0 | D30: ='1. Plano anual atividades'!D32 -> 0 | E30: ='1. Plano anual atividades'!I32 -> 0 | F30: ='1. Plano anual atividades'!J32 -> 0 | G30: ='1. Plano anual atividades'!K32 -> 0 | H30: ='1. Plano anual atividades'!L32 -> 0 | I30: ='1. Plano anual atividades'!M32 -> 0 | J30: ='1. Plano anual atividades'!N32 -> 0 | K30: ='1. Plano anual atividades'!O32 -> 0 | L30: ='1. Plano anual atividades'!P32 -> 0 | ... N30: ='1. Plano anual atividades'!R32 -> 0 | Q30: =O30*P30 -> 0 | T30: =P30*R30 -> 0 | U30: =P30*S30 -> 0 | X30: =P30*V30 -> 0 | Y30: =P30*W30 -> 0 | AB30: ='1. Plano anual atividades'!E32 -> 0 | BC30: =IF($AZ30="7 dias com os media", "■",0) -> 0 | BD30: =IF(BC30="■", $R30+$S30) -> FALSE | BE30: =IF($AZ30="aLer mais e melhor", "■",0) -> 0 | BF30: =IF(BE30="■", $R30+$S30) -> FALSE | BG30: =IF($AZ30="Campeonato de Escrita e Ciência Criativa", "■",0) -> 0 | BH30: =IF(BG30="■", $R30+$S30) -> FALSE | BI30: =IF($AZ30="Cientificamente provável", "■",0) -> 0 | BJ30: =IF(BI30="■", $R30+$S30) -> FALSE | BK30: =IF($AZ30="Clássicos em rede", "■",0) -> 0 | BL30: =IF(BK30="■", $R30+$S30) -> FALSE | BM30: =IF($AZ30="Conto Contigo", "■",0) -> 0 | BN30: =IF(BM30="■", $R30+$S30) -> FALSE | BO30: =IF($AZ30="Dia da internet Mais Segura", "■",0) -> 0 | BP30: =IF(BO30="■", $R30+$S30) -> FALSE | BQ30: =IF($AZ30="Dia Mundial da Língua Portuguesa", "■",0) -> 0 | BR30: =IF(BQ30="■", $R30+$S30) -> FALSE | BS30: =IF($AZ30="Isto também é comigo", "■",0) -> 0 | BT30: =IF(BS30="■", $R30+$S30) -> FALSE | BU30: =IF($AZ30="Jornalistas em rede", "■",0) -> 0 | BV30: =IF(BU30="■", $R30+$S30) -> FALSE | BW30: =IF($AZ30="Juntos a criar", "■",0) -> 0 | BX30: =IF(BW30="■", $R30+$S30) -> FALSE | BY30: =IF($AZ30="Ler eescrever mais com a BE", "■",0) -> 0 | BZ30: =IF(BY30="■", $R30+$S30) -> FALSE | CA30: =IF($AZ30="Ler fora da escola", "■",0) -> 0 | CB30: =IF(CA30="■", $R30+$S30) -> FALSE | CC30: =IF($AZ30="Lidera", "■",0) -> 0 | CD30: =IF(CC30="■", $R30+$S30) -> FALSE | CE30: =IF($AZ30="Media@ção", "■",0) -> 0 | CF30: =IF(CE30="■", $R30+$S30) -> FALSE | CG30: =IF($AZ30="Mês Internacional da Biblioteca Escolar", "■",0) -> 0 | CH30: =IF(CG30="■", $R30+$S30) -> FALSE | CI30: =IF($AZ30="Miúdos a votos", "■",0) -> 0 | CJ30: =IF(CI30="■", $R30+$S30) -> FALSE | CK30: =IF($AZ30="Newton gostava de ler", "■",0) -> 0 | CL30: =IF(CK30="■", $R30+$S30) -> FALSE | CM30: =IF($AZ30="Proliteracias", "■",0) -> 0 | CN30: =IF(CM30="■", $R30+$S30) -> FALSE | CO30: =IF($AZ30="PÚBLICO na Escola", "■",0) -> 0 | CP30: =IF(CO30="■", $R30+$S30) -> FALSE | CQ30: =IF($AZ30="READ ON Portugal", "■",0) -> 0 | CR30: =IF(CQ30="■", $R30+$S30) -> FALSE | CS30: =IF($AZ30="Semana da leitura", "■",0) -> 0 | CT30: =IF(CS30="■", $R30+$S30) -> FALSE | CU30: =IF($AZ30="Supercharged by IA", "■",0) -> 0 | CV30: =IF(CU30="■", $R30+$S30) -> FALSE | CW30: =IF($AZ30="Todos Juntos Podemos Ler", "■",0) -> 0 | CX30: =IF(CW30="■", $R30+$S30) -> FALSE | CY30: =IF($AZ30="Voluntários de leitura", "■",0) -> 0 | CZ30: =IF(CY30="■", $R30+$S30) -> FALSE | DA30: =IF($AZ30="Outra(s)", "■",0) -> 0 | DB30: =IF(DA30="■", $R30+$S30) -> FALSE | DD30: =IF($BA30="Plano Nacional das Artes", "■",0) -> 0 | DE30: =IF(DD30="■", $R30+$S30) -> FALSE | DF30: =IF($BA30="Plano Nacional de Cinema", "■",0) -> 0 | DG30: =IF(DF30="■", $R30+$S30) -> FALSE | DH30: =IF($BA30="Plano Nacional de Formação Financeira", "■",0) -> 0 | DI30: =IF(DH30="■", $R30+$S30) -> FALSE | DJ30: =IF($BA30="Plano Nacional de Formação Financeira", "■",0) -> 0 | DK30: =IF(DJ30="■", $R30+$S30) -> FALSE | DL30: =IF($BA30="Outra(s)", "■",0) -> 0 | DM30: =IF(DL30="■", $R30+$S30) -> FALSE | DO30: =IF($BB30="Histórias com Ciência na Biblioteca Escolar", "■",0) -> 0 | DP30: =IF(DO30="■", $R30+$S30) -> FALSE | DQ30: =IF($BB30="Jornal escolar", "■",0) -> 0 | DR30: =IF(DQ30="■", $R30+$S30) -> FALSE | DS30: =IF($BB30="Rádio escolar", "■",0) -> 0 | DT30: =IF(DS30="■", $R30+$S30) -> FALSE | DU30: =IF($BB30="TV escolar", "■",0) -> 0 | DV30: =IF(DU30="■", $R30+$S30) -> FALSE | DW30: =IF($BB30="Outra(s)", "■",0) -> 0 | DX30: =IF(DW30="■", $R30+$S30) -> FALSE
B31: ='1. Plano anual atividades'!C33 -> 0 | D31: ='1. Plano anual atividades'!D33 -> 0 | E31: ='1. Plano anual atividades'!I33 -> 0 | F31: ='1. Plano anual atividades'!J33 -> 0 | G31: ='1. Plano anual atividades'!K33 -> 0 | H31: ='1. Plano anual atividades'!L33 -> 0 | I31: ='1. Plano anual atividades'!M33 -> 0 | J31: ='1. Plano anual atividades'!N33 -> 0 | K31: ='1. Plano anual atividades'!O33 -> 0 | L31: ='1. Plano anual atividades'!P33 -> 0 | ... N31: ='1. Plano anual atividades'!R33 -> 0 | Q31: =O31*P31 -> 0 | T31: =P31*R31 -> 0 | U31: =P31*S31 -> 0 | X31: =P31*V31 -> 0 | Y31: =P31*W31 -> 0 | AB31: ='1. Plano anual atividades'!E33 -> 0 | BC31: =IF($AZ31="7 dias com os media", "■",0) -> 0 | BD31: =IF(BC31="■", $R31+$S31) -> FALSE | BE31: =IF($AZ31="aLer mais e melhor", "■",0) -> 0 | BF31: =IF(BE31="■", $R31+$S31) -> FALSE | BG31: =IF($AZ31="Campeonato de Escrita e Ciência Criativa", "■",0) -> 0 | BH31: =IF(BG31="■", $R31+$S31) -> FALSE | BI31: =IF($AZ31="Cientificamente provável", "■",0) -> 0 | BJ31: =IF(BI31="■", $R31+$S31) -> FALSE | BK31: =IF($AZ31="Clássicos em rede", "■",0) -> 0 | BL31: =IF(BK31="■", $R31+$S31) -> FALSE | BM31: =IF($AZ31="Conto Contigo", "■",0) -> 0 | BN31: =IF(BM31="■", $R31+$S31) -> FALSE | BO31: =IF($AZ31="Dia da internet Mais Segura", "■",0) -> 0 | BP31: =IF(BO31="■", $R31+$S31) -> FALSE | BQ31: =IF($AZ31="Dia Mundial da Língua Portuguesa", "■",0) -> 0 | BR31: =IF(BQ31="■", $R31+$S31) -> FALSE | BS31: =IF($AZ31="Isto também é comigo", "■",0) -> 0 | BT31: =IF(BS31="■", $R31+$S31) -> FALSE | BU31: =IF($AZ31="Jornalistas em rede", "■",0) -> 0 | BV31: =IF(BU31="■", $R31+$S31) -> FALSE | BW31: =IF($AZ31="Juntos a criar", "■",0) -> 0 | BX31: =IF(BW31="■", $R31+$S31) -> FALSE | BY31: =IF($AZ31="Ler eescrever mais com a BE", "■",0) -> 0 | BZ31: =IF(BY31="■", $R31+$S31) -> FALSE | CA31: =IF($AZ31="Ler fora da escola", "■",0) -> 0 | CB31: =IF(CA31="■", $R31+$S31) -> FALSE | CC31: =IF($AZ31="Lidera", "■",0) -> 0 | CD31: =IF(CC31="■", $R31+$S31) -> FALSE | CE31: =IF($AZ31="Media@ção", "■",0) -> 0 | CF31: =IF(CE31="■", $R31+$S31) -> FALSE | CG31: =IF($AZ31="Mês Internacional da Biblioteca Escolar", "■",0) -> 0 | CH31: =IF(CG31="■", $R31+$S31) -> FALSE | CI31: =IF($AZ31="Miúdos a votos", "■",0) -> 0 | CJ31: =IF(CI31="■", $R31+$S31) -> FALSE | CK31: =IF($AZ31="Newton gostava de ler", "■",0) -> 0 | CL31: =IF(CK31="■", $R31+$S31) -> FALSE | CM31: =IF($AZ31="Proliteracias", "■",0) -> 0 | CN31: =IF(CM31="■", $R31+$S31) -> FALSE | CO31: =IF($AZ31="PÚBLICO na Escola", "■",0) -> 0 | CP31: =IF(CO31="■", $R31+$S31) -> FALSE | CQ31: =IF($AZ31="READ ON Portugal", "■",0) -> 0 | CR31: =IF(CQ31="■", $R31+$S31) -> FALSE | CS31: =IF($AZ31="Semana da leitura", "■",0) -> 0 | CT31: =IF(CS31="■", $R31+$S31) -> FALSE | CU31: =IF($AZ31="Supercharged by IA", "■",0) -> 0 | CV31: =IF(CU31="■", $R31+$S31) -> FALSE | CW31: =IF($AZ31="Todos Juntos Podemos Ler", "■",0) -> 0 | CX31: =IF(CW31="■", $R31+$S31) -> FALSE | CY31: =IF($AZ31="Voluntários de leitura", "■",0) -> 0 | CZ31: =IF(CY31="■", $R31+$S31) -> FALSE | DA31: =IF($AZ31="Outra(s)", "■",0) -> 0 | DB31: =IF(DA31="■", $R31+$S31) -> FALSE | DD31: =IF($BA31="Plano Nacional das Artes", "■",0) -> 0 | DE31: =IF(DD31="■", $R31+$S31) -> FALSE | DF31: =IF($BA31="Plano Nacional de Cinema", "■",0) -> 0 | DG31: =IF(DF31="■", $R31+$S31) -> FALSE | DH31: =IF($BA31="Plano Nacional de Formação Financeira", "■",0) -> 0 | DI31: =IF(DH31="■", $R31+$S31) -> FALSE | DJ31: =IF($BA31="Plano Nacional de Formação Financeira", "■",0) -> 0 | DK31: =IF(DJ31="■", $R31+$S31) -> FALSE | DL31: =IF($BA31="Outra(s)", "■",0) -> 0 | DM31: =IF(DL31="■", $R31+$S31) -> FALSE | DO31: =IF($BB31="Histórias com Ciência na Biblioteca Escolar", "■",0) -> 0 | DP31: =IF(DO31="■", $R31+$S31) -> FALSE | DQ31: =IF($BB31="Jornal escolar", "■",0) -> 0 | DR31: =IF(DQ31="■", $R31+$S31) -> FALSE | DS31: =IF($BB31="Rádio escolar", "■",0) -> 0 | DT31: =IF(DS31="■", $R31+$S31) -> FALSE | DU31: =IF($BB31="TV escolar", "■",0) -> 0 | DV31: =IF(DU31="■", $R31+$S31) -> FALSE | DW31: =IF($BB31="Outra(s)", "■",0) -> 0 | DX31: =IF(DW31="■", $R31+$S31) -> FALSE
B32: ='1. Plano anual atividades'!C34 -> 0 | D32: ='1. Plano anual atividades'!D34 -> 0 | E32: ='1. Plano anual atividades'!I34 -> 0 | F32: ='1. Plano anual atividades'!J34 -> 0 | G32: ='1. Plano anual atividades'!K34 -> 0 | H32: ='1. Plano anual atividades'!L34 -> 0 | I32: ='1. Plano anual atividades'!M34 -> 0 | J32: ='1. Plano anual atividades'!N34 -> 0 | K32: ='1. Plano anual atividades'!O34 -> 0 | L32: ='1. Plano anual atividades'!P34 -> 0 | ... N32: ='1. Plano anual atividades'!R34 -> 0 | Q32: =O32*P32 -> 0 | T32: =P32*R32 -> 0 | U32: =P32*S32 -> 0 | X32: =P32*V32 -> 0 | Y32: =P32*W32 -> 0 | AB32: ='1. Plano anual atividades'!E34 -> 0 | BC32: =IF($AZ32="7 dias com os media", "■",0) -> 0 | BD32: =IF(BC32="■", $R32+$S32) -> FALSE | BE32: =IF($AZ32="aLer mais e melhor", "■",0) -> 0 | BF32: =IF(BE32="■", $R32+$S32) -> FALSE | BG32: =IF($AZ32="Campeonato de Escrita e Ciência Criativa", "■",0) -> 0 | BH32: =IF(BG32="■", $R32+$S32) -> FALSE | BI32: =IF($AZ32="Cientificamente provável", "■",0) -> 0 | BJ32: =IF(BI32="■", $R32+$S32) -> FALSE | BK32: =IF($AZ32="Clássicos em rede", "■",0) -> 0 | BL32: =IF(BK32="■", $R32+$S32) -> FALSE | BM32: =IF($AZ32="Conto Contigo", "■",0) -> 0 | BN32: =IF(BM32="■", $R32+$S32) -> FALSE | BO32: =IF($AZ32="Dia da internet Mais Segura", "■",0) -> 0 | BP32: =IF(BO32="■", $R32+$S32) -> FALSE | BQ32: =IF($AZ32="Dia Mundial da Língua Portuguesa", "■",0) -> 0 | BR32: =IF(BQ32="■", $R32+$S32) -> FALSE | BS32: =IF($AZ32="Isto também é comigo", "■",0) -> 0 | BT32: =IF(BS32="■", $R32+$S32) -> FALSE | BU32: =IF($AZ32="Jornalistas em rede", "■",0) -> 0 | BV32: =IF(BU32="■", $R32+$S32) -> FALSE | BW32: =IF($AZ32="Juntos a criar", "■",0) -> 0 | BX32: =IF(BW32="■", $R32+$S32) -> FALSE | BY32: =IF($AZ32="Ler eescrever mais com a BE", "■",0) -> 0 | BZ32: =IF(BY32="■", $R32+$S32) -> FALSE | CA32: =IF($AZ32="Ler fora da escola", "■",0) -> 0 | CB32: =IF(CA32="■", $R32+$S32) -> FALSE | CC32: =IF($AZ32="Lidera", "■",0) -> 0 | CD32: =IF(CC32="■", $R32+$S32) -> FALSE | CE32: =IF($AZ32="Media@ção", "■",0) -> 0 | CF32: =IF(CE32="■", $R32+$S32) -> FALSE | CG32: =IF($AZ32="Mês Internacional da Biblioteca Escolar", "■",0) -> 0 | CH32: =IF(CG32="■", $R32+$S32) -> FALSE | CI32: =IF($AZ32="Miúdos a votos", "■",0) -> 0 | CJ32: =IF(CI32="■", $R32+$S32) -> FALSE | CK32: =IF($AZ32="Newton gostava de ler", "■",0) -> 0 | CL32: =IF(CK32="■", $R32+$S32) -> FALSE | CM32: =IF($AZ32="Proliteracias", "■",0) -> 0 | CN32: =IF(CM32="■", $R32+$S32) -> FALSE | CO32: =IF($AZ32="PÚBLICO na Escola", "■",0) -> 0 | CP32: =IF(CO32="■", $R32+$S32) -> FALSE | CQ32: =IF($AZ32="READ ON Portugal", "■",0) -> 0 | CR32: =IF(CQ32="■", $R32+$S32) -> FALSE | CS32: =IF($AZ32="Semana da leitura", "■",0) -> 0 | CT32: =IF(CS32="■", $R32+$S32) -> FALSE | CU32: =IF($AZ32="Supercharged by IA", "■",0) -> 0 | CV32: =IF(CU32="■", $R32+$S32) -> FALSE | CW32: =IF($AZ32="Todos Juntos Podemos Ler", "■",0) -> 0 | CX32: =IF(CW32="■", $R32+$S32) -> FALSE | CY32: =IF($AZ32="Voluntários de leitura", "■",0) -> 0 | CZ32: =IF(CY32="■", $R32+$S32) -> FALSE | DA32: =IF($AZ32="Outra(s)", "■",0) -> 0 | DB32: =IF(DA32="■", $R32+$S32) -> FALSE | DD32: =IF($BA32="Plano Nacional das Artes", "■",0) -> 0 | DE32: =IF(DD32="■", $R32+$S32) -> FALSE | DF32: =IF($BA32="Plano Nacional de Cinema", "■",0) -> 0 | DG32: =IF(DF32="■", $R32+$S32) -> FALSE | DH32: =IF($BA32="Plano Nacional de Formação Financeira", "■",0) -> 0 | DI32: =IF(DH32="■", $R32+$S32) -> FALSE | DJ32: =IF($BA32="Plano Nacional de Formação Financeira", "■",0) -> 0 | DK32: =IF(DJ32="■", $R32+$S32) -> FALSE | DL32: =IF($BA32="Outra(s)", "■",0) -> 0 | DM32: =IF(DL32="■", $R32+$S32) -> FALSE | DO32: =IF($BB32="Histórias com Ciência na Biblioteca Escolar", "■",0) -> 0 | DP32: =IF(DO32="■", $R32+$S32) -> FALSE | DQ32: =IF($BB32="Jornal escolar", "■",0) -> 0 | DR32: =IF(DQ32="■", $R32+$S32) -> FALSE | DS32: =IF($BB32="Rádio escolar", "■",0) -> 0 | DT32: =IF(DS32="■", $R32+$S32) -> FALSE | DU32: =IF($BB32="TV escolar", "■",0) -> 0 | DV32: =IF(DU32="■", $R32+$S32) -> FALSE | DW32: =IF($BB32="Outra(s)", "■",0) -> 0 | DX32: =IF(DW32="■", $R32+$S32) -> FALSE
B33: ='1. Plano anual atividades'!C35 -> 0 | D33: ='1. Plano anual atividades'!D35 -> 0 | E33: ='1. Plano anual atividades'!I35 -> 0 | F33: ='1. Plano anual atividades'!J35 -> 0 | G33: ='1. Plano anual atividades'!K35 -> 0 | H33: ='1. Plano anual atividades'!L35 -> 0 | I33: ='1. Plano anual atividades'!M35 -> 0 | J33: ='1. Plano anual atividades'!N35 -> 0 | K33: ='1. Plano anual atividades'!O35 -> 0 | L33: ='1. Plano anual atividades'!P35 -> 0 | ... N33: ='1. Plano anual atividades'!R35 -> 0 | Q33: =O33*P33 -> 0 | T33: =P33*R33 -> 0 | U33: =P33*S33 -> 0 | X33: =P33*V33 -> 0 | Y33: =P33*W33 -> 0 | AB33: ='1. Plano anual atividades'!E35 -> 0 | BC33: =IF($AZ33="7 dias com os media", "■",0) -> 0 | BD33: =IF(BC33="■", $R33+$S33) -> FALSE | BE33: =IF($AZ33="aLer mais e melhor", "■",0) -> 0 | BF33: =IF(BE33="■", $R33+$S33) -> FALSE | BG33: =IF($AZ33="Campeonato de Escrita e Ciência Criativa", "■",0) -> 0 | BH33: =IF(BG33="■", $R33+$S33) -> FALSE | BI33: =IF($AZ33="Cientificamente provável", "■",0) -> 0 | BJ33: =IF(BI33="■", $R33+$S33) -> FALSE | BK33: =IF($AZ33="Clássicos em rede", "■",0) -> 0 | BL33: =IF(BK33="■", $R33+$S33) -> FALSE | BM33: =IF($AZ33="Conto Contigo", "■",0) -> 0 | BN33: =IF(BM33="■", $R33+$S33) -> FALSE | BO33: =IF($AZ33="Dia da internet Mais Segura", "■",0) -> 0 | BP33: =IF(BO33="■", $R33+$S33) -> FALSE | BQ33: =IF($AZ33="Dia Mundial da Língua Portuguesa", "■",0) -> 0 | BR33: =IF(BQ33="■", $R33+$S33) -> FALSE | BS33: =IF($AZ33="Isto também é comigo", "■",0) -> 0 | BT33: =IF(BS33="■", $R33+$S33) -> FALSE | BU33: =IF($AZ33="Jornalistas em rede", "■",0) -> 0 | BV33: =IF(BU33="■", $R33+$S33) -> FALSE | BW33: =IF($AZ33="Juntos a criar", "■",0) -> 0 | BX33: =IF(BW33="■", $R33+$S33) -> FALSE | BY33: =IF($AZ33="Ler eescrever mais com a BE", "■",0) -> 0 | BZ33: =IF(BY33="■", $R33+$S33) -> FALSE | CA33: =IF($AZ33="Ler fora da escola", "■",0) -> 0 | CB33: =IF(CA33="■", $R33+$S33) -> FALSE | CC33: =IF($AZ33="Lidera", "■",0) -> 0 | CD33: =IF(CC33="■", $R33+$S33) -> FALSE | CE33: =IF($AZ33="Media@ção", "■",0) -> 0 | CF33: =IF(CE33="■", $R33+$S33) -> FALSE | CG33: =IF($AZ33="Mês Internacional da Biblioteca Escolar", "■",0) -> 0 | CH33: =IF(CG33="■", $R33+$S33) -> FALSE | CI33: =IF($AZ33="Miúdos a votos", "■",0) -> 0 | CJ33: =IF(CI33="■", $R33+$S33) -> FALSE | CK33: =IF($AZ33="Newton gostava de ler", "■",0) -> 0 | CL33: =IF(CK33="■", $R33+$S33) -> FALSE | CM33: =IF($AZ33="Proliteracias", "■",0) -> 0 | CN33: =IF(CM33="■", $R33+$S33) -> FALSE | CO33: =IF($AZ33="PÚBLICO na Escola", "■",0) -> 0 | CP33: =IF(CO33="■", $R33+$S33) -> FALSE | CQ33: =IF($AZ33="READ ON Portugal", "■",0) -> 0 | CR33: =IF(CQ33="■", $R33+$S33) -> FALSE | CS33: =IF($AZ33="Semana da leitura", "■",0) -> 0 | CT33: =IF(CS33="■", $R33+$S33) -> FALSE | CU33: =IF($AZ33="Supercharged by IA", "■",0) -> 0 | CV33: =IF(CU33="■", $R33+$S33) -> FALSE | CW33: =IF($AZ33="Todos Juntos Podemos Ler", "■",0) -> 0 | CX33: =IF(CW33="■", $R33+$S33) -> FALSE | CY33: =IF($AZ33="Voluntários de leitura", "■",0) -> 0 | CZ33: =IF(CY33="■", $R33+$S33) -> FALSE | DA33: =IF($AZ33="Outra(s)", "■",0) -> 0 | DB33: =IF(DA33="■", $R33+$S33) -> FALSE | DD33: =IF($BA33="Plano Nacional das Artes", "■",0) -> 0 | DE33: =IF(DD33="■", $R33+$S33) -> FALSE | DF33: =IF($BA33="Plano Nacional de Cinema", "■",0) -> 0 | DG33: =IF(DF33="■", $R33+$S33) -> FALSE | DH33: =IF($BA33="Plano Nacional de Formação Financeira", "■",0) -> 0 | DI33: =IF(DH33="■", $R33+$S33) -> FALSE | DJ33: =IF($BA33="Plano Nacional de Formação Financeira", "■",0) -> 0 | DK33: =IF(DJ33="■", $R33+$S33) -> FALSE | DL33: =IF($BA33="Outra(s)", "■",0) -> 0 | DM33: =IF(DL33="■", $R33+$S33) -> FALSE | DO33: =IF($BB33="Histórias com Ciência na Biblioteca Escolar", "■",0) -> 0 | DP33: =IF(DO33="■", $R33+$S33) -> FALSE | DQ33: =IF($BB33="Jornal escolar", "■",0) -> 0 | DR33: =IF(DQ33="■", $R33+$S33) -> FALSE | DS33: =IF($BB33="Rádio escolar", "■",0) -> 0 | DT33: =IF(DS33="■", $R33+$S33) -> FALSE | DU33: =IF($BB33="TV escolar", "■",0) -> 0 | DV33: =IF(DU33="■", $R33+$S33) -> FALSE | DW33: =IF($BB33="Outra(s)", "■",0) -> 0 | DX33: =IF(DW33="■", $R33+$S33) -> FALSE
B34: ='1. Plano anual atividades'!C36 -> 0 | D34: ='1. Plano anual atividades'!D36 -> 0 | E34: ='1. Plano anual atividades'!I36 -> 0 | F34: ='1. Plano anual atividades'!J36 -> 0 | G34: ='1. Plano anual atividades'!K36 -> 0 | H34: ='1. Plano anual atividades'!L36 -> 0 | I34: ='1. Plano anual atividades'!M36 -> 0 | J34: ='1. Plano anual atividades'!N36 -> 0 | K34: ='1. Plano anual atividades'!O36 -> 0 | L34: ='1. Plano anual atividades'!P36 -> 0 | ... N34: ='1. Plano anual atividades'!R36 -> 0 | Q34: =O34*P34 -> 0 | T34: =P34*R34 -> 0 | U34: =P34*S34 -> 0 | X34: =P34*V34 -> 0 | Y34: =P34*W34 -> 0 | AB34: ='1. Plano anual atividades'!E36 -> 0 | BC34: =IF($AZ34="7 dias com os media", "■",0) -> 0 | BD34: =IF(BC34="■", $R34+$S34) -> FALSE | BE34: =IF($AZ34="aLer mais e melhor", "■",0) -> 0 | BF34: =IF(BE34="■", $R34+$S34) -> FALSE | BG34: =IF($AZ34="Campeonato de Escrita e Ciência Criativa", "■",0) -> 0 | BH34: =IF(BG34="■", $R34+$S34) -> FALSE | BI34: =IF($AZ34="Cientificamente provável", "■",0) -> 0 | BJ34: =IF(BI34="■", $R34+$S34) -> FALSE | BK34: =IF($AZ34="Clássicos em rede", "■",0) -> 0 | BL34: =IF(BK34="■", $R34+$S34) -> FALSE | BM34: =IF($AZ34="Conto Contigo", "■",0) -> 0 | BN34: =IF(BM34="■", $R34+$S34) -> FALSE | BO34: =IF($AZ34="Dia da internet Mais Segura", "■",0) -> 0 | BP34: =IF(BO34="■", $R34+$S34) -> FALSE | BQ34: =IF($AZ34="Dia Mundial da Língua Portuguesa", "■",0) -> 0 | BR34: =IF(BQ34="■", $R34+$S34) -> FALSE | BS34: =IF($AZ34="Isto também é comigo", "■",0) -> 0 | BT34: =IF(BS34="■", $R34+$S34) -> FALSE | BU34: =IF($AZ34="Jornalistas em rede", "■",0) -> 0 | BV34: =IF(BU34="■", $R34+$S34) -> FALSE | BW34: =IF($AZ34="Juntos a criar", "■",0) -> 0 | BX34: =IF(BW34="■", $R34+$S34) -> FALSE | BY34: =IF($AZ34="Ler eescrever mais com a BE", "■",0) -> 0 | BZ34: =IF(BY34="■", $R34+$S34) -> FALSE | CA34: =IF($AZ34="Ler fora da escola", "■",0) -> 0 | CB34: =IF(CA34="■", $R34+$S34) -> FALSE | CC34: =IF($AZ34="Lidera", "■",0) -> 0 | CD34: =IF(CC34="■", $R34+$S34) -> FALSE | CE34: =IF($AZ34="Media@ção", "■",0) -> 0 | CF34: =IF(CE34="■", $R34+$S34) -> FALSE | CG34: =IF($AZ34="Mês Internacional da Biblioteca Escolar", "■",0) -> 0 | CH34: =IF(CG34="■", $R34+$S34) -> FALSE | CI34: =IF($AZ34="Miúdos a votos", "■",0) -> 0 | CJ34: =IF(CI34="■", $R34+$S34) -> FALSE | CK34: =IF($AZ34="Newton gostava de ler", "■",0) -> 0 | CL34: =IF(CK34="■", $R34+$S34) -> FALSE | CM34: =IF($AZ34="Proliteracias", "■",0) -> 0 | CN34: =IF(CM34="■", $R34+$S34) -> FALSE | CO34: =IF($AZ34="PÚBLICO na Escola", "■",0) -> 0 | CP34: =IF(CO34="■", $R34+$S34) -> FALSE | CQ34: =IF($AZ34="READ ON Portugal", "■",0) -> 0 | CR34: =IF(CQ34="■", $R34+$S34) -> FALSE | CS34: =IF($AZ34="Semana da leitura", "■",0) -> 0 | CT34: =IF(CS34="■", $R34+$S34) -> FALSE | CU34: =IF($AZ34="Supercharged by IA", "■",0) -> 0 | CV34: =IF(CU34="■", $R34+$S34) -> FALSE | CW34: =IF($AZ34="Todos Juntos Podemos Ler", "■",0) -> 0 | CX34: =IF(CW34="■", $R34+$S34) -> FALSE | CY34: =IF($AZ34="Voluntários de leitura", "■",0) -> 0 | CZ34: =IF(CY34="■", $R34+$S34) -> FALSE | DA34: =IF($AZ34="Outra(s)", "■",0) -> 0 | DB34: =IF(DA34="■", $R34+$S34) -> FALSE | DD34: =IF($BA34="Plano Nacional das Artes", "■",0) -> 0 | DE34: =IF(DD34="■", $R34+$S34) -> FALSE | DF34: =IF($BA34="Plano Nacional de Cinema", "■",0) -> 0 | DG34: =IF(DF34="■", $R34+$S34) -> FALSE | DH34: =IF($BA34="Plano Nacional de Formação Financeira", "■",0) -> 0 | DI34: =IF(DH34="■", $R34+$S34) -> FALSE | DJ34: =IF($BA34="Plano Nacional de Formação Financeira", "■",0) -> 0 | DK34: =IF(DJ34="■", $R34+$S34) -> FALSE | DL34: =IF($BA34="Outra(s)", "■",0) -> 0 | DM34: =IF(DL34="■", $R34+$S34) -> FALSE | DO34: =IF($BB34="Histórias com Ciência na Biblioteca Escolar", "■",0) -> 0 | DP34: =IF(DO34="■", $R34+$S34) -> FALSE | DQ34: =IF($BB34="Jornal escolar", "■",0) -> 0 | DR34: =IF(DQ34="■", $R34+$S34) -> FALSE | DS34: =IF($BB34="Rádio escolar", "■",0) -> 0 | DT34: =IF(DS34="■", $R34+$S34) -> FALSE | DU34: =IF($BB34="TV escolar", "■",0) -> 0 | DV34: =IF(DU34="■", $R34+$S34) -> FALSE | DW34: =IF($BB34="Outra(s)", "■",0) -> 0 | DX34: =IF(DW34="■", $R34+$S34) -> FALSE
B35: ='1. Plano anual atividades'!C37 -> 0 | D35: ='1. Plano anual atividades'!D37 -> 0 | E35: ='1. Plano anual atividades'!I37 -> 0 | F35: ='1. Plano anual atividades'!J37 -> 0 | G35: ='1. Plano anual atividades'!K37 -> 0 | H35: ='1. Plano anual atividades'!L37 -> 0 | I35: ='1. Plano anual atividades'!M37 -> 0 | J35: ='1. Plano anual atividades'!N37 -> 0 | K35: ='1. Plano anual atividades'!O37 -> 0 | L35: ='1. Plano anual atividades'!P37 -> 0 | ... N35: ='1. Plano anual atividades'!R37 -> 0 | Q35: =O35*P35 -> 0 | T35: =P35*R35 -> 0 | U35: =P35*S35 -> 0 | X35: =P35*V35 -> 0 | Y35: =P35*W35 -> 0 | AB35: ='1. Plano anual atividades'!E37 -> 0 | BC35: =IF($AZ35="7 dias com os media", "■",0) -> 0 | BD35: =IF(BC35="■", $R35+$S35) -> FALSE | BE35: =IF($AZ35="aLer mais e melhor", "■",0) -> 0 | BF35: =IF(BE35="■", $R35+$S35) -> FALSE | BG35: =IF($AZ35="Campeonato de Escrita e Ciência Criativa", "■",0) -> 0 | BH35: =IF(BG35="■", $R35+$S35) -> FALSE | BI35: =IF($AZ35="Cientificamente provável", "■",0) -> 0 | BJ35: =IF(BI35="■", $R35+$S35) -> FALSE | BK35: =IF($AZ35="Clássicos em rede", "■",0) -> 0 | BL35: =IF(BK35="■", $R35+$S35) -> FALSE | BM35: =IF($AZ35="Conto Contigo", "■",0) -> 0 | BN35: =IF(BM35="■", $R35+$S35) -> FALSE | BO35: =IF($AZ35="Dia da internet Mais Segura", "■",0) -> 0 | BP35: =IF(BO35="■", $R35+$S35) -> FALSE | BQ35: =IF($AZ35="Dia Mundial da Língua Portuguesa", "■",0) -> 0 | BR35: =IF(BQ35="■", $R35+$S35) -> FALSE | BS35: =IF($AZ35="Isto também é comigo", "■",0) -> 0 | BT35: =IF(BS35="■", $R35+$S35) -> FALSE | BU35: =IF($AZ35="Jornalistas em rede", "■",0) -> 0 | BV35: =IF(BU35="■", $R35+$S35) -> FALSE | BW35: =IF($AZ35="Juntos a criar", "■",0) -> 0 | BX35: =IF(BW35="■", $R35+$S35) -> FALSE | BY35: =IF($AZ35="Ler eescrever mais com a BE", "■",0) -> 0 | BZ35: =IF(BY35="■", $R35+$S35) -> FALSE | CA35: =IF($AZ35="Ler fora da escola", "■",0) -> 0 | CB35: =IF(CA35="■", $R35+$S35) -> FALSE | CC35: =IF($AZ35="Lidera", "■",0) -> 0 | CD35: =IF(CC35="■", $R35+$S35) -> FALSE | CE35: =IF($AZ35="Media@ção", "■",0) -> 0 | CF35: =IF(CE35="■", $R35+$S35) -> FALSE | CG35: =IF($AZ35="Mês Internacional da Biblioteca Escolar", "■",0) -> 0 | CH35: =IF(CG35="■", $R35+$S35) -> FALSE | CI35: =IF($AZ35="Miúdos a votos", "■",0) -> 0 | CJ35: =IF(CI35="■", $R35+$S35) -> FALSE | CK35: =IF($AZ35="Newton gostava de ler", "■",0) -> 0 | CL35: =IF(CK35="■", $R35+$S35) -> FALSE | CM35: =IF($AZ35="Proliteracias", "■",0) -> 0 | CN35: =IF(CM35="■", $R35+$S35) -> FALSE | CO35: =IF($AZ35="PÚBLICO na Escola", "■",0) -> 0 | CP35: =IF(CO35="■", $R35+$S35) -> FALSE | CQ35: =IF($AZ35="READ ON Portugal", "■",0) -> 0 | CR35: =IF(CQ35="■", $R35+$S35) -> FALSE | CS35: =IF($AZ35="Semana da leitura", "■",0) -> 0 | CT35: =IF(CS35="■", $R35+$S35) -> FALSE | CU35: =IF($AZ35="Supercharged by IA", "■",0) -> 0 | CV35: =IF(CU35="■", $R35+$S35) -> FALSE | CW35: =IF($AZ35="Todos Juntos Podemos Ler", "■",0) -> 0 | CX35: =IF(CW35="■", $R35+$S35) -> FALSE | CY35: =IF($AZ35="Voluntários de leitura", "■",0) -> 0 | CZ35: =IF(CY35="■", $R35+$S35) -> FALSE | DA35: =IF($AZ35="Outra(s)", "■",0) -> 0 | DB35: =IF(DA35="■", $R35+$S35) -> FALSE | DD35: =IF($BA35="Plano Nacional das Artes", "■",0) -> 0 | DE35: =IF(DD35="■", $R35+$S35) -> FALSE | DF35: =IF($BA35="Plano Nacional de Cinema", "■",0) -> 0 | DG35: =IF(DF35="■", $R35+$S35) -> FALSE | DH35: =IF($BA35="Plano Nacional de Formação Financeira", "■",0) -> 0 | DI35: =IF(DH35="■", $R35+$S35) -> FALSE | DJ35: =IF($BA35="Plano Nacional de Formação Financeira", "■",0) -> 0 | DK35: =IF(DJ35="■", $R35+$S35) -> FALSE | DL35: =IF($BA35="Outra(s)", "■",0) -> 0 | DM35: =IF(DL35="■", $R35+$S35) -> FALSE | DO35: =IF($BB35="Histórias com Ciência na Biblioteca Escolar", "■",0) -> 0 | DP35: =IF(DO35="■", $R35+$S35) -> FALSE | DQ35: =IF($BB35="Jornal escolar", "■",0) -> 0 | DR35: =IF(DQ35="■", $R35+$S35) -> FALSE | DS35: =IF($BB35="Rádio escolar", "■",0) -> 0 | DT35: =IF(DS35="■", $R35+$S35) -> FALSE | DU35: =IF($BB35="TV escolar", "■",0) -> 0 | DV35: =IF(DU35="■", $R35+$S35) -> FALSE | DW35: =IF($BB35="Outra(s)", "■",0) -> 0 | DX35: =IF(DW35="■", $R35+$S35) -> FALSE
B36: ='1. Plano anual atividades'!C38 -> 0 | D36: ='1. Plano anual atividades'!D38 -> 0 | E36: ='1. Plano anual atividades'!I38 -> 0 | F36: ='1. Plano anual atividades'!J38 -> 0 | G36: ='1. Plano anual atividades'!K38 -> 0 | H36: ='1. Plano anual atividades'!L38 -> 0 | I36: ='1. Plano anual atividades'!M38 -> 0 | J36: ='1. Plano anual atividades'!N38 -> 0 | K36: ='1. Plano anual atividades'!O38 -> 0 | L36: ='1. Plano anual atividades'!P38 -> 0 | ... N36: ='1. Plano anual atividades'!R38 -> 0 | Q36: =O36*P36 -> 0 | T36: =P36*R36 -> 0 | U36: =P36*S36 -> 0 | X36: =P36*V36 -> 0 | Y36: =P36*W36 -> 0 | AB36: ='1. Plano anual atividades'!#REF! -> #REF! | BC36: =IF($AZ36="7 dias com os media", "■",0) -> 0 | BD36: =IF(BC36="■", $R36+$S36) -> FALSE | BE36: =IF($AZ36="aLer mais e melhor", "■",0) -> 0 | BF36: =IF(BE36="■", $R36+$S36) -> FALSE | BG36: =IF($AZ36="Campeonato de Escrita e Ciência Criativa", "■",0) -> 0 | BH36: =IF(BG36="■", $R36+$S36) -> FALSE | BI36: =IF($AZ36="Cientificamente provável", "■",0) -> 0 | BJ36: =IF(BI36="■", $R36+$S36) -> FALSE | BK36: =IF($AZ36="Clássicos em rede", "■",0) -> 0 | BL36: =IF(BK36="■", $R36+$S36) -> FALSE | BM36: =IF($AZ36="Conto Contigo", "■",0) -> 0 | BN36: =IF(BM36="■", $R36+$S36) -> FALSE | BO36: =IF($AZ36="Dia da internet Mais Segura", "■",0) -> 0 | BP36: =IF(BO36="■", $R36+$S36) -> FALSE | BQ36: =IF($AZ36="Dia Mundial da Língua Portuguesa", "■",0) -> 0 | BR36: =IF(BQ36="■", $R36+$S36) -> FALSE | BS36: =IF($AZ36="Isto também é comigo", "■",0) -> 0 | BT36: =IF(BS36="■", $R36+$S36) -> FALSE | BU36: =IF($AZ36="Jornalistas em rede", "■",0) -> 0 | BV36: =IF(BU36="■", $R36+$S36) -> FALSE | BW36: =IF($AZ36="Juntos a criar", "■",0) -> 0 | BX36: =IF(BW36="■", $R36+$S36) -> FALSE | BY36: =IF($AZ36="Ler eescrever mais com a BE", "■",0) -> 0 | BZ36: =IF(BY36="■", $R36+$S36) -> FALSE | CA36: =IF($AZ36="Ler fora da escola", "■",0) -> 0 | CB36: =IF(CA36="■", $R36+$S36) -> FALSE | CC36: =IF($AZ36="Lidera", "■",0) -> 0 | CD36: =IF(CC36="■", $R36+$S36) -> FALSE | CE36: =IF($AZ36="Media@ção", "■",0) -> 0 | CF36: =IF(CE36="■", $R36+$S36) -> FALSE | CG36: =IF($AZ36="Mês Internacional da Biblioteca Escolar", "■",0) -> 0 | CH36: =IF(CG36="■", $R36+$S36) -> FALSE | CI36: =IF($AZ36="Miúdos a votos", "■",0) -> 0 | CJ36: =IF(CI36="■", $R36+$S36) -> FALSE | CK36: =IF($AZ36="Newton gostava de ler", "■",0) -> 0 | CL36: =IF(CK36="■", $R36+$S36) -> FALSE | CM36: =IF($AZ36="Proliteracias", "■",0) -> 0 | CN36: =IF(CM36="■", $R36+$S36) -> FALSE | CO36: =IF($AZ36="PÚBLICO na Escola", "■",0) -> 0 | CP36: =IF(CO36="■", $R36+$S36) -> FALSE | CQ36: =IF($AZ36="READ ON Portugal", "■",0) -> 0 | CR36: =IF(CQ36="■", $R36+$S36) -> FALSE | CS36: =IF($AZ36="Semana da leitura", "■",0) -> 0 | CT36: =IF(CS36="■", $R36+$S36) -> FALSE | CU36: =IF($AZ36="Supercharged by IA", "■",0) -> 0 | CV36: =IF(CU36="■", $R36+$S36) -> FALSE | CW36: =IF($AZ36="Todos Juntos Podemos Ler", "■",0) -> 0 | CX36: =IF(CW36="■", $R36+$S36) -> FALSE | CY36: =IF($AZ36="Voluntários de leitura", "■",0) -> 0 | CZ36: =IF(CY36="■", $R36+$S36) -> FALSE | DA36: =IF($AZ36="Outra(s)", "■",0) -> 0 | DB36: =IF(DA36="■", $R36+$S36) -> FALSE | DD36: =IF($BA36="Plano Nacional das Artes", "■",0) -> 0 | DE36: =IF(DD36="■", $R36+$S36) -> FALSE | DF36: =IF($BA36="Plano Nacional de Cinema", "■",0) -> 0 | DG36: =IF(DF36="■", $R36+$S36) -> FALSE | DH36: =IF($BA36="Plano Nacional de Formação Financeira", "■",0) -> 0 | DI36: =IF(DH36="■", $R36+$S36) -> FALSE | DJ36: =IF($BA36="Plano Nacional de Formação Financeira", "■",0) -> 0 | DK36: =IF(DJ36="■", $R36+$S36) -> FALSE | DL36: =IF($BA36="Outra(s)", "■",0) -> 0 | DM36: =IF(DL36="■", $R36+$S36) -> FALSE | DO36: =IF($BB36="Histórias com Ciência na Biblioteca Escolar", "■",0) -> 0 | DP36: =IF(DO36="■", $R36+$S36) -> FALSE | DQ36: =IF($BB36="Jornal escolar", "■",0) -> 0 | DR36: =IF(DQ36="■", $R36+$S36) -> FALSE | DS36: =IF($BB36="Rádio escolar", "■",0) -> 0 | DT36: =IF(DS36="■", $R36+$S36) -> FALSE | DU36: =IF($BB36="TV escolar", "■",0) -> 0 | DV36: =IF(DU36="■", $R36+$S36) -> FALSE | DW36: =IF($BB36="Outra(s)", "■",0) -> 0 | DX36: =IF(DW36="■", $R36+$S36) -> FALSE
B37: ='1. Plano anual atividades'!C39 -> 0 | D37: ='1. Plano anual atividades'!D39 -> 0 | E37: ='1. Plano anual atividades'!I39 -> 0 | F37: ='1. Plano anual atividades'!J39 -> 0 | G37: ='1. Plano anual atividades'!K39 -> 0 | H37: ='1. Plano anual atividades'!L39 -> 0 | I37: ='1. Plano anual atividades'!M39 -> 0 | J37: ='1. Plano anual atividades'!N39 -> 0 | K37: ='1. Plano anual atividades'!O39 -> 0 | L37: ='1. Plano anual atividades'!P39 -> 0 | ... N37: ='1. Plano anual atividades'!R39 -> 0 | Q37: =O37*P37 -> 0 | T37: =P37*R37 -> 0 | U37: =P37*S37 -> 0 | X37: =P37*V37 -> 0 | Y37: =P37*W37 -> 0 | AB37: ='1. Plano anual atividades'!E39 -> 0 | BC37: =IF($AZ37="7 dias com os media", "■",0) -> 0 | BD37: =IF(BC37="■", $R37+$S37) -> FALSE | BE37: =IF($AZ37="aLer mais e melhor", "■",0) -> 0 | BF37: =IF(BE37="■", $R37+$S37) -> FALSE | BG37: =IF($AZ37="Campeonato de Escrita e Ciência Criativa", "■",0) -> 0 | BH37: =IF(BG37="■", $R37+$S37) -> FALSE | BI37: =IF($AZ37="Cientificamente provável", "■",0) -> 0 | BJ37: =IF(BI37="■", $R37+$S37) -> FALSE | BK37: =IF($AZ37="Clássicos em rede", "■",0) -> 0 | BL37: =IF(BK37="■", $R37+$S37) -> FALSE | BM37: =IF($AZ37="Conto Contigo", "■",0) -> 0 | BN37: =IF(BM37="■", $R37+$S37) -> FALSE | BO37: =IF($AZ37="Dia da internet Mais Segura", "■",0) -> 0 | BP37: =IF(BO37="■", $R37+$S37) -> FALSE | BQ37: =IF($AZ37="Dia Mundial da Língua Portuguesa", "■",0) -> 0 | BR37: =IF(BQ37="■", $R37+$S37) -> FALSE | BS37: =IF($AZ37="Isto também é comigo", "■",0) -> 0 | BT37: =IF(BS37="■", $R37+$S37) -> FALSE | BU37: =IF($AZ37="Jornalistas em rede", "■",0) -> 0 | BV37: =IF(BU37="■", $R37+$S37) -> FALSE | BW37: =IF($AZ37="Juntos a criar", "■",0) -> 0 | BX37: =IF(BW37="■", $R37+$S37) -> FALSE | BY37: =IF($AZ37="Ler eescrever mais com a BE", "■",0) -> 0 | BZ37: =IF(BY37="■", $R37+$S37) -> FALSE | CA37: =IF($AZ37="Ler fora da escola", "■",0) -> 0 | CB37: =IF(CA37="■", $R37+$S37) -> FALSE | CC37: =IF($AZ37="Lidera", "■",0) -> 0 | CD37: =IF(CC37="■", $R37+$S37) -> FALSE | CE37: =IF($AZ37="Media@ção", "■",0) -> 0 | CF37: =IF(CE37="■", $R37+$S37) -> FALSE | CG37: =IF($AZ37="Mês Internacional da Biblioteca Escolar", "■",0) -> 0 | CH37: =IF(CG37="■", $R37+$S37) -> FALSE | CI37: =IF($AZ37="Miúdos a votos", "■",0) -> 0 | CJ37: =IF(CI37="■", $R37+$S37) -> FALSE | CK37: =IF($AZ37="Newton gostava de ler", "■",0) -> 0 | CL37: =IF(CK37="■", $R37+$S37) -> FALSE | CM37: =IF($AZ37="Proliteracias", "■",0) -> 0 | CN37: =IF(CM37="■", $R37+$S37) -> FALSE | CO37: =IF($AZ37="PÚBLICO na Escola", "■",0) -> 0 | CP37: =IF(CO37="■", $R37+$S37) -> FALSE | CQ37: =IF($AZ37="READ ON Portugal", "■",0) -> 0 | CR37: =IF(CQ37="■", $R37+$S37) -> FALSE | CS37: =IF($AZ37="Semana da leitura", "■",0) -> 0 | CT37: =IF(CS37="■", $R37+$S37) -> FALSE | CU37: =IF($AZ37="Supercharged by IA", "■",0) -> 0 | CV37: =IF(CU37="■", $R37+$S37) -> FALSE | CW37: =IF($AZ37="Todos Juntos Podemos Ler", "■",0) -> 0 | CX37: =IF(CW37="■", $R37+$S37) -> FALSE | CY37: =IF($AZ37="Voluntários de leitura", "■",0) -> 0 | CZ37: =IF(CY37="■", $R37+$S37) -> FALSE | DA37: =IF($AZ37="Outra(s)", "■",0) -> 0 | DB37: =IF(DA37="■", $R37+$S37) -> FALSE | DD37: =IF($BA37="Plano Nacional das Artes", "■",0) -> 0 | DE37: =IF(DD37="■", $R37+$S37) -> FALSE | DF37: =IF($BA37="Plano Nacional de Cinema", "■",0) -> 0 | DG37: =IF(DF37="■", $R37+$S37) -> FALSE | DH37: =IF($BA37="Plano Nacional de Formação Financeira", "■",0) -> 0 | DI37: =IF(DH37="■", $R37+$S37) -> FALSE | DJ37: =IF($BA37="Plano Nacional de Formação Financeira", "■",0) -> 0 | DK37: =IF(DJ37="■", $R37+$S37) -> FALSE | DL37: =IF($BA37="Outra(s)", "■",0) -> 0 | DM37: =IF(DL37="■", $R37+$S37) -> FALSE | DO37: =IF($BB37="Histórias com Ciência na Biblioteca Escolar", "■",0) -> 0 | DP37: =IF(DO37="■", $R37+$S37) -> FALSE | DQ37: =IF($BB37="Jornal escolar", "■",0) -> 0 | DR37: =IF(DQ37="■", $R37+$S37) -> FALSE | DS37: =IF($BB37="Rádio escolar", "■",0) -> 0 | DT37: =IF(DS37="■", $R37+$S37) -> FALSE | DU37: =IF($BB37="TV escolar", "■",0) -> 0 | DV37: =IF(DU37="■", $R37+$S37) -> FALSE | DW37: =IF($BB37="Outra(s)", "■",0) -> 0 | DX37: =IF(DW37="■", $R37+$S37) -> FALSE
B39: ='1. Plano anual atividades'!C41 -> 0 | C39: =COUNTA(C8:C37) -> 0 | D39: =COUNTIF(D8:D37, "■") -> 0 | E39: =COUNTIF(E8:E37, "■") -> 0 | F39: =COUNTIF(F8:F37, "■") -> 0 | G39: =COUNTIF(G8:G37, "■") -> 0 | H39: =COUNTIF(H8:H37, "■") -> 0 | I39: =COUNTIF(I8:I37, "■") -> 0 | J39: =COUNTIF(J8:J37, "■") -> 0 | K39: =COUNTIF(K8:K37, "■") -> 0 | ... N39: =COUNTIF(N8:N37, "■") -> 0 | O39: =SUM(O8:O37) -> 0 | P39: =SUM(P8:P37) -> 0 | Q39: =SUM(Q8:Q37) -> 0 | R39: =SUM(R8:R37) -> 0 | S39: =SUM(S8:S37) -> 0 | T39: =SUM(T8:T37) -> 0 | U39: =SUM(U8:U37) -> 0 | V39: =SUM(V8:V37) -> 0 | ... AA39: =SUM(AA8:AA37) -> 0 | AB39: =COUNTIF(AB8:AB37,"■") -> 0 | AC39: =COUNTIF(AC8:AC37, "■") -> 0 | AD39: =COUNTIF(AD8:AD37, "■") -> 0 | AE39: =COUNTIF(AE8:AE37, "■") -> 0 | AF39: =COUNTIF(AF8:AF37, "■") -> 0 | AG39: =COUNTIF(AG8:AG37, "■") -> 0 | AH39: =COUNTIF(AH8:AH37, "■") -> 0 | AI39: =COUNTIF(AI8:AI37, "■") -> 0 | AJ39: =COUNTIF(AJ8:AJ37, "■") -> 0 | ... AL39: =COUNTIF(AL8:AL37, "■") -> 0 | AM39: =SUM(AM8:AM37) -> 0 | AN39: =SUM(AN8:AN37) -> 0 | AO39: =SUM(AO8:AO37) -> 0 | AP39: =SUM(AP8:AP37) -> 0 | AQ39: =SUM(AQ8:AQ37) -> 0 | AR39: =SUM(AR8:AR37) -> 0 | AS39: =SUM(AS8:AS37) -> 0 | AT39: =SUM(AT8:AT37) -> 0 | ... AV39: =SUM(AV8:AV37) -> 0 | BD39: =SUM(BD8:BD37) -> 0 | BF39: =SUM(BF8:BF37) -> 0 | BH39: =SUM(BH8:BH37) -> 0 | BJ39: =SUM(BJ8:BJ37) -> 0 | BL39: =SUM(BL8:BL37) -> 0 | BN39: =SUM(BN8:BN37) -> 0 | BP39: =SUM(BP8:BP37) -> 0 | BR39: =SUM(BR8:BR37) -> 0 | BT39: =SUM(BT8:BT37) -> 0 | BV39: =SUM(BV8:BV37) -> 0 | BX39: =SUM(BX8:BX37) -> 0 | BZ39: =SUM(BZ8:BZ37) -> 0 | CB39: =SUM(CB8:CB37) -> 0 | CD39: =SUM(CD8:CD37) -> 0 | CF39: =SUM(CF8:CF37) -> 0 | CH39: =SUM(CH8:CH37) -> 0 | CJ39: =SUM(CJ8:CJ37) -> 0 | CL39: =SUM(CL8:CL37) -> 0 | CN39: =SUM(CN8:CN37) -> 0 | CP39: =SUM(CP8:CP37) -> 0 | CR39: =SUM(CR8:CR37) -> 0 | CT39: =SUM(CT8:CT37) -> 0 | CV39: =SUM(CV8:CV37) -> 0 | CX39: =SUM(CX8:CX37) -> 0 | CZ39: =SUM(CZ8:CZ37) -> 0 | DB39: =SUM(DB8:DB37) -> 0 | DE39: =SUM(DE8:DE37) -> 0 | DG39: =SUM(DG8:DG37) -> 0 | DI39: =SUM(DI8:DI37) -> 0 | DK39: =SUM(DK8:DK37) -> 0 | DM39: =SUM(DM8:DM37) -> 0 | DP39: =SUM(DP8:DP37) -> 0 | DR39: =SUM(DR8:DR37) -> 0 | DT39: =SUM(DT8:DT37) -> 0 | DV39: =SUM(DV8:DV37) -> 0 | DX39: =SUM(DX8:DX37) -> 0
B42: Domínio B - Leitura e literacia
E43: Projeto Educativo | O43: N.º total | Q43: N.º de participações | R43: N.º de alunos envolvidos | T43: N.º participações | U43: N.º participações | V43: N.º de docentes envolvidos | X43: N.º participações | Y43: N.º participações | AC43: Área de literacia | AF43: Área curricular e extracurricular | AM43: Alunos envolvidos | AR43: Docentes envolvidos | AW43: Nível de impacto | AY43: Projetos | AZ43: Propostas RBE | BA43: Propostas de outras instituições nacionais e internacionais | BB43: Propostas locais ou regionais
B44: Atividades planificadas | C44: Executada | D44: PM | E44: 1 | F44: 2 | G44: 3 | H44: 4 | I44: 5 | J44: 6 | K44: 7 | L44: 8 | M44: 9 | N44: 10 | O44: Turmas | P44: Aulas/ sessões | Q44: Turmas | R44: Individual | S44: Em turma | T44: Individual | U44: Em turma | V44: Individual | W44: Com turma | X44: Individual | Y44: Com turma | Z44: N.º de Pais e EE envolvidos | AA44: N.º de outros envolvidos | AB44: AcBE | AC44: L | AD44: I | AE44: M | AF44: L | AG44: CSH | AH44: MCE | AI44: ET | AJ44: ACT | AK44: ALF | AL44: Outras | AM44: Pré-Escolar | AN44: 1.º CEB | AO44: 2.º CEB | AP44: 3.º CEB | AQ44: Ensino Secundário | AR44: Pré-Escolar | AS44: 1.º CEB | AT44: 2.º CEB | AU44: 3.º CEB | AV44: Ensino Secundário | AW44: CC | AX44: AV | BC44: 7D | BD44: N.º alunos | BE44: aler+ | BF44: N.º alunos | BG44: ECC | BH44: N.º alunos | BI44: CP | BJ44: N.º alunos | BK44: CR | BL44: N.º alunos | BM44: CC | BN44: N.º alunos | BO44: DIS | BP44: N.º alunos | BQ44: DMLP | BR44: N.º alunos | BS44: ITEC | BT44: N.º alunos | BU44: JR | BV44: N.º alunos | BW44: JC | BX44: N.º alunos | BY44: LECBE | BZ44: N.º alunos | CA44: LFE | CB44: N.º alunos | CC44: L | CD44: N.º alunos | CE44: M | CF44: N.º alunos | CG44: MIBE | CH44: N.º alunos | CI44: MV | CJ44: N.º alunos | CK44: NGL | CL44: N.º alunos | CM44: P | CN44: N.º alunos | CO44: PE | CP44: N.º alunos | CQ44: RO | CR44: N.º alunos | CS44: SL | CT44: N.º alunos | CU44: SAI | CV44: N.º alunos | CW44: TJPL | CX44: N.º alunos | CY44: VL | CZ44: N.º alunos | DA44: O | DB44: N.º alunos | DD44: PNA | DE44: N.º alunos | DF44: PNC | DG44: N.º alunos | DH44: PNFF | DI44: N.º alunos | DJ44: PNFF | DK44: N.º alunos | DL44: O | DM44: N.º alunos | DO44: HCBE | DP44: N.º alunos | DQ44: JE | DR44: N.º alunos | DS44: RE | DT44: N.º alunos | DU44: TVE | DV44: N.º alunos | DW44: O | DX44: N.º alunos
B45: ='1. Plano anual atividades'!C47 -> 0 | D45: ='1. Plano anual atividades'!D47 -> 0 | E45: ='1. Plano anual atividades'!I47 -> 0 | F45: ='1. Plano anual atividades'!J47 -> 0 | G45: ='1. Plano anual atividades'!K47 -> 0 | H45: ='1. Plano anual atividades'!L47 -> 0 | I45: ='1. Plano anual atividades'!M47 -> 0 | J45: ='1. Plano anual atividades'!N47 -> 0 | K45: ='1. Plano anual atividades'!O47 -> 0 | L45: ='1. Plano anual atividades'!P47 -> 0 | ... N45: ='1. Plano anual atividades'!R47 -> 0 | Q45: =O45*P45 -> 0 | T45: =P45*R45 -> 0 | U45: =P45*S45 -> 0 | X45: =P45*V45 -> 0 | Y45: =P45*W45 -> 0 | AB45: ='1. Plano anual atividades'!E47 -> 0 | BC45: =IF($AZ45="7 dias com os media", "■",0) -> 0 | BD45: =IF(BC45="■", $R45+$S45) -> FALSE | BE45: =IF($AZ45="aLer mais e melhor", "■",0) -> 0 | BF45: =IF(BE45="■", $R45+$S45) -> FALSE | BG45: =IF($AZ45="Campeonato de Escrita e Ciência Criativa", "■",0) -> 0 | BH45: =IF(BG45="■", $R45+$S45) -> FALSE | BI45: =IF($AZ45="Cientificamente provável", "■",0) -> 0 | BJ45: =IF(BI45="■", $R45+$S45) -> FALSE | BK45: =IF($AZ45="Clássicos em rede", "■",0) -> 0 | BL45: =IF(BK45="■", $R45+$S45) -> FALSE | BM45: =IF($AZ45="Conto Contigo", "■",0) -> 0 | BN45: =IF(BM45="■", $R45+$S45) -> FALSE | BO45: =IF($AZ45="Dia da internet Mais Segura", "■",0) -> 0 | BP45: =IF(BO45="■", $R45+$S45) -> FALSE | BQ45: =IF($AZ45="Dia Mundial da Língua Portuguesa", "■",0) -> 0 | BR45: =IF(BQ45="■", $R45+$S45) -> FALSE | BS45: =IF($AZ45="Isto também é comigo", "■",0) -> 0 | BT45: =IF(BS45="■", $R45+$S45) -> FALSE | BU45: =IF($AZ45="Jornalistas em rede", "■",0) -> 0 | BV45: =IF(BU45="■", $R45+$S45) -> FALSE | BW45: =IF($AZ45="Juntos a criar", "■",0) -> 0 | BX45: =IF(BW45="■", $R45+$S45) -> FALSE | BY45: =IF($AZ45="Ler eescrever mais com a BE", "■",0) -> 0 | BZ45: =IF(BY45="■", $R45+$S45) -> FALSE | CA45: =IF($AZ45="Ler fora da escola", "■",0) -> 0 | CB45: =IF(CA45="■", $R45+$S45) -> FALSE | CC45: =IF($AZ45="Lidera", "■",0) -> 0 | CD45: =IF(CC45="■", $R45+$S45) -> FALSE | CE45: =IF($AZ45="Media@ção", "■",0) -> 0 | CF45: =IF(CE45="■", $R45+$S45) -> FALSE | CG45: =IF($AZ45="Mês Internacional da Biblioteca Escolar", "■",0) -> 0 | CH45: =IF(CG45="■", $R45+$S45) -> FALSE | CI45: =IF($AZ45="Miúdos a votos", "■",0) -> 0 | CJ45: =IF(CI45="■", $R45+$S45) -> FALSE | CK45: =IF($AZ45="Newton gostava de ler", "■",0) -> 0 | CL45: =IF(CK45="■", $R45+$S45) -> FALSE | CM45: =IF($AZ45="Proliteracias", "■",0) -> 0 | CN45: =IF(CM45="■", $R45+$S45) -> FALSE | CO45: =IF($AZ45="PÚBLICO na Escola", "■",0) -> 0 | CP45: =IF(CO45="■", $R45+$S45) -> FALSE | CQ45: =IF($AZ45="READ ON Portugal", "■",0) -> 0 | CR45: =IF(CQ45="■", $R45+$S45) -> FALSE | CS45: =IF($AZ45="Semana da leitura", "■",0) -> 0 | CT45: =IF(CS45="■", $R45+$S45) -> FALSE | CU45: =IF($AZ45="Supercharged by IA", "■",0) -> 0 | CV45: =IF(CU45="■", $R45+$S45) -> FALSE | CW45: =IF($AZ45="Todos Juntos Podemos Ler", "■",0) -> 0 | CX45: =IF(CW45="■", $R45+$S45) -> FALSE | CY45: =IF($AZ45="Voluntários de leitura", "■",0) -> 0 | CZ45: =IF(CY45="■", $R45+$S45) -> FALSE | DA45: =IF($AZ45="Outra(s)", "■",0) -> 0 | DB45: =IF(DA45="■", $R45+$S45) -> FALSE | DD45: =IF($BA45="Plano Nacional das Artes", "■",0) -> 0 | DE45: =IF(DD45="■", $R45+$S45) -> FALSE | DF45: =IF($BA45="Plano Nacional de Cinema", "■",0) -> 0 | DG45: =IF(DF45="■", $R45+$S45) -> FALSE | DH45: =IF($BA45="Plano Nacional de Formação Financeira", "■",0) -> 0 | DI45: =IF(DH45="■", $R45+$S45) -> FALSE | DJ45: =IF($BA45="Plano Nacional de Formação Financeira", "■",0) -> 0 | DK45: =IF(DJ45="■", $R45+$S45) -> FALSE | DL45: =IF($BA45="Outra(s)", "■",0) -> 0 | DM45: =IF(DL45="■", $R45+$S45) -> FALSE | DO45: =IF($BB45="Histórias com Ciência na Biblioteca Escolar", "■",0) -> 0 | DP45: =IF(DO45="■", $R45+$S45) -> FALSE | DQ45: =IF($BB45="Jornal escolar", "■",0) -> 0 | DR45: =IF(DQ45="■", $R45+$S45) -> FALSE | DS45: =IF($BB45="Rádio escolar", "■",0) -> 0 | DT45: =IF(DS45="■", $R45+$S45) -> FALSE | DU45: =IF($BB45="TV escolar", "■",0) -> 0 | DV45: =IF(DU45="■", $R45+$S45) -> FALSE | DW45: =IF($BB45="Outra(s)", "■",0) -> 0 | DX45: =IF(DW45="■", $R45+$S45) -> FALSE
B46: ='1. Plano anual atividades'!C48 -> 0 | D46: ='1. Plano anual atividades'!D48 -> 0 | E46: ='1. Plano anual atividades'!I48 -> 0 | F46: ='1. Plano anual atividades'!J48 -> 0 | G46: ='1. Plano anual atividades'!K48 -> 0 | H46: ='1. Plano anual atividades'!L48 -> 0 | I46: ='1. Plano anual atividades'!M48 -> 0 | J46: ='1. Plano anual atividades'!N48 -> 0 | K46: ='1. Plano anual atividades'!O48 -> 0 | L46: ='1. Plano anual atividades'!P48 -> 0 | ... N46: ='1. Plano anual atividades'!R48 -> 0 | Q46: =O46*P46 -> 0 | T46: =P46*R46 -> 0 | U46: =P46*S46 -> 0 | X46: =P46*V46 -> 0 | Y46: =P46*W46 -> 0 | AB46: ='1. Plano anual atividades'!E48 -> 0 | BC46: =IF($AZ46="7 dias com os media", "■",0) -> 0 | BD46: =IF(BC46="■", $R46+$S46) -> FALSE | BE46: =IF($AZ46="aLer mais e melhor", "■",0) -> 0 | BF46: =IF(BE46="■", $R46+$S46) -> FALSE | BG46: =IF($AZ46="Campeonato de Escrita e Ciência Criativa", "■",0) -> 0 | BH46: =IF(BG46="■", $R46+$S46) -> FALSE | BI46: =IF($AZ46="Cientificamente provável", "■",0) -> 0 | BJ46: =IF(BI46="■", $R46+$S46) -> FALSE | BK46: =IF($AZ46="Clássicos em rede", "■",0) -> 0 | BL46: =IF(BK46="■", $R46+$S46) -> FALSE | BM46: =IF($AZ46="Conto Contigo", "■",0) -> 0 | BN46: =IF(BM46="■", $R46+$S46) -> FALSE | BO46: =IF($AZ46="Dia da internet Mais Segura", "■",0) -> 0 | BP46: =IF(BO46="■", $R46+$S46) -> FALSE | BQ46: =IF($AZ46="Dia Mundial da Língua Portuguesa", "■",0) -> 0 | BR46: =IF(BQ46="■", $R46+$S46) -> FALSE | BS46: =IF($AZ46="Isto também é comigo", "■",0) -> 0 | BT46: =IF(BS46="■", $R46+$S46) -> FALSE | BU46: =IF($AZ46="Jornalistas em rede", "■",0) -> 0 | BV46: =IF(BU46="■", $R46+$S46) -> FALSE | BW46: =IF($AZ46="Juntos a criar", "■",0) -> 0 | BX46: =IF(BW46="■", $R46+$S46) -> FALSE | BY46: =IF($AZ46="Ler eescrever mais com a BE", "■",0) -> 0 | BZ46: =IF(BY46="■", $R46+$S46) -> FALSE | CA46: =IF($AZ46="Ler fora da escola", "■",0) -> 0 | CB46: =IF(CA46="■", $R46+$S46) -> FALSE | CC46: =IF($AZ46="Lidera", "■",0) -> 0 | CD46: =IF(CC46="■", $R46+$S46) -> FALSE | CE46: =IF($AZ46="Media@ção", "■",0) -> 0 | CF46: =IF(CE46="■", $R46+$S46) -> FALSE | CG46: =IF($AZ46="Mês Internacional da Biblioteca Escolar", "■",0) -> 0 | CH46: =IF(CG46="■", $R46+$S46) -> FALSE | CI46: =IF($AZ46="Miúdos a votos", "■",0) -> 0 | CJ46: =IF(CI46="■", $R46+$S46) -> FALSE | CK46: =IF($AZ46="Newton gostava de ler", "■",0) -> 0 | CL46: =IF(CK46="■", $R46+$S46) -> FALSE | CM46: =IF($AZ46="Proliteracias", "■",0) -> 0 | CN46: =IF(CM46="■", $R46+$S46) -> FALSE | CO46: =IF($AZ46="PÚBLICO na Escola", "■",0) -> 0 | CP46: =IF(CO46="■", $R46+$S46) -> FALSE | CQ46: =IF($AZ46="READ ON Portugal", "■",0) -> 0 | CR46: =IF(CQ46="■", $R46+$S46) -> FALSE | CS46: =IF($AZ46="Semana da leitura", "■",0) -> 0 | CT46: =IF(CS46="■", $R46+$S46) -> FALSE | CU46: =IF($AZ46="Supercharged by IA", "■",0) -> 0 | CV46: =IF(CU46="■", $R46+$S46) -> FALSE | CW46: =IF($AZ46="Todos Juntos Podemos Ler", "■",0) -> 0 | CX46: =IF(CW46="■", $R46+$S46) -> FALSE | CY46: =IF($AZ46="Voluntários de leitura", "■",0) -> 0 | CZ46: =IF(CY46="■", $R46+$S46) -> FALSE | DA46: =IF($AZ46="Outra(s)", "■",0) -> 0 | DB46: =IF(DA46="■", $R46+$S46) -> FALSE | DD46: =IF($BA46="Plano Nacional das Artes", "■",0) -> 0 | DE46: =IF(DD46="■", $R46+$S46) -> FALSE | DF46: =IF($BA46="Plano Nacional de Cinema", "■",0) -> 0 | DG46: =IF(DF46="■", $R46+$S46) -> FALSE | DH46: =IF($BA46="Plano Nacional de Formação Financeira", "■",0) -> 0 | DI46: =IF(DH46="■", $R46+$S46) -> FALSE | DJ46: =IF($BA46="Plano Nacional de Formação Financeira", "■",0) -> 0 | DK46: =IF(DJ46="■", $R46+$S46) -> FALSE | DL46: =IF($BA46="Outra(s)", "■",0) -> 0 | DM46: =IF(DL46="■", $R46+$S46) -> FALSE | DO46: =IF($BB46="Histórias com Ciência na Biblioteca Escolar", "■",0) -> 0 | DP46: =IF(DO46="■", $R46+$S46) -> FALSE | DQ46: =IF($BB46="Jornal escolar", "■",0) -> 0 | DR46: =IF(DQ46="■", $R46+$S46) -> FALSE | DS46: =IF($BB46="Rádio escolar", "■",0) -> 0 | DT46: =IF(DS46="■", $R46+$S46) -> FALSE | DU46: =IF($BB46="TV escolar", "■",0) -> 0 | DV46: =IF(DU46="■", $R46+$S46) -> FALSE | DW46: =IF($BB46="Outra(s)", "■",0) -> 0 | DX46: =IF(DW46="■", $R46+$S46) -> FALSE
B47: ='1. Plano anual atividades'!C49 -> 0 | D47: ='1. Plano anual atividades'!D49 -> 0 | E47: ='1. Plano anual atividades'!I49 -> 0 | F47: ='1. Plano anual atividades'!J49 -> 0 | G47: ='1. Plano anual atividades'!K49 -> 0 | H47: ='1. Plano anual atividades'!L49 -> 0 | I47: ='1. Plano anual atividades'!M49 -> 0 | J47: ='1. Plano anual atividades'!N49 -> 0 | K47: ='1. Plano anual atividades'!O49 -> 0 | L47: ='1. Plano anual atividades'!P49 -> 0 | ... N47: ='1. Plano anual atividades'!R49 -> 0 | Q47: =O47*P47 -> 0 | T47: =P47*R47 -> 0 | U47: =P47*S47 -> 0 | X47: =P47*V47 -> 0 | Y47: =P47*W47 -> 0 | AB47: ='1. Plano anual atividades'!E49 -> 0 | BC47: =IF($AZ47="7 dias com os media", "■",0) -> 0 | BD47: =IF(BC47="■", $R47+$S47) -> FALSE | BE47: =IF($AZ47="aLer mais e melhor", "■",0) -> 0 | BF47: =IF(BE47="■", $R47+$S47) -> FALSE | BG47: =IF($AZ47="Campeonato de Escrita e Ciência Criativa", "■",0) -> 0 | BH47: =IF(BG47="■", $R47+$S47) -> FALSE | BI47: =IF($AZ47="Cientificamente provável", "■",0) -> 0 | BJ47: =IF(BI47="■", $R47+$S47) -> FALSE | BK47: =IF($AZ47="Clássicos em rede", "■",0) -> 0 | BL47: =IF(BK47="■", $R47+$S47) -> FALSE | BM47: =IF($AZ47="Conto Contigo", "■",0) -> 0 | BN47: =IF(BM47="■", $R47+$S47) -> FALSE | BO47: =IF($AZ47="Dia da internet Mais Segura", "■",0) -> 0 | BP47: =IF(BO47="■", $R47+$S47) -> FALSE | BQ47: =IF($AZ47="Dia Mundial da Língua Portuguesa", "■",0) -> 0 | BR47: =IF(BQ47="■", $R47+$S47) -> FALSE | BS47: =IF($AZ47="Isto também é comigo", "■",0) -> 0 | BT47: =IF(BS47="■", $R47+$S47) -> FALSE | BU47: =IF($AZ47="Jornalistas em rede", "■",0) -> 0 | BV47: =IF(BU47="■", $R47+$S47) -> FALSE | BW47: =IF($AZ47="Juntos a criar", "■",0) -> 0 | BX47: =IF(BW47="■", $R47+$S47) -> FALSE | BY47: =IF($AZ47="Ler eescrever mais com a BE", "■",0) -> 0 | BZ47: =IF(BY47="■", $R47+$S47) -> FALSE | CA47: =IF($AZ47="Ler fora da escola", "■",0) -> 0 | CB47: =IF(CA47="■", $R47+$S47) -> FALSE | CC47: =IF($AZ47="Lidera", "■",0) -> 0 | CD47: =IF(CC47="■", $R47+$S47) -> FALSE | CE47: =IF($AZ47="Media@ção", "■",0) -> 0 | CF47: =IF(CE47="■", $R47+$S47) -> FALSE | CG47: =IF($AZ47="Mês Internacional da Biblioteca Escolar", "■",0) -> 0 | CH47: =IF(CG47="■", $R47+$S47) -> FALSE | CI47: =IF($AZ47="Miúdos a votos", "■",0) -> 0 | CJ47: =IF(CI47="■", $R47+$S47) -> FALSE | CK47: =IF($AZ47="Newton gostava de ler", "■",0) -> 0 | CL47: =IF(CK47="■", $R47+$S47) -> FALSE | CM47: =IF($AZ47="Proliteracias", "■",0) -> 0 | CN47: =IF(CM47="■", $R47+$S47) -> FALSE | CO47: =IF($AZ47="PÚBLICO na Escola", "■",0) -> 0 | CP47: =IF(CO47="■", $R47+$S47) -> FALSE | CQ47: =IF($AZ47="READ ON Portugal", "■",0) -> 0 | CR47: =IF(CQ47="■", $R47+$S47) -> FALSE | CS47: =IF($AZ47="Semana da leitura", "■",0) -> 0 | CT47: =IF(CS47="■", $R47+$S47) -> FALSE | CU47: =IF($AZ47="Supercharged by IA", "■",0) -> 0 | CV47: =IF(CU47="■", $R47+$S47) -> FALSE | CW47: =IF($AZ47="Todos Juntos Podemos Ler", "■",0) -> 0 | CX47: =IF(CW47="■", $R47+$S47) -> FALSE | CY47: =IF($AZ47="Voluntários de leitura", "■",0) -> 0 | CZ47: =IF(CY47="■", $R47+$S47) -> FALSE | DA47: =IF($AZ47="Outra(s)", "■",0) -> 0 | DB47: =IF(DA47="■", $R47+$S47) -> FALSE | DD47: =IF($BA47="Plano Nacional das Artes", "■",0) -> 0 | DE47: =IF(DD47="■", $R47+$S47) -> FALSE | DF47: =IF($BA47="Plano Nacional de Cinema", "■",0) -> 0 | DG47: =IF(DF47="■", $R47+$S47) -> FALSE | DH47: =IF($BA47="Plano Nacional de Formação Financeira", "■",0) -> 0 | DI47: =IF(DH47="■", $R47+$S47) -> FALSE | DJ47: =IF($BA47="Plano Nacional de Formação Financeira", "■",0) -> 0 | DK47: =IF(DJ47="■", $R47+$S47) -> FALSE | DL47: =IF($BA47="Outra(s)", "■",0) -> 0 | DM47: =IF(DL47="■", $R47+$S47) -> FALSE | DO47: =IF($BB47="Histórias com Ciência na Biblioteca Escolar", "■",0) -> 0 | DP47: =IF(DO47="■", $R47+$S47) -> FALSE | DQ47: =IF($BB47="Jornal escolar", "■",0) -> 0 | DR47: =IF(DQ47="■", $R47+$S47) -> FALSE | DS47: =IF($BB47="Rádio escolar", "■",0) -> 0 | DT47: =IF(DS47="■", $R47+$S47) -> FALSE | DU47: =IF($BB47="TV escolar", "■",0) -> 0 | DV47: =IF(DU47="■", $R47+$S47) -> FALSE | DW47: =IF($BB47="Outra(s)", "■",0) -> 0 | DX47: =IF(DW47="■", $R47+$S47) -> FALSE
B48: ='1. Plano anual atividades'!C50 -> 0 | D48: ='1. Plano anual atividades'!D50 -> 0 | E48: ='1. Plano anual atividades'!I50 -> 0 | F48: ='1. Plano anual atividades'!J50 -> 0 | G48: ='1. Plano anual atividades'!K50 -> 0 | H48: ='1. Plano anual atividades'!L50 -> 0 | I48: ='1. Plano anual atividades'!M50 -> 0 | J48: ='1. Plano anual atividades'!N50 -> 0 | K48: ='1. Plano anual atividades'!O50 -> 0 | L48: ='1. Plano anual atividades'!P50 -> 0 | ... N48: ='1. Plano anual atividades'!R50 -> 0 | Q48: =O48*P48 -> 0 | T48: =P48*R48 -> 0 | U48: =P48*S48 -> 0 | X48: =P48*V48 -> 0 | Y48: =P48*W48 -> 0 | AB48: ='1. Plano anual atividades'!E50 -> 0 | BC48: =IF($AZ48="7 dias com os media", "■",0) -> 0 | BD48: =IF(BC48="■", $R48+$S48) -> FALSE | BE48: =IF($AZ48="aLer mais e melhor", "■",0) -> 0 | BF48: =IF(BE48="■", $R48+$S48) -> FALSE | BG48: =IF($AZ48="Campeonato de Escrita e Ciência Criativa", "■",0) -> 0 | BH48: =IF(BG48="■", $R48+$S48) -> FALSE | BI48: =IF($AZ48="Cientificamente provável", "■",0) -> 0 | BJ48: =IF(BI48="■", $R48+$S48) -> FALSE | BK48: =IF($AZ48="Clássicos em rede", "■",0) -> 0 | BL48: =IF(BK48="■", $R48+$S48) -> FALSE | BM48: =IF($AZ48="Conto Contigo", "■",0) -> 0 | BN48: =IF(BM48="■", $R48+$S48) -> FALSE | BO48: =IF($AZ48="Dia da internet Mais Segura", "■",0) -> 0 | BP48: =IF(BO48="■", $R48+$S48) -> FALSE | BQ48: =IF($AZ48="Dia Mundial da Língua Portuguesa", "■",0) -> 0 | BR48: =IF(BQ48="■", $R48+$S48) -> FALSE | BS48: =IF($AZ48="Isto também é comigo", "■",0) -> 0 | BT48: =IF(BS48="■", $R48+$S48) -> FALSE | BU48: =IF($AZ48="Jornalistas em rede", "■",0) -> 0 | BV48: =IF(BU48="■", $R48+$S48) -> FALSE | BW48: =IF($AZ48="Juntos a criar", "■",0) -> 0 | BX48: =IF(BW48="■", $R48+$S48) -> FALSE | BY48: =IF($AZ48="Ler eescrever mais com a BE", "■",0) -> 0 | BZ48: =IF(BY48="■", $R48+$S48) -> FALSE | CA48: =IF($AZ48="Ler fora da escola", "■",0) -> 0 | CB48: =IF(CA48="■", $R48+$S48) -> FALSE | CC48: =IF($AZ48="Lidera", "■",0) -> 0 | CD48: =IF(CC48="■", $R48+$S48) -> FALSE | CE48: =IF($AZ48="Media@ção", "■",0) -> 0 | CF48: =IF(CE48="■", $R48+$S48) -> FALSE | CG48: =IF($AZ48="Mês Internacional da Biblioteca Escolar", "■",0) -> 0 | CH48: =IF(CG48="■", $R48+$S48) -> FALSE | CI48: =IF($AZ48="Miúdos a votos", "■",0) -> 0 | CJ48: =IF(CI48="■", $R48+$S48) -> FALSE | CK48: =IF($AZ48="Newton gostava de ler", "■",0) -> 0 | CL48: =IF(CK48="■", $R48+$S48) -> FALSE | CM48: =IF($AZ48="Proliteracias", "■",0) -> 0 | CN48: =IF(CM48="■", $R48+$S48) -> FALSE | CO48: =IF($AZ48="PÚBLICO na Escola", "■",0) -> 0 | CP48: =IF(CO48="■", $R48+$S48) -> FALSE | CQ48: =IF($AZ48="READ ON Portugal", "■",0) -> 0 | CR48: =IF(CQ48="■", $R48+$S48) -> FALSE | CS48: =IF($AZ48="Semana da leitura", "■",0) -> 0 | CT48: =IF(CS48="■", $R48+$S48) -> FALSE | CU48: =IF($AZ48="Supercharged by IA", "■",0) -> 0 | CV48: =IF(CU48="■", $R48+$S48) -> FALSE | CW48: =IF($AZ48="Todos Juntos Podemos Ler", "■",0) -> 0 | CX48: =IF(CW48="■", $R48+$S48) -> FALSE | CY48: =IF($AZ48="Voluntários de leitura", "■",0) -> 0 | CZ48: =IF(CY48="■", $R48+$S48) -> FALSE | DA48: =IF($AZ48="Outra(s)", "■",0) -> 0 | DB48: =IF(DA48="■", $R48+$S48) -> FALSE | DD48: =IF($BA48="Plano Nacional das Artes", "■",0) -> 0 | DE48: =IF(DD48="■", $R48+$S48) -> FALSE | DF48: =IF($BA48="Plano Nacional de Cinema", "■",0) -> 0 | DG48: =IF(DF48="■", $R48+$S48) -> FALSE | DH48: =IF($BA48="Plano Nacional de Formação Financeira", "■",0) -> 0 | DI48: =IF(DH48="■", $R48+$S48) -> FALSE | DJ48: =IF($BA48="Plano Nacional de Formação Financeira", "■",0) -> 0 | DK48: =IF(DJ48="■", $R48+$S48) -> FALSE | DL48: =IF($BA48="Outra(s)", "■",0) -> 0 | DM48: =IF(DL48="■", $R48+$S48) -> FALSE | DO48: =IF($BB48="Histórias com Ciência na Biblioteca Escolar", "■",0) -> 0 | DP48: =IF(DO48="■", $R48+$S48) -> FALSE | DQ48: =IF($BB48="Jornal escolar", "■",0) -> 0 | DR48: =IF(DQ48="■", $R48+$S48) -> FALSE | DS48: =IF($BB48="Rádio escolar", "■",0) -> 0 | DT48: =IF(DS48="■", $R48+$S48) -> FALSE | DU48: =IF($BB48="TV escolar", "■",0) -> 0 | DV48: =IF(DU48="■", $R48+$S48) -> FALSE | DW48: =IF($BB48="Outra(s)", "■",0) -> 0 | DX48: =IF(DW48="■", $R48+$S48) -> FALSE
B49: ='1. Plano anual atividades'!C51 -> 0 | D49: ='1. Plano anual atividades'!D51 -> 0 | E49: ='1. Plano anual atividades'!I51 -> 0 | F49: ='1. Plano anual atividades'!J51 -> 0 | G49: ='1. Plano anual atividades'!K51 -> 0 | H49: ='1. Plano anual atividades'!L51 -> 0 | I49: ='1. Plano anual atividades'!M51 -> 0 | J49: ='1. Plano anual atividades'!N51 -> 0 | K49: ='1. Plano anual atividades'!O51 -> 0 | L49: ='1. Plano anual atividades'!P51 -> 0 | ... N49: ='1. Plano anual atividades'!R51 -> 0 | Q49: =O49*P49 -> 0 | T49: =P49*R49 -> 0 | U49: =P49*S49 -> 0 | X49: =P49*V49 -> 0 | Y49: =P49*W49 -> 0 | AB49: ='1. Plano anual atividades'!E51 -> 0 | BC49: =IF($AZ49="7 dias com os media", "■",0) -> 0 | BD49: =IF(BC49="■", $R49+$S49) -> FALSE | BE49: =IF($AZ49="aLer mais e melhor", "■",0) -> 0 | BF49: =IF(BE49="■", $R49+$S49) -> FALSE | BG49: =IF($AZ49="Campeonato de Escrita e Ciência Criativa", "■",0) -> 0 | BH49: =IF(BG49="■", $R49+$S49) -> FALSE | BI49: =IF($AZ49="Cientificamente provável", "■",0) -> 0 | BJ49: =IF(BI49="■", $R49+$S49) -> FALSE | BK49: =IF($AZ49="Clássicos em rede", "■",0) -> 0 | BL49: =IF(BK49="■", $R49+$S49) -> FALSE | BM49: =IF($AZ49="Conto Contigo", "■",0) -> 0 | BN49: =IF(BM49="■", $R49+$S49) -> FALSE | BO49: =IF($AZ49="Dia da internet Mais Segura", "■",0) -> 0 | BP49: =IF(BO49="■", $R49+$S49) -> FALSE | BQ49: =IF($AZ49="Dia Mundial da Língua Portuguesa", "■",0) -> 0 | BR49: =IF(BQ49="■", $R49+$S49) -> FALSE | BS49: =IF($AZ49="Isto também é comigo", "■",0) -> 0 | BT49: =IF(BS49="■", $R49+$S49) -> FALSE | BU49: =IF($AZ49="Jornalistas em rede", "■",0) -> 0 | BV49: =IF(BU49="■", $R49+$S49) -> FALSE | BW49: =IF($AZ49="Juntos a criar", "■",0) -> 0 | BX49: =IF(BW49="■", $R49+$S49) -> FALSE | BY49: =IF($AZ49="Ler eescrever mais com a BE", "■",0) -> 0 | BZ49: =IF(BY49="■", $R49+$S49) -> FALSE | CA49: =IF($AZ49="Ler fora da escola", "■",0) -> 0 | CB49: =IF(CA49="■", $R49+$S49) -> FALSE | CC49: =IF($AZ49="Lidera", "■",0) -> 0 | CD49: =IF(CC49="■", $R49+$S49) -> FALSE | CE49: =IF($AZ49="Media@ção", "■",0) -> 0 | CF49: =IF(CE49="■", $R49+$S49) -> FALSE | CG49: =IF($AZ49="Mês Internacional da Biblioteca Escolar", "■",0) -> 0 | CH49: =IF(CG49="■", $R49+$S49) -> FALSE | CI49: =IF($AZ49="Miúdos a votos", "■",0) -> 0 | CJ49: =IF(CI49="■", $R49+$S49) -> FALSE | CK49: =IF($AZ49="Newton gostava de ler", "■",0) -> 0 | CL49: =IF(CK49="■", $R49+$S49) -> FALSE | CM49: =IF($AZ49="Proliteracias", "■",0) -> 0 | CN49: =IF(CM49="■", $R49+$S49) -> FALSE | CO49: =IF($AZ49="PÚBLICO na Escola", "■",0) -> 0 | CP49: =IF(CO49="■", $R49+$S49) -> FALSE | CQ49: =IF($AZ49="READ ON Portugal", "■",0) -> 0 | CR49: =IF(CQ49="■", $R49+$S49) -> FALSE | CS49: =IF($AZ49="Semana da leitura", "■",0) -> 0 | CT49: =IF(CS49="■", $R49+$S49) -> FALSE | CU49: =IF($AZ49="Supercharged by IA", "■",0) -> 0 | CV49: =IF(CU49="■", $R49+$S49) -> FALSE | CW49: =IF($AZ49="Todos Juntos Podemos Ler", "■",0) -> 0 | CX49: =IF(CW49="■", $R49+$S49) -> FALSE | CY49: =IF($AZ49="Voluntários de leitura", "■",0) -> 0 | CZ49: =IF(CY49="■", $R49+$S49) -> FALSE | DA49: =IF($AZ49="Outra(s)", "■",0) -> 0 | DB49: =IF(DA49="■", $R49+$S49) -> FALSE | DD49: =IF($BA49="Plano Nacional das Artes", "■",0) -> 0 | DE49: =IF(DD49="■", $R49+$S49) -> FALSE | DF49: =IF($BA49="Plano Nacional de Cinema", "■",0) -> 0 | DG49: =IF(DF49="■", $R49+$S49) -> FALSE | DH49: =IF($BA49="Plano Nacional de Formação Financeira", "■",0) -> 0 | DI49: =IF(DH49="■", $R49+$S49) -> FALSE | DJ49: =IF($BA49="Plano Nacional de Formação Financeira", "■",0) -> 0 | DK49: =IF(DJ49="■", $R49+$S49) -> FALSE | DL49: =IF($BA49="Outra(s)", "■",0) -> 0 | DM49: =IF(DL49="■", $R49+$S49) -> FALSE | DO49: =IF($BB49="Histórias com Ciência na Biblioteca Escolar", "■",0) -> 0 | DP49: =IF(DO49="■", $R49+$S49) -> FALSE | DQ49: =IF($BB49="Jornal escolar", "■",0) -> 0 | DR49: =IF(DQ49="■", $R49+$S49) -> FALSE | DS49: =IF($BB49="Rádio escolar", "■",0) -> 0 | DT49: =IF(DS49="■", $R49+$S49) -> FALSE | DU49: =IF($BB49="TV escolar", "■",0) -> 0 | DV49: =IF(DU49="■", $R49+$S49) -> FALSE | DW49: =IF($BB49="Outra(s)", "■",0) -> 0 | DX49: =IF(DW49="■", $R49+$S49) -> FALSE
B50: ='1. Plano anual atividades'!C52 -> 0 | D50: ='1. Plano anual atividades'!D52 -> 0 | E50: ='1. Plano anual atividades'!I52 -> 0 | F50: ='1. Plano anual atividades'!J52 -> 0 | G50: ='1. Plano anual atividades'!K52 -> 0 | H50: ='1. Plano anual atividades'!L52 -> 0 | I50: ='1. Plano anual atividades'!M52 -> 0 | J50: ='1. Plano anual atividades'!N52 -> 0 | K50: ='1. Plano anual atividades'!O52 -> 0 | L50: ='1. Plano anual atividades'!P52 -> 0 | ... N50: ='1. Plano anual atividades'!R52 -> 0 | Q50: =O50*P50 -> 0 | T50: =P50*R50 -> 0 | U50: =P50*S50 -> 0 | X50: =P50*V50 -> 0 | Y50: =P50*W50 -> 0 | AB50: ='1. Plano anual atividades'!E52 -> 0 | BC50: =IF($AZ50="7 dias com os media", "■",0) -> 0 | BD50: =IF(BC50="■", $R50+$S50) -> FALSE | BE50: =IF($AZ50="aLer mais e melhor", "■",0) -> 0 | BF50: =IF(BE50="■", $R50+$S50) -> FALSE | BG50: =IF($AZ50="Campeonato de Escrita e Ciência Criativa", "■",0) -> 0 | BH50: =IF(BG50="■", $R50+$S50) -> FALSE | BI50: =IF($AZ50="Cientificamente provável", "■",0) -> 0 | BJ50: =IF(BI50="■", $R50+$S50) -> FALSE | BK50: =IF($AZ50="Clássicos em rede", "■",0) -> 0 | BL50: =IF(BK50="■", $R50+$S50) -> FALSE | BM50: =IF($AZ50="Conto Contigo", "■",0) -> 0 | BN50: =IF(BM50="■", $R50+$S50) -> FALSE | BO50: =IF($AZ50="Dia da internet Mais Segura", "■",0) -> 0 | BP50: =IF(BO50="■", $R50+$S50) -> FALSE | BQ50: =IF($AZ50="Dia Mundial da Língua Portuguesa", "■",0) -> 0 | BR50: =IF(BQ50="■", $R50+$S50) -> FALSE | BS50: =IF($AZ50="Isto também é comigo", "■",0) -> 0 | BT50: =IF(BS50="■", $R50+$S50) -> FALSE | BU50: =IF($AZ50="Jornalistas em rede", "■",0) -> 0 | BV50: =IF(BU50="■", $R50+$S50) -> FALSE | BW50: =IF($AZ50="Juntos a criar", "■",0) -> 0 | BX50: =IF(BW50="■", $R50+$S50) -> FALSE | BY50: =IF($AZ50="Ler eescrever mais com a BE", "■",0) -> 0 | BZ50: =IF(BY50="■", $R50+$S50) -> FALSE | CA50: =IF($AZ50="Ler fora da escola", "■",0) -> 0 | CB50: =IF(CA50="■", $R50+$S50) -> FALSE | CC50: =IF($AZ50="Lidera", "■",0) -> 0 | CD50: =IF(CC50="■", $R50+$S50) -> FALSE | CE50: =IF($AZ50="Media@ção", "■",0) -> 0 | CF50: =IF(CE50="■", $R50+$S50) -> FALSE | CG50: =IF($AZ50="Mês Internacional da Biblioteca Escolar", "■",0) -> 0 | CH50: =IF(CG50="■", $R50+$S50) -> FALSE | CI50: =IF($AZ50="Miúdos a votos", "■",0) -> 0 | CJ50: =IF(CI50="■", $R50+$S50) -> FALSE | CK50: =IF($AZ50="Newton gostava de ler", "■",0) -> 0 | CL50: =IF(CK50="■", $R50+$S50) -> FALSE | CM50: =IF($AZ50="Proliteracias", "■",0) -> 0 | CN50: =IF(CM50="■", $R50+$S50) -> FALSE | CO50: =IF($AZ50="PÚBLICO na Escola", "■",0) -> 0 | CP50: =IF(CO50="■", $R50+$S50) -> FALSE | CQ50: =IF($AZ50="READ ON Portugal", "■",0) -> 0 | CR50: =IF(CQ50="■", $R50+$S50) -> FALSE | CS50: =IF($AZ50="Semana da leitura", "■",0) -> 0 | CT50: =IF(CS50="■", $R50+$S50) -> FALSE | CU50: =IF($AZ50="Supercharged by IA", "■",0) -> 0 | CV50: =IF(CU50="■", $R50+$S50) -> FALSE | CW50: =IF($AZ50="Todos Juntos Podemos Ler", "■",0) -> 0 | CX50: =IF(CW50="■", $R50+$S50) -> FALSE | CY50: =IF($AZ50="Voluntários de leitura", "■",0) -> 0 | CZ50: =IF(CY50="■", $R50+$S50) -> FALSE | DA50: =IF($AZ50="Outra(s)", "■",0) -> 0 | DB50: =IF(DA50="■", $R50+$S50) -> FALSE | DD50: =IF($BA50="Plano Nacional das Artes", "■",0) -> 0 | DE50: =IF(DD50="■", $R50+$S50) -> FALSE | DF50: =IF($BA50="Plano Nacional de Cinema", "■",0) -> 0 | DG50: =IF(DF50="■", $R50+$S50) -> FALSE | DH50: =IF($BA50="Plano Nacional de Formação Financeira", "■",0) -> 0 | DI50: =IF(DH50="■", $R50+$S50) -> FALSE | DJ50: =IF($BA50="Plano Nacional de Formação Financeira", "■",0) -> 0 | DK50: =IF(DJ50="■", $R50+$S50) -> FALSE | DL50: =IF($BA50="Outra(s)", "■",0) -> 0 | DM50: =IF(DL50="■", $R50+$S50) -> FALSE | DO50: =IF($BB50="Histórias com Ciência na Biblioteca Escolar", "■",0) -> 0 | DP50: =IF(DO50="■", $R50+$S50) -> FALSE | DQ50: =IF($BB50="Jornal escolar", "■",0) -> 0 | DR50: =IF(DQ50="■", $R50+$S50) -> FALSE | DS50: =IF($BB50="Rádio escolar", "■",0) -> 0 | DT50: =IF(DS50="■", $R50+$S50) -> FALSE | DU50: =IF($BB50="TV escolar", "■",0) -> 0 | DV50: =IF(DU50="■", $R50+$S50) -> FALSE | DW50: =IF($BB50="Outra(s)", "■",0) -> 0 | DX50: =IF(DW50="■", $R50+$S50) -> FALSE
B51: ='1. Plano anual atividades'!C53 -> 0 | D51: ='1. Plano anual atividades'!D53 -> 0 | E51: ='1. Plano anual atividades'!I53 -> 0 | F51: ='1. Plano anual atividades'!J53 -> 0 | G51: ='1. Plano anual atividades'!K53 -> 0 | H51: ='1. Plano anual atividades'!L53 -> 0 | I51: ='1. Plano anual atividades'!M53 -> 0 | J51: ='1. Plano anual atividades'!N53 -> 0 | K51: ='1. Plano anual atividades'!O53 -> 0 | L51: ='1. Plano anual atividades'!P53 -> 0 | ... N51: ='1. Plano anual atividades'!R53 -> 0 | Q51: =O51*P51 -> 0 | T51: =P51*R51 -> 0 | U51: =P51*S51 -> 0 | X51: =P51*V51 -> 0 | Y51: =P51*W51 -> 0 | AB51: ='1. Plano anual atividades'!E53 -> 0 | BC51: =IF($AZ51="7 dias com os media", "■",0) -> 0 | BD51: =IF(BC51="■", $R51+$S51) -> FALSE | BE51: =IF($AZ51="aLer mais e melhor", "■",0) -> 0 | BF51: =IF(BE51="■", $R51+$S51) -> FALSE | BG51: =IF($AZ51="Campeonato de Escrita e Ciência Criativa", "■",0) -> 0 | BH51: =IF(BG51="■", $R51+$S51) -> FALSE | BI51: =IF($AZ51="Cientificamente provável", "■",0) -> 0 | BJ51: =IF(BI51="■", $R51+$S51) -> FALSE | BK51: =IF($AZ51="Clássicos em rede", "■",0) -> 0 | BL51: =IF(BK51="■", $R51+$S51) -> FALSE | BM51: =IF($AZ51="Conto Contigo", "■",0) -> 0 | BN51: =IF(BM51="■", $R51+$S51) -> FALSE | BO51: =IF($AZ51="Dia da internet Mais Segura", "■",0) -> 0 | BP51: =IF(BO51="■", $R51+$S51) -> FALSE | BQ51: =IF($AZ51="Dia Mundial da Língua Portuguesa", "■",0) -> 0 | BR51: =IF(BQ51="■", $R51+$S51) -> FALSE | BS51: =IF($AZ51="Isto também é comigo", "■",0) -> 0 | BT51: =IF(BS51="■", $R51+$S51) -> FALSE | BU51: =IF($AZ51="Jornalistas em rede", "■",0) -> 0 | BV51: =IF(BU51="■", $R51+$S51) -> FALSE | BW51: =IF($AZ51="Juntos a criar", "■",0) -> 0 | BX51: =IF(BW51="■", $R51+$S51) -> FALSE | BY51: =IF($AZ51="Ler eescrever mais com a BE", "■",0) -> 0 | BZ51: =IF(BY51="■", $R51+$S51) -> FALSE | CA51: =IF($AZ51="Ler fora da escola", "■",0) -> 0 | CB51: =IF(CA51="■", $R51+$S51) -> FALSE | CC51: =IF($AZ51="Lidera", "■",0) -> 0 | CD51: =IF(CC51="■", $R51+$S51) -> FALSE | CE51: =IF($AZ51="Media@ção", "■",0) -> 0 | CF51: =IF(CE51="■", $R51+$S51) -> FALSE | CG51: =IF($AZ51="Mês Internacional da Biblioteca Escolar", "■",0) -> 0 | CH51: =IF(CG51="■", $R51+$S51) -> FALSE | CI51: =IF($AZ51="Miúdos a votos", "■",0) -> 0 | CJ51: =IF(CI51="■", $R51+$S51) -> FALSE | CK51: =IF($AZ51="Newton gostava de ler", "■",0) -> 0 | CL51: =IF(CK51="■", $R51+$S51) -> FALSE | CM51: =IF($AZ51="Proliteracias", "■",0) -> 0 | CN51: =IF(CM51="■", $R51+$S51) -> FALSE | CO51: =IF($AZ51="PÚBLICO na Escola", "■",0) -> 0 | CP51: =IF(CO51="■", $R51+$S51) -> FALSE | CQ51: =IF($AZ51="READ ON Portugal", "■",0) -> 0 | CR51: =IF(CQ51="■", $R51+$S51) -> FALSE | CS51: =IF($AZ51="Semana da leitura", "■",0) -> 0 | CT51: =IF(CS51="■", $R51+$S51) -> FALSE | CU51: =IF($AZ51="Supercharged by IA", "■",0) -> 0 | CV51: =IF(CU51="■", $R51+$S51) -> FALSE | CW51: =IF($AZ51="Todos Juntos Podemos Ler", "■",0) -> 0 | CX51: =IF(CW51="■", $R51+$S51) -> FALSE | CY51: =IF($AZ51="Voluntários de leitura", "■",0) -> 0 | CZ51: =IF(CY51="■", $R51+$S51) -> FALSE | DA51: =IF($AZ51="Outra(s)", "■",0) -> 0 | DB51: =IF(DA51="■", $R51+$S51) -> FALSE | DD51: =IF($BA51="Plano Nacional das Artes", "■",0) -> 0 | DE51: =IF(DD51="■", $R51+$S51) -> FALSE | DF51: =IF($BA51="Plano Nacional de Cinema", "■",0) -> 0 | DG51: =IF(DF51="■", $R51+$S51) -> FALSE | DH51: =IF($BA51="Plano Nacional de Formação Financeira", "■",0) -> 0 | DI51: =IF(DH51="■", $R51+$S51) -> FALSE | DJ51: =IF($BA51="Plano Nacional de Formação Financeira", "■",0) -> 0 | DK51: =IF(DJ51="■", $R51+$S51) -> FALSE | DL51: =IF($BA51="Outra(s)", "■",0) -> 0 | DM51: =IF(DL51="■", $R51+$S51) -> FALSE | DO51: =IF($BB51="Histórias com Ciência na Biblioteca Escolar", "■",0) -> 0 | DP51: =IF(DO51="■", $R51+$S51) -> FALSE | DQ51: =IF($BB51="Jornal escolar", "■",0) -> 0 | DR51: =IF(DQ51="■", $R51+$S51) -> FALSE | DS51: =IF($BB51="Rádio escolar", "■",0) -> 0 | DT51: =IF(DS51="■", $R51+$S51) -> FALSE | DU51: =IF($BB51="TV escolar", "■",0) -> 0 | DV51: =IF(DU51="■", $R51+$S51) -> FALSE | DW51: =IF($BB51="Outra(s)", "■",0) -> 0 | DX51: =IF(DW51="■", $R51+$S51) -> FALSE
B52: ='1. Plano anual atividades'!C54 -> 0 | D52: ='1. Plano anual atividades'!D54 -> 0 | E52: ='1. Plano anual atividades'!I54 -> 0 | F52: ='1. Plano anual atividades'!J54 -> 0 | G52: ='1. Plano anual atividades'!K54 -> 0 | H52: ='1. Plano anual atividades'!L54 -> 0 | I52: ='1. Plano anual atividades'!M54 -> 0 | J52: ='1. Plano anual atividades'!N54 -> 0 | K52: ='1. Plano anual atividades'!O54 -> 0 | L52: ='1. Plano anual atividades'!P54 -> 0 | ... N52: ='1. Plano anual atividades'!R54 -> 0 | Q52: =O52*P52 -> 0 | T52: =P52*R52 -> 0 | U52: =P52*S52 -> 0 | X52: =P52*V52 -> 0 | Y52: =P52*W52 -> 0 | AB52: ='1. Plano anual atividades'!E54 -> 0 | BC52: =IF($AZ52="7 dias com os media", "■",0) -> 0 | BD52: =IF(BC52="■", $R52+$S52) -> FALSE | BE52: =IF($AZ52="aLer mais e melhor", "■",0) -> 0 | BF52: =IF(BE52="■", $R52+$S52) -> FALSE | BG52: =IF($AZ52="Campeonato de Escrita e Ciência Criativa", "■",0) -> 0 | BH52: =IF(BG52="■", $R52+$S52) -> FALSE | BI52: =IF($AZ52="Cientificamente provável", "■",0) -> 0 | BJ52: =IF(BI52="■", $R52+$S52) -> FALSE | BK52: =IF($AZ52="Clássicos em rede", "■",0) -> 0 | BL52: =IF(BK52="■", $R52+$S52) -> FALSE | BM52: =IF($AZ52="Conto Contigo", "■",0) -> 0 | BN52: =IF(BM52="■", $R52+$S52) -> FALSE | BO52: =IF($AZ52="Dia da internet Mais Segura", "■",0) -> 0 | BP52: =IF(BO52="■", $R52+$S52) -> FALSE | BQ52: =IF($AZ52="Dia Mundial da Língua Portuguesa", "■",0) -> 0 | BR52: =IF(BQ52="■", $R52+$S52) -> FALSE | BS52: =IF($AZ52="Isto também é comigo", "■",0) -> 0 | BT52: =IF(BS52="■", $R52+$S52) -> FALSE | BU52: =IF($AZ52="Jornalistas em rede", "■",0) -> 0 | BV52: =IF(BU52="■", $R52+$S52) -> FALSE | BW52: =IF($AZ52="Juntos a criar", "■",0) -> 0 | BX52: =IF(BW52="■", $R52+$S52) -> FALSE | BY52: =IF($AZ52="Ler eescrever mais com a BE", "■",0) -> 0 | BZ52: =IF(BY52="■", $R52+$S52) -> FALSE | CA52: =IF($AZ52="Ler fora da escola", "■",0) -> 0 | CB52: =IF(CA52="■", $R52+$S52) -> FALSE | CC52: =IF($AZ52="Lidera", "■",0) -> 0 | CD52: =IF(CC52="■", $R52+$S52) -> FALSE | CE52: =IF($AZ52="Media@ção", "■",0) -> 0 | CF52: =IF(CE52="■", $R52+$S52) -> FALSE | CG52: =IF($AZ52="Mês Internacional da Biblioteca Escolar", "■",0) -> 0 | CH52: =IF(CG52="■", $R52+$S52) -> FALSE | CI52: =IF($AZ52="Miúdos a votos", "■",0) -> 0 | CJ52: =IF(CI52="■", $R52+$S52) -> FALSE | CK52: =IF($AZ52="Newton gostava de ler", "■",0) -> 0 | CL52: =IF(CK52="■", $R52+$S52) -> FALSE | CM52: =IF($AZ52="Proliteracias", "■",0) -> 0 | CN52: =IF(CM52="■", $R52+$S52) -> FALSE | CO52: =IF($AZ52="PÚBLICO na Escola", "■",0) -> 0 | CP52: =IF(CO52="■", $R52+$S52) -> FALSE | CQ52: =IF($AZ52="READ ON Portugal", "■",0) -> 0 | CR52: =IF(CQ52="■", $R52+$S52) -> FALSE | CS52: =IF($AZ52="Semana da leitura", "■",0) -> 0 | CT52: =IF(CS52="■", $R52+$S52) -> FALSE | CU52: =IF($AZ52="Supercharged by IA", "■",0) -> 0 | CV52: =IF(CU52="■", $R52+$S52) -> FALSE | CW52: =IF($AZ52="Todos Juntos Podemos Ler", "■",0) -> 0 | CX52: =IF(CW52="■", $R52+$S52) -> FALSE | CY52: =IF($AZ52="Voluntários de leitura", "■",0) -> 0 | CZ52: =IF(CY52="■", $R52+$S52) -> FALSE | DA52: =IF($AZ52="Outra(s)", "■",0) -> 0 | DB52: =IF(DA52="■", $R52+$S52) -> FALSE | DD52: =IF($BA52="Plano Nacional das Artes", "■",0) -> 0 | DE52: =IF(DD52="■", $R52+$S52) -> FALSE | DF52: =IF($BA52="Plano Nacional de Cinema", "■",0) -> 0 | DG52: =IF(DF52="■", $R52+$S52) -> FALSE | DH52: =IF($BA52="Plano Nacional de Formação Financeira", "■",0) -> 0 | DI52: =IF(DH52="■", $R52+$S52) -> FALSE | DJ52: =IF($BA52="Plano Nacional de Formação Financeira", "■",0) -> 0 | DK52: =IF(DJ52="■", $R52+$S52) -> FALSE | DL52: =IF($BA52="Outra(s)", "■",0) -> 0 | DM52: =IF(DL52="■", $R52+$S52) -> FALSE | DO52: =IF($BB52="Histórias com Ciência na Biblioteca Escolar", "■",0) -> 0 | DP52: =IF(DO52="■", $R52+$S52) -> FALSE | DQ52: =IF($BB52="Jornal escolar", "■",0) -> 0 | DR52: =IF(DQ52="■", $R52+$S52) -> FALSE | DS52: =IF($BB52="Rádio escolar", "■",0) -> 0 | DT52: =IF(DS52="■", $R52+$S52) -> FALSE | DU52: =IF($BB52="TV escolar", "■",0) -> 0 | DV52: =IF(DU52="■", $R52+$S52) -> FALSE | DW52: =IF($BB52="Outra(s)", "■",0) -> 0 | DX52: =IF(DW52="■", $R52+$S52) -> FALSE
B53: ='1. Plano anual atividades'!C55 -> 0 | D53: ='1. Plano anual atividades'!D55 -> 0 | E53: ='1. Plano anual atividades'!I55 -> 0 | F53: ='1. Plano anual atividades'!J55 -> 0 | G53: ='1. Plano anual atividades'!K55 -> 0 | H53: ='1. Plano anual atividades'!L55 -> 0 | I53: ='1. Plano anual atividades'!M55 -> 0 | J53: ='1. Plano anual atividades'!N55 -> 0 | K53: ='1. Plano anual atividades'!O55 -> 0 | L53: ='1. Plano anual atividades'!P55 -> 0 | ... N53: ='1. Plano anual atividades'!R55 -> 0 | Q53: =O53*P53 -> 0 | T53: =P53*R53 -> 0 | U53: =P53*S53 -> 0 | X53: =P53*V53 -> 0 | Y53: =P53*W53 -> 0 | AB53: ='1. Plano anual atividades'!E55 -> 0 | BC53: =IF($AZ53="7 dias com os media", "■",0) -> 0 | BD53: =IF(BC53="■", $R53+$S53) -> FALSE | BE53: =IF($AZ53="aLer mais e melhor", "■",0) -> 0 | BF53: =IF(BE53="■", $R53+$S53) -> FALSE | BG53: =IF($AZ53="Campeonato de Escrita e Ciência Criativa", "■",0) -> 0 | BH53: =IF(BG53="■", $R53+$S53) -> FALSE | BI53: =IF($AZ53="Cientificamente provável", "■",0) -> 0 | BJ53: =IF(BI53="■", $R53+$S53) -> FALSE | BK53: =IF($AZ53="Clássicos em rede", "■",0) -> 0 | BL53: =IF(BK53="■", $R53+$S53) -> FALSE | BM53: =IF($AZ53="Conto Contigo", "■",0) -> 0 | BN53: =IF(BM53="■", $R53+$S53) -> FALSE | BO53: =IF($AZ53="Dia da internet Mais Segura", "■",0) -> 0 | BP53: =IF(BO53="■", $R53+$S53) -> FALSE | BQ53: =IF($AZ53="Dia Mundial da Língua Portuguesa", "■",0) -> 0 | BR53: =IF(BQ53="■", $R53+$S53) -> FALSE | BS53: =IF($AZ53="Isto também é comigo", "■",0) -> 0 | BT53: =IF(BS53="■", $R53+$S53) -> FALSE | BU53: =IF($AZ53="Jornalistas em rede", "■",0) -> 0 | BV53: =IF(BU53="■", $R53+$S53) -> FALSE | BW53: =IF($AZ53="Juntos a criar", "■",0) -> 0 | BX53: =IF(BW53="■", $R53+$S53) -> FALSE | BY53: =IF($AZ53="Ler eescrever mais com a BE", "■",0) -> 0 | BZ53: =IF(BY53="■", $R53+$S53) -> FALSE | CA53: =IF($AZ53="Ler fora da escola", "■",0) -> 0 | CB53: =IF(CA53="■", $R53+$S53) -> FALSE | CC53: =IF($AZ53="Lidera", "■",0) -> 0 | CD53: =IF(CC53="■", $R53+$S53) -> FALSE | CE53: =IF($AZ53="Media@ção", "■",0) -> 0 | CF53: =IF(CE53="■", $R53+$S53) -> FALSE | CG53: =IF($AZ53="Mês Internacional da Biblioteca Escolar", "■",0) -> 0 | CH53: =IF(CG53="■", $R53+$S53) -> FALSE | CI53: =IF($AZ53="Miúdos a votos", "■",0) -> 0 | CJ53: =IF(CI53="■", $R53+$S53) -> FALSE | CK53: =IF($AZ53="Newton gostava de ler", "■",0) -> 0 | CL53: =IF(CK53="■", $R53+$S53) -> FALSE | CM53: =IF($AZ53="Proliteracias", "■",0) -> 0 | CN53: =IF(CM53="■", $R53+$S53) -> FALSE | CO53: =IF($AZ53="PÚBLICO na Escola", "■",0) -> 0 | CP53: =IF(CO53="■", $R53+$S53) -> FALSE | CQ53: =IF($AZ53="READ ON Portugal", "■",0) -> 0 | CR53: =IF(CQ53="■", $R53+$S53) -> FALSE | CS53: =IF($AZ53="Semana da leitura", "■",0) -> 0 | CT53: =IF(CS53="■", $R53+$S53) -> FALSE | CU53: =IF($AZ53="Supercharged by IA", "■",0) -> 0 | CV53: =IF(CU53="■", $R53+$S53) -> FALSE | CW53: =IF($AZ53="Todos Juntos Podemos Ler", "■",0) -> 0 | CX53: =IF(CW53="■", $R53+$S53) -> FALSE | CY53: =IF($AZ53="Voluntários de leitura", "■",0) -> 0 | CZ53: =IF(CY53="■", $R53+$S53) -> FALSE | DA53: =IF($AZ53="Outra(s)", "■",0) -> 0 | DB53: =IF(DA53="■", $R53+$S53) -> FALSE | DD53: =IF($BA53="Plano Nacional das Artes", "■",0) -> 0 | DE53: =IF(DD53="■", $R53+$S53) -> FALSE | DF53: =IF($BA53="Plano Nacional de Cinema", "■",0) -> 0 | DG53: =IF(DF53="■", $R53+$S53) -> FALSE | DH53: =IF($BA53="Plano Nacional de Formação Financeira", "■",0) -> 0 | DI53: =IF(DH53="■", $R53+$S53) -> FALSE | DJ53: =IF($BA53="Plano Nacional de Formação Financeira", "■",0) -> 0 | DK53: =IF(DJ53="■", $R53+$S53) -> FALSE | DL53: =IF($BA53="Outra(s)", "■",0) -> 0 | DM53: =IF(DL53="■", $R53+$S53) -> FALSE | DO53: =IF($BB53="Histórias com Ciência na Biblioteca Escolar", "■",0) -> 0 | DP53: =IF(DO53="■", $R53+$S53) -> FALSE | DQ53: =IF($BB53="Jornal escolar", "■",0) -> 0 | DR53: =IF(DQ53="■", $R53+$S53) -> FALSE | DS53: =IF($BB53="Rádio escolar", "■",0) -> 0 | DT53: =IF(DS53="■", $R53+$S53) -> FALSE | DU53: =IF($BB53="TV escolar", "■",0) -> 0 | DV53: =IF(DU53="■", $R53+$S53) -> FALSE | DW53: =IF($BB53="Outra(s)", "■",0) -> 0 | DX53: =IF(DW53="■", $R53+$S53) -> FALSE
B54: ='1. Plano anual atividades'!C56 -> 0 | D54: ='1. Plano anual atividades'!D56 -> 0 | E54: ='1. Plano anual atividades'!I56 -> 0 | F54: ='1. Plano anual atividades'!J56 -> 0 | G54: ='1. Plano anual atividades'!K56 -> 0 | H54: ='1. Plano anual atividades'!L56 -> 0 | I54: ='1. Plano anual atividades'!M56 -> 0 | J54: ='1. Plano anual atividades'!N56 -> 0 | K54: ='1. Plano anual atividades'!O56 -> 0 | L54: ='1. Plano anual atividades'!P56 -> 0 | ... N54: ='1. Plano anual atividades'!R56 -> 0 | Q54: =O54*P54 -> 0 | T54: =P54*R54 -> 0 | U54: =P54*S54 -> 0 | X54: =P54*V54 -> 0 | Y54: =P54*W54 -> 0 | AB54: ='1. Plano anual atividades'!E56 -> 0 | BC54: =IF($AZ54="7 dias com os media", "■",0) -> 0 | BD54: =IF(BC54="■", $R54+$S54) -> FALSE | BE54: =IF($AZ54="aLer mais e melhor", "■",0) -> 0 | BF54: =IF(BE54="■", $R54+$S54) -> FALSE | BG54: =IF($AZ54="Campeonato de Escrita e Ciência Criativa", "■",0) -> 0 | BH54: =IF(BG54="■", $R54+$S54) -> FALSE | BI54: =IF($AZ54="Cientificamente provável", "■",0) -> 0 | BJ54: =IF(BI54="■", $R54+$S54) -> FALSE | BK54: =IF($AZ54="Clássicos em rede", "■",0) -> 0 | BL54: =IF(BK54="■", $R54+$S54) -> FALSE | BM54: =IF($AZ54="Conto Contigo", "■",0) -> 0 | BN54: =IF(BM54="■", $R54+$S54) -> FALSE | BO54: =IF($AZ54="Dia da internet Mais Segura", "■",0) -> 0 | BP54: =IF(BO54="■", $R54+$S54) -> FALSE | BQ54: =IF($AZ54="Dia Mundial da Língua Portuguesa", "■",0) -> 0 | BR54: =IF(BQ54="■", $R54+$S54) -> FALSE | BS54: =IF($AZ54="Isto também é comigo", "■",0) -> 0 | BT54: =IF(BS54="■", $R54+$S54) -> FALSE | BU54: =IF($AZ54="Jornalistas em rede", "■",0) -> 0 | BV54: =IF(BU54="■", $R54+$S54) -> FALSE | BW54: =IF($AZ54="Juntos a criar", "■",0) -> 0 | BX54: =IF(BW54="■", $R54+$S54) -> FALSE | BY54: =IF($AZ54="Ler eescrever mais com a BE", "■",0) -> 0 | BZ54: =IF(BY54="■", $R54+$S54) -> FALSE | CA54: =IF($AZ54="Ler fora da escola", "■",0) -> 0 | CB54: =IF(CA54="■", $R54+$S54) -> FALSE | CC54: =IF($AZ54="Lidera", "■",0) -> 0 | CD54: =IF(CC54="■", $R54+$S54) -> FALSE | CE54: =IF($AZ54="Media@ção", "■",0) -> 0 | CF54: =IF(CE54="■", $R54+$S54) -> FALSE | CG54: =IF($AZ54="Mês Internacional da Biblioteca Escolar", "■",0) -> 0 | CH54: =IF(CG54="■", $R54+$S54) -> FALSE | CI54: =IF($AZ54="Miúdos a votos", "■",0) -> 0 | CJ54: =IF(CI54="■", $R54+$S54) -> FALSE | CK54: =IF($AZ54="Newton gostava de ler", "■",0) -> 0 | CL54: =IF(CK54="■", $R54+$S54) -> FALSE | CM54: =IF($AZ54="Proliteracias", "■",0) -> 0 | CN54: =IF(CM54="■", $R54+$S54) -> FALSE | CO54: =IF($AZ54="PÚBLICO na Escola", "■",0) -> 0 | CP54: =IF(CO54="■", $R54+$S54) -> FALSE | CQ54: =IF($AZ54="READ ON Portugal", "■",0) -> 0 | CR54: =IF(CQ54="■", $R54+$S54) -> FALSE | CS54: =IF($AZ54="Semana da leitura", "■",0) -> 0 | CT54: =IF(CS54="■", $R54+$S54) -> FALSE | CU54: =IF($AZ54="Supercharged by IA", "■",0) -> 0 | CV54: =IF(CU54="■", $R54+$S54) -> FALSE | CW54: =IF($AZ54="Todos Juntos Podemos Ler", "■",0) -> 0 | CX54: =IF(CW54="■", $R54+$S54) -> FALSE | CY54: =IF($AZ54="Voluntários de leitura", "■",0) -> 0 | CZ54: =IF(CY54="■", $R54+$S54) -> FALSE | DA54: =IF($AZ54="Outra(s)", "■",0) -> 0 | DB54: =IF(DA54="■", $R54+$S54) -> FALSE | DD54: =IF($BA54="Plano Nacional das Artes", "■",0) -> 0 | DE54: =IF(DD54="■", $R54+$S54) -> FALSE | DF54: =IF($BA54="Plano Nacional de Cinema", "■",0) -> 0 | DG54: =IF(DF54="■", $R54+$S54) -> FALSE | DH54: =IF($BA54="Plano Nacional de Formação Financeira", "■",0) -> 0 | DI54: =IF(DH54="■", $R54+$S54) -> FALSE | DJ54: =IF($BA54="Plano Nacional de Formação Financeira", "■",0) -> 0 | DK54: =IF(DJ54="■", $R54+$S54) -> FALSE | DL54: =IF($BA54="Outra(s)", "■",0) -> 0 | DM54: =IF(DL54="■", $R54+$S54) -> FALSE | DO54: =IF($BB54="Histórias com Ciência na Biblioteca Escolar", "■",0) -> 0 | DP54: =IF(DO54="■", $R54+$S54) -> FALSE | DQ54: =IF($BB54="Jornal escolar", "■",0) -> 0 | DR54: =IF(DQ54="■", $R54+$S54) -> FALSE | DS54: =IF($BB54="Rádio escolar", "■",0) -> 0 | DT54: =IF(DS54="■", $R54+$S54) -> FALSE | DU54: =IF($BB54="TV escolar", "■",0) -> 0 | DV54: =IF(DU54="■", $R54+$S54) -> FALSE | DW54: =IF($BB54="Outra(s)", "■",0) -> 0 | DX54: =IF(DW54="■", $R54+$S54) -> FALSE
B55: ='1. Plano anual atividades'!C57 -> 0 | D55: ='1. Plano anual atividades'!D57 -> 0 | E55: ='1. Plano anual atividades'!I57 -> 0 | F55: ='1. Plano anual atividades'!J57 -> 0 | G55: ='1. Plano anual atividades'!K57 -> 0 | H55: ='1. Plano anual atividades'!L57 -> 0 | I55: ='1. Plano anual atividades'!M57 -> 0 | J55: ='1. Plano anual atividades'!N57 -> 0 | K55: ='1. Plano anual atividades'!O57 -> 0 | L55: ='1. Plano anual atividades'!P57 -> 0 | ... N55: ='1. Plano anual atividades'!R57 -> 0 | Q55: =O55*P55 -> 0 | T55: =P55*R55 -> 0 | U55: =P55*S55 -> 0 | X55: =P55*V55 -> 0 | Y55: =P55*W55 -> 0 | AB55: ='1. Plano anual atividades'!E57 -> 0 | BC55: =IF($AZ55="7 dias com os media", "■",0) -> 0 | BD55: =IF(BC55="■", $R55+$S55) -> FALSE | BE55: =IF($AZ55="aLer mais e melhor", "■",0) -> 0 | BF55: =IF(BE55="■", $R55+$S55) -> FALSE | BG55: =IF($AZ55="Campeonato de Escrita e Ciência Criativa", "■",0) -> 0 | BH55: =IF(BG55="■", $R55+$S55) -> FALSE | BI55: =IF($AZ55="Cientificamente provável", "■",0) -> 0 | BJ55: =IF(BI55="■", $R55+$S55) -> FALSE | BK55: =IF($AZ55="Clássicos em rede", "■",0) -> 0 | BL55: =IF(BK55="■", $R55+$S55) -> FALSE | BM55: =IF($AZ55="Conto Contigo", "■",0) -> 0 | BN55: =IF(BM55="■", $R55+$S55) -> FALSE | BO55: =IF($AZ55="Dia da internet Mais Segura", "■",0) -> 0 | BP55: =IF(BO55="■", $R55+$S55) -> FALSE | BQ55: =IF($AZ55="Dia Mundial da Língua Portuguesa", "■",0) -> 0 | BR55: =IF(BQ55="■", $R55+$S55) -> FALSE | BS55: =IF($AZ55="Isto também é comigo", "■",0) -> 0 | BT55: =IF(BS55="■", $R55+$S55) -> FALSE | BU55: =IF($AZ55="Jornalistas em rede", "■",0) -> 0 | BV55: =IF(BU55="■", $R55+$S55) -> FALSE | BW55: =IF($AZ55="Juntos a criar", "■",0) -> 0 | BX55: =IF(BW55="■", $R55+$S55) -> FALSE | BY55: =IF($AZ55="Ler eescrever mais com a BE", "■",0) -> 0 | BZ55: =IF(BY55="■", $R55+$S55) -> FALSE | CA55: =IF($AZ55="Ler fora da escola", "■",0) -> 0 | CB55: =IF(CA55="■", $R55+$S55) -> FALSE | CC55: =IF($AZ55="Lidera", "■",0) -> 0 | CD55: =IF(CC55="■", $R55+$S55) -> FALSE | CE55: =IF($AZ55="Media@ção", "■",0) -> 0 | CF55: =IF(CE55="■", $R55+$S55) -> FALSE | CG55: =IF($AZ55="Mês Internacional da Biblioteca Escolar", "■",0) -> 0 | CH55: =IF(CG55="■", $R55+$S55) -> FALSE | CI55: =IF($AZ55="Miúdos a votos", "■",0) -> 0 | CJ55: =IF(CI55="■", $R55+$S55) -> FALSE | CK55: =IF($AZ55="Newton gostava de ler", "■",0) -> 0 | CL55: =IF(CK55="■", $R55+$S55) -> FALSE | CM55: =IF($AZ55="Proliteracias", "■",0) -> 0 | CN55: =IF(CM55="■", $R55+$S55) -> FALSE | CO55: =IF($AZ55="PÚBLICO na Escola", "■",0) -> 0 | CP55: =IF(CO55="■", $R55+$S55) -> FALSE | CQ55: =IF($AZ55="READ ON Portugal", "■",0) -> 0 | CR55: =IF(CQ55="■", $R55+$S55) -> FALSE | CS55: =IF($AZ55="Semana da leitura", "■",0) -> 0 | CT55: =IF(CS55="■", $R55+$S55) -> FALSE | CU55: =IF($AZ55="Supercharged by IA", "■",0) -> 0 | CV55: =IF(CU55="■", $R55+$S55) -> FALSE | CW55: =IF($AZ55="Todos Juntos Podemos Ler", "■",0) -> 0 | CX55: =IF(CW55="■", $R55+$S55) -> FALSE | CY55: =IF($AZ55="Voluntários de leitura", "■",0) -> 0 | CZ55: =IF(CY55="■", $R55+$S55) -> FALSE | DA55: =IF($AZ55="Outra(s)", "■",0) -> 0 | DB55: =IF(DA55="■", $R55+$S55) -> FALSE | DD55: =IF($BA55="Plano Nacional das Artes", "■",0) -> 0 | DE55: =IF(DD55="■", $R55+$S55) -> FALSE | DF55: =IF($BA55="Plano Nacional de Cinema", "■",0) -> 0 | DG55: =IF(DF55="■", $R55+$S55) -> FALSE | DH55: =IF($BA55="Plano Nacional de Formação Financeira", "■",0) -> 0 | DI55: =IF(DH55="■", $R55+$S55) -> FALSE | DJ55: =IF($BA55="Plano Nacional de Formação Financeira", "■",0) -> 0 | DK55: =IF(DJ55="■", $R55+$S55) -> FALSE | DL55: =IF($BA55="Outra(s)", "■",0) -> 0 | DM55: =IF(DL55="■", $R55+$S55) -> FALSE | DO55: =IF($BB55="Histórias com Ciência na Biblioteca Escolar", "■",0) -> 0 | DP55: =IF(DO55="■", $R55+$S55) -> FALSE | DQ55: =IF($BB55="Jornal escolar", "■",0) -> 0 | DR55: =IF(DQ55="■", $R55+$S55) -> FALSE | DS55: =IF($BB55="Rádio escolar", "■",0) -> 0 | DT55: =IF(DS55="■", $R55+$S55) -> FALSE | DU55: =IF($BB55="TV escolar", "■",0) -> 0 | DV55: =IF(DU55="■", $R55+$S55) -> FALSE | DW55: =IF($BB55="Outra(s)", "■",0) -> 0 | DX55: =IF(DW55="■", $R55+$S55) -> FALSE
B56: ='1. Plano anual atividades'!C58 -> 0 | D56: ='1. Plano anual atividades'!D58 -> 0 | E56: ='1. Plano anual atividades'!I58 -> 0 | F56: ='1. Plano anual atividades'!J58 -> 0 | G56: ='1. Plano anual atividades'!K58 -> 0 | H56: ='1. Plano anual atividades'!L58 -> 0 | I56: ='1. Plano anual atividades'!M58 -> 0 | J56: ='1. Plano anual atividades'!N58 -> 0 | K56: ='1. Plano anual atividades'!O58 -> 0 | L56: ='1. Plano anual atividades'!P58 -> 0 | ... N56: ='1. Plano anual atividades'!R58 -> 0 | Q56: =O56*P56 -> 0 | T56: =P56*R56 -> 0 | U56: =P56*S56 -> 0 | X56: =P56*V56 -> 0 | Y56: =P56*W56 -> 0 | AB56: ='1. Plano anual atividades'!E58 -> 0 | BC56: =IF($AZ56="7 dias com os media", "■",0) -> 0 | BD56: =IF(BC56="■", $R56+$S56) -> FALSE | BE56: =IF($AZ56="aLer mais e melhor", "■",0) -> 0 | BF56: =IF(BE56="■", $R56+$S56) -> FALSE | BG56: =IF($AZ56="Campeonato de Escrita e Ciência Criativa", "■",0) -> 0 | BH56: =IF(BG56="■", $R56+$S56) -> FALSE | BI56: =IF($AZ56="Cientificamente provável", "■",0) -> 0 | BJ56: =IF(BI56="■", $R56+$S56) -> FALSE | BK56: =IF($AZ56="Clássicos em rede", "■",0) -> 0 | BL56: =IF(BK56="■", $R56+$S56) -> FALSE | BM56: =IF($AZ56="Conto Contigo", "■",0) -> 0 | BN56: =IF(BM56="■", $R56+$S56) -> FALSE | BO56: =IF($AZ56="Dia da internet Mais Segura", "■",0) -> 0 | BP56: =IF(BO56="■", $R56+$S56) -> FALSE | BQ56: =IF($AZ56="Dia Mundial da Língua Portuguesa", "■",0) -> 0 | BR56: =IF(BQ56="■", $R56+$S56) -> FALSE | BS56: =IF($AZ56="Isto também é comigo", "■",0) -> 0 | BT56: =IF(BS56="■", $R56+$S56) -> FALSE | BU56: =IF($AZ56="Jornalistas em rede", "■",0) -> 0 | BV56: =IF(BU56="■", $R56+$S56) -> FALSE | BW56: =IF($AZ56="Juntos a criar", "■",0) -> 0 | BX56: =IF(BW56="■", $R56+$S56) -> FALSE | BY56: =IF($AZ56="Ler eescrever mais com a BE", "■",0) -> 0 | BZ56: =IF(BY56="■", $R56+$S56) -> FALSE | CA56: =IF($AZ56="Ler fora da escola", "■",0) -> 0 | CB56: =IF(CA56="■", $R56+$S56) -> FALSE | CC56: =IF($AZ56="Lidera", "■",0) -> 0 | CD56: =IF(CC56="■", $R56+$S56) -> FALSE | CE56: =IF($AZ56="Media@ção", "■",0) -> 0 | CF56: =IF(CE56="■", $R56+$S56) -> FALSE | CG56: =IF($AZ56="Mês Internacional da Biblioteca Escolar", "■",0) -> 0 | CH56: =IF(CG56="■", $R56+$S56) -> FALSE | CI56: =IF($AZ56="Miúdos a votos", "■",0) -> 0 | CJ56: =IF(CI56="■", $R56+$S56) -> FALSE | CK56: =IF($AZ56="Newton gostava de ler", "■",0) -> 0 | CL56: =IF(CK56="■", $R56+$S56) -> FALSE | CM56: =IF($AZ56="Proliteracias", "■",0) -> 0 | CN56: =IF(CM56="■", $R56+$S56) -> FALSE | CO56: =IF($AZ56="PÚBLICO na Escola", "■",0) -> 0 | CP56: =IF(CO56="■", $R56+$S56) -> FALSE | CQ56: =IF($AZ56="READ ON Portugal", "■",0) -> 0 | CR56: =IF(CQ56="■", $R56+$S56) -> FALSE | CS56: =IF($AZ56="Semana da leitura", "■",0) -> 0 | CT56: =IF(CS56="■", $R56+$S56) -> FALSE | CU56: =IF($AZ56="Supercharged by IA", "■",0) -> 0 | CV56: =IF(CU56="■", $R56+$S56) -> FALSE | CW56: =IF($AZ56="Todos Juntos Podemos Ler", "■",0) -> 0 | CX56: =IF(CW56="■", $R56+$S56) -> FALSE | CY56: =IF($AZ56="Voluntários de leitura", "■",0) -> 0 | CZ56: =IF(CY56="■", $R56+$S56) -> FALSE | DA56: =IF($AZ56="Outra(s)", "■",0) -> 0 | DB56: =IF(DA56="■", $R56+$S56) -> FALSE | DD56: =IF($BA56="Plano Nacional das Artes", "■",0) -> 0 | DE56: =IF(DD56="■", $R56+$S56) -> FALSE | DF56: =IF($BA56="Plano Nacional de Cinema", "■",0) -> 0 | DG56: =IF(DF56="■", $R56+$S56) -> FALSE | DH56: =IF($BA56="Plano Nacional de Formação Financeira", "■",0) -> 0 | DI56: =IF(DH56="■", $R56+$S56) -> FALSE | DJ56: =IF($BA56="Plano Nacional de Formação Financeira", "■",0) -> 0 | DK56: =IF(DJ56="■", $R56+$S56) -> FALSE | DL56: =IF($BA56="Outra(s)", "■",0) -> 0 | DM56: =IF(DL56="■", $R56+$S56) -> FALSE | DO56: =IF($BB56="Histórias com Ciência na Biblioteca Escolar", "■",0) -> 0 | DP56: =IF(DO56="■", $R56+$S56) -> FALSE | DQ56: =IF($BB56="Jornal escolar", "■",0) -> 0 | DR56: =IF(DQ56="■", $R56+$S56) -> FALSE | DS56: =IF($BB56="Rádio escolar", "■",0) -> 0 | DT56: =IF(DS56="■", $R56+$S56) -> FALSE | DU56: =IF($BB56="TV escolar", "■",0) -> 0 | DV56: =IF(DU56="■", $R56+$S56) -> FALSE | DW56: =IF($BB56="Outra(s)", "■",0) -> 0 | DX56: =IF(DW56="■", $R56+$S56) -> FALSE
... B74: ='1. Plano anual atividades'!C76 -> 0 | D74: ='1. Plano anual atividades'!D76 -> 0 | E74: ='1. Plano anual atividades'!I76 -> 0 | F74: ='1. Plano anual atividades'!J76 -> 0 | G74: ='1. Plano anual atividades'!K76 -> 0 | H74: ='1. Plano anual atividades'!L76 -> 0 | I74: ='1. Plano anual atividades'!M76 -> 0 | J74: ='1. Plano anual atividades'!N76 -> 0 | K74: ='1. Plano anual atividades'!O76 -> 0 | L74: ='1. Plano anual atividades'!P76 -> 0 | ... N74: ='1. Plano anual atividades'!R76 -> 0 | Q74: =O74*P74 -> 0 | T74: =P74*R74 -> 0 | U74: =P74*S74 -> 0 | X74: =P74*V74 -> 0 | Y74: =P74*W74 -> 0 | AB74: ='1. Plano anual atividades'!E76 -> 0 | BC74: =IF($AZ74="7 dias com os media", "■",0) -> 0 | BD74: =IF(BC74="■", $R74+$S74) -> FALSE | BE74: =IF($AZ74="aLer mais e melhor", "■",0) -> 0 | BF74: =IF(BE74="■", $R74+$S74) -> FALSE | BG74: =IF($AZ74="Campeonato de Escrita e Ciência Criativa", "■",0) -> 0 | BH74: =IF(BG74="■", $R74+$S74) -> FALSE | BI74: =IF($AZ74="Cientificamente provável", "■",0) -> 0 | BJ74: =IF(BI74="■", $R74+$S74) -> FALSE | BK74: =IF($AZ74="Clássicos em rede", "■",0) -> 0 | BL74: =IF(BK74="■", $R74+$S74) -> FALSE | BM74: =IF($AZ74="Conto Contigo", "■",0) -> 0 | BN74: =IF(BM74="■", $R74+$S74) -> FALSE | BO74: =IF($AZ74="Dia da internet Mais Segura", "■",0) -> 0 | BP74: =IF(BO74="■", $R74+$S74) -> FALSE | BQ74: =IF($AZ74="Dia Mundial da Língua Portuguesa", "■",0) -> 0 | BR74: =IF(BQ74="■", $R74+$S74) -> FALSE | BS74: =IF($AZ74="Isto também é comigo", "■",0) -> 0 | BT74: =IF(BS74="■", $R74+$S74) -> FALSE | BU74: =IF($AZ74="Jornalistas em rede", "■",0) -> 0 | BV74: =IF(BU74="■", $R74+$S74) -> FALSE | BW74: =IF($AZ74="Juntos a criar", "■",0) -> 0 | BX74: =IF(BW74="■", $R74+$S74) -> FALSE | BY74: =IF($AZ74="Ler eescrever mais com a BE", "■",0) -> 0 | BZ74: =IF(BY74="■", $R74+$S74) -> FALSE | CA74: =IF($AZ74="Ler fora da escola", "■",0) -> 0 | CB74: =IF(CA74="■", $R74+$S74) -> FALSE | CC74: =IF($AZ74="Lidera", "■",0) -> 0 | CD74: =IF(CC74="■", $R74+$S74) -> FALSE | CE74: =IF($AZ74="Media@ção", "■",0) -> 0 | CF74: =IF(CE74="■", $R74+$S74) -> FALSE | CG74: =IF($AZ74="Mês Internacional da Biblioteca Escolar", "■",0) -> 0 | CH74: =IF(CG74="■", $R74+$S74) -> FALSE | CI74: =IF($AZ74="Miúdos a votos", "■",0) -> 0 | CJ74: =IF(CI74="■", $R74+$S74) -> FALSE | CK74: =IF($AZ74="Newton gostava de ler", "■",0) -> 0 | CL74: =IF(CK74="■", $R74+$S74) -> FALSE | CM74: =IF($AZ74="Proliteracias", "■",0) -> 0 | CN74: =IF(CM74="■", $R74+$S74) -> FALSE | CO74: =IF($AZ74="PÚBLICO na Escola", "■",0) -> 0 | CP74: =IF(CO74="■", $R74+$S74) -> FALSE | CQ74: =IF($AZ74="READ ON Portugal", "■",0) -> 0 | CR74: =IF(CQ74="■", $R74+$S74) -> FALSE | CS74: =IF($AZ74="Semana da leitura", "■",0) -> 0 | CT74: =IF(CS74="■", $R74+$S74) -> FALSE | CU74: =IF($AZ74="Supercharged by IA", "■",0) -> 0 | CV74: =IF(CU74="■", $R74+$S74) -> FALSE | CW74: =IF($AZ74="Todos Juntos Podemos Ler", "■",0) -> 0 | CX74: =IF(CW74="■", $R74+$S74) -> FALSE | CY74: =IF($AZ74="Voluntários de leitura", "■",0) -> 0 | CZ74: =IF(CY74="■", $R74+$S74) -> FALSE | DA74: =IF($AZ74="Outra(s)", "■",0) -> 0 | DB74: =IF(DA74="■", $R74+$S74) -> FALSE | DD74: =IF($BA74="Plano Nacional das Artes", "■",0) -> 0 | DE74: =IF(DD74="■", $R74+$S74) -> FALSE | DF74: =IF($BA74="Plano Nacional de Cinema", "■",0) -> 0 | DG74: =IF(DF74="■", $R74+$S74) -> FALSE | DH74: =IF($BA74="Plano Nacional de Formação Financeira", "■",0) -> 0 | DI74: =IF(DH74="■", $R74+$S74) -> FALSE | DJ74: =IF($BA74="Plano Nacional de Formação Financeira", "■",0) -> 0 | DK74: =IF(DJ74="■", $R74+$S74) -> FALSE | DL74: =IF($BA74="Outra(s)", "■",0) -> 0 | DM74: =IF(DL74="■", $R74+$S74) -> FALSE | DO74: =IF($BB74="Histórias com Ciência na Biblioteca Escolar", "■",0) -> 0 | DP74: =IF(DO74="■", $R74+$S74) -> FALSE | DQ74: =IF($BB74="Jornal escolar", "■",0) -> 0 | DR74: =IF(DQ74="■", $R74+$S74) -> FALSE | DS74: =IF($BB74="Rádio escolar", "■",0) -> 0 | DT74: =IF(DS74="■", $R74+$S74) -> FALSE | DU74: =IF($BB74="TV escolar", "■",0) -> 0 | DV74: =IF(DU74="■", $R74+$S74) -> FALSE | DW74: =IF($BB74="Outra(s)", "■",0) -> 0 | DX74: =IF(DW74="■", $R74+$S74) -> FALSE
B76: ='1. Plano anual atividades'!C78 -> 0 | C76: =COUNTA(C45:C74) -> 0 | D76: =COUNTIF(D45:D74, "■") -> 0 | E76: =COUNTIF(E45:E74, "■") -> 0 | F76: =COUNTIF(F45:F74, "■") -> 0 | G76: =COUNTIF(G45:G74, "■") -> 0 | H76: =COUNTIF(H45:H74, "■") -> 0 | I76: =COUNTIF(I45:I74, "■") -> 0 | J76: =COUNTIF(J45:J74, "■") -> 0 | K76: =COUNTIF(K45:K74, "■") -> 0 | ... N76: =COUNTIF(N45:N74, "■") -> 0 | O76: =SUM(O45:O74) -> 0 | P76: =SUM(P45:P74) -> 0 | Q76: =SUM(Q45:Q74) -> 0 | R76: =SUM(R45:R74) -> 0 | S76: =SUM(S45:S74) -> 0 | T76: =SUM(T45:T74) -> 0 | U76: =SUM(U45:U74) -> 0 | V76: =SUM(V45:V74) -> 0 | ... AA76: =SUM(AA45:AA74) -> 0 | AB76: =COUNTIF(AB45:AB74, "■") -> 0 | AC76: =COUNTIF(AC45:AC74, "■") -> 0 | AD76: =COUNTIF(AD45:AD74, "■") -> 0 | AE76: =COUNTIF(AE45:AE74, "■") -> 0 | AF76: =COUNTIF(AF45:AF74, "■") -> 0 | AG76: =COUNTIF(AG45:AG74, "■") -> 0 | AH76: =COUNTIF(AH45:AH74, "■") -> 0 | AI76: =COUNTIF(AI45:AI74, "■") -> 0 | ... AL76: =COUNTIF(AL45:AL74, "■") -> 0 | AM76: =SUM(AM45:AM74) -> 0 | AN76: =SUM(AN45:AN74) -> 0 | AO76: =SUM(AO45:AO74) -> 0 | AP76: =SUM(AP45:AP74) -> 0 | AQ76: =SUM(AQ45:AQ74) -> 0 | AR76: =SUM(AR45:AR74) -> 0 | AS76: =SUM(AS45:AS74) -> 0 | AT76: =SUM(AT45:AT74) -> 0 | ... AV76: =SUM(AV45:AV74) -> 0 | BD76: =SUM(BD45:BD74) -> 0 | BF76: =SUM(BF45:BF74) -> 0 | BH76: =SUM(BH45:BH74) -> 0 | BJ76: =SUM(BJ45:BJ74) -> 0 | BL76: =SUM(BL45:BL74) -> 0 | BN76: =SUM(BN45:BN74) -> 0 | BP76: =SUM(BP45:BP74) -> 0 | BR76: =SUM(BR45:BR74) -> 0 | BT76: =SUM(BT45:BT74) -> 0 | BV76: =SUM(BV45:BV74) -> 0 | BX76: =SUM(BX45:BX74) -> 0 | BZ76: =SUM(BZ45:BZ74) -> 0 | CB76: =SUM(CB45:CB74) -> 0 | CD76: =SUM(CD45:CD74) -> 0 | CF76: =SUM(CF45:CF74) -> 0 | CH76: =SUM(CH45:CH74) -> 0 | CJ76: =SUM(CJ45:CJ74) -> 0 | CL76: =SUM(CL45:CL74) -> 0 | CN76: =SUM(CN45:CN74) -> 0 | CP76: =SUM(CP45:CP74) -> 0 | CR76: =SUM(CR45:CR74) -> 0 | CT76: =SUM(CT45:CT74) -> 0 | CV76: =SUM(CV45:CV74) -> 0 | CX76: =SUM(CX45:CX74) -> 0 | CZ76: =SUM(CZ45:CZ74) -> 0 | DB76: =SUM(DB45:DB74) -> 0 | DE76: =SUM(DE45:DE74) -> 0 | DG76: =SUM(DG45:DG74) -> 0 | DI76: =SUM(DI45:DI74) -> 0 | DK76: =SUM(DK45:DK74) -> 0 | DM76: =SUM(DM45:DM74) -> 0 | DP76: =SUM(DP45:DP74) -> 0 | DR76: =SUM(DR45:DR74) -> 0 | DT76: =SUM(DT45:DT74) -> 0 | DV76: =SUM(DV45:DV74) -> 0 | DX76: =SUM(DX45:DX74) -> 0
B79: Domínio C - Projetos e parcerias
E80: Projeto Educativo | O80: N.º total | Q80: N.º de participações | R80: N.º de alunos envolvidos | T80: N.º participações | U80: N.º participações | V80: N.º de docentes envolvidos | X80: N.º participações | Y80: N.º participações | AC80: Área de literacia | AF80: Área curricular e extracurricular | AM80: Alunos envolvidos | AR80: Docentes envolvidos | AW80: Nível de impacto | AY80: Projetos | AZ80: Propostas RBE | BA80: Propostas de outras instituições nacionais e internacionais | BB80: Propostas locais ou regionais
