Workbook
Name Biblioteca_1: '1. Plano anual atividades'!#REF!
Name Biblioteca_2: '1. Plano anual atividades'!#REF!
Name Biblioteca_3: '1. Plano anual atividades'!#REF!
Name Biblioteca_4: '1. Plano anual atividades'!#REF!
Name Biblioteca_5: '1. Plano anual atividades'!#REF!
Name Biblioteca_6: '1. Plano anual atividades'!#REF!
Name Biblioteca_7: '1. Plano anual atividades'!#REF!

Sheet Guia de apoio
B3: Contextualização
B5: O Plano Anual de Atividades (PAA) é um documento estruturante e estratégico que enquadra, em cada ano letivo, o trabalho a desenvolver pelas bibliotecas escolares de um agrupamento ou pela biblioteca de uma escola não agrupada.
B6: Reconhecendo o papel central das bibliotecas na promoção das aprendizagens, da leitura, da literacia informacional e mediática e na dinamização da comunidade educativa, a Rede de Bibliotecas Escolares (RBE) recomenda que o PAA das bibliotecas seja integrado no Plano Anual de Atividades do Agrupamento, refletindo a articulação e a colaboração com as diferentes estruturas educativas e pedagógicas.
B7: No caso dos Agrupamentos de Escolas, o PAA deverá contemplar a ação conjunta das bibliotecas escolares nas diferentes escolas (com qualquer tipologia de biblioteca instalada ou ainda a aguardar intervenção), salvaguardando, simultaneamente, as especificidades, necessidades e características de cada estabelecimento de ensino e respetiva comunidade educativa.
B8: Para que possa ser assumido como um instrumento orientador e integrador da ação do agrupamento, o PAA deverá ser objeto de discussão, aprovação e acompanhamento sistemático pelas diferentes estruturas pedagógicas e educativas.
B9: Enquanto instrumento de operacionalização estratégica, o PAA deve focar-se nos objetivos a atingir e nas ações que melhor sirvam a sua concretização. Assim, deve:
B10: 1. responder aos objetivos e metas do Projeto Educativo do agrupamento/ escola não agrupada;
B11: 2. seguir as linhas de atuação definidas pela RBE no Modelo de avaliação da biblioteca escolar e nos demais documentos orientadores;
B12: 3. ter em conta as prioridades definidas, anualmente, pela RBE.
B13: Para apoiar a operacionalização e monitorização do PAA da(s) biblioteca(s), a RBE propõe a utilização do modelo PAA-RBE, que pode ser alterado e adaptado às necessidades de cada agrupamento/ escola não agrupada.
B14: Guia de apoio
B15: Folha 0 – Informação geral
... B80: . Para criar novas colunas, deve selecionar-se uma coluna igual à que se pretende acrescentar, que esteja em branco, clicar em copiar e depois em "inserir". Sempre que inserir uma coluna nova no PAA terá de a inserir também na página de monotorização.

Sheet 0. Informação geral
B2: INFORMAÇÕES GERAIS
B3: Preencha os dados referentes aos estabelecimentos de ensino e os objetivos / linhas de ação do Projeto Educativo
B5: ESCOLAS DO AGRUPAMENTO
B7: N.º | C7: Nome da escola | D7: Tipo de instalação | E7: Sigla
B8: 1 | E8: 1
B9: 2 | E9: 2
B10: 3 | E10: 3
B11: 4 | E11: 4
B12: 5 | E12: 5
B13: 6 | E13: 6
B14: 7 | E14: 7
B15: 8 | E15: 8
B16: 9 | E16: 9
B17: 10 | E17: 10
B18: 11 | E18: 11
B19: 12 | E19: 12
... B32: 25 | E32: 25
B35: PROJETO EDUCATIVO
B37: N.º | C37: Objetivo / linha de ação
B38: 1
B39: 2
B40: 3
B41: 4
B42: 5
B43: 6
B44: 7
B45: 8
B46: 9
B47: 10
B50: TURMAS DO AGRUPAMENTO | até 150 turmas
B51: Escola-sigla | C51: Nível / ano | D51: Turma | E51: N.º alunos | F51: Identificação completa | G51: ID (fixo) | H51: Observações | I51: Verificação
F52: =IF(OR(B52="",C52="",D52=""),"",B52&" | "&C52&" | "&D52) | G52: T001 | I52: =IF(COUNTA(B52:E52)=0,"",IF(AND(B52<>"",C52<>"",D52<>"",ISNUMBER(E52),E52>0),"OK","Verificar dados"))
F53: =IF(OR(B53="",C53="",D53=""),"",B53&" | "&C53&" | "&D53) | G53: T002 | I53: =IF(COUNTA(B53:E53)=0,"",IF(AND(B53<>"",C53<>"",D53<>"",ISNUMBER(E53),E53>0),"OK","Verificar dados"))
F54: =IF(OR(B54="",C54="",D54=""),"",B54&" | "&C54&" | "&D54) | G54: T003 | I54: =IF(COUNTA(B54:E54)=0,"",IF(AND(B54<>"",C54<>"",D54<>"",ISNUMBER(E54),E54>0),"OK","Verificar dados"))
F55: =IF(OR(B55="",C55="",D55=""),"",B55&" | "&C55&" | "&D55) | G55: T004 | I55: =IF(COUNTA(B55:E55)=0,"",IF(AND(B55<>"",C55<>"",D55<>"",ISNUMBER(E55),E55>0),"OK","Verificar dados"))
F56: =IF(OR(B56="",C56="",D56=""),"",B56&" | "&C56&" | "&D56) | G56: T005 | I56: =IF(COUNTA(B56:E56)=0,"",IF(AND(B56<>"",C56<>"",D56<>"",ISNUMBER(E56),E56>0),"OK","Verificar dados"))
F57: =IF(OR(B57="",C57="",D57=""),"",B57&" | "&C57&" | "&D57) | G57: T006 | I57: =IF(COUNTA(B57:E57)=0,"",IF(AND(B57<>"",C57<>"",D57<>"",ISNUMBER(E57),E57>0),"OK","Verificar dados"))
F58: =IF(OR(B58="",C58="",D58=""),"",B58&" | "&C58&" | "&D58) | G58: T007 | I58: =IF(COUNTA(B58:E58)=0,"",IF(AND(B58<>"",C58<>"",D58<>"",ISNUMBER(E58),E58>0),"OK","Verificar dados"))
F59: =IF(OR(B59="",C59="",D59=""),"",B59&" | "&C59&" | "&D59) | G59: T008 | I59: =IF(COUNTA(B59:E59)=0,"",IF(AND(B59<>"",C59<>"",D59<>"",ISNUMBER(E59),E59>0),"OK","Verificar dados"))
F60: =IF(OR(B60="",C60="",D60=""),"",B60&" | "&C60&" | "&D60) | G60: T009 | I60: =IF(COUNTA(B60:E60)=0,"",IF(AND(B60<>"",C60<>"",D60<>"",ISNUMBER(E60),E60>0),"OK","Verificar dados"))
...

Sheet 1. Plano anual atividades
B2: Biblioteca escolar
B3: Plano anual de atividades
B4: Agrupamento/ Escola não agrupada
B5: Ano letivo
B7: Domínio A - Currículo, literacias e aprendizagens
F8: Responsáveis / Dinamizadores | I8: Projeto Educativo | U8: Escolas | AE8: Escolas | AO8: Escolas
B9: Objetivos | C9: Atividades | D9: PM | E9: AcBE | G9: Público-alvo | H9: Calendarização | I9: 1 | J9: 2 | K9: 3 | L9: 4 | M9: 5 | N9: 6 | O9: 7 | P9: 8 | Q9: 9 | R9: 10 | S9: Recursos | T9: Orçamento | U9: ='0. Informação geral'!E8 -> 1 | V9: ='0. Informação geral'!E9 -> 2 | W9: ='0. Informação geral'!E10 -> 3 | X9: ='0. Informação geral'!$E11 -> 4 | Y9: ='0. Informação geral'!$E12 -> 5 | Z9: ='0. Informação geral'!$E13 -> 6 | AA9: ='0. Informação geral'!$E14 -> 7 | AB9: ='0. Informação geral'!$E15 -> 8 | AC9: ='0. Informação geral'!$E16 -> 9 | AD9: ='0. Informação geral'!$E17 -> 10 | AE9: ='0. Informação geral'!$E18 -> 11 | AF9: ='0. Informação geral'!$E19 -> 12 | AG9: ='0. Informação geral'!$E20 -> 13 | AH9: ='0. Informação geral'!$E21 -> 14 | AI9: ='0. Informação geral'!$E22 -> 15 | AJ9: ='0. Informação geral'!$E23 -> 16 | AK9: ='0. Informação geral'!$E24 -> 17 | AL9: ='0. Informação geral'!$E25 -> 18 | AM9: ='0. Informação geral'!$E26 -> 19 | AN9: ='0. Informação geral'!$E27 -> 20 | AO9: ='0. Informação geral'!$E28 -> 21 | AP9: ='0. Informação geral'!$E29 -> 22 | AQ9: ='0. Informação geral'!$E30 -> 23 | AR9: ='0. Informação geral'!$E31 -> 24 | AS9: ='0. Informação geral'!$E32 -> 25
B41: Nº de atividades planificadas | C41: =COUNTA(C10:C40) -> 0 | T41: Nº de atividades planificadas por escola | U41: =COUNTIF(U10:U40, "■") -> 0 | V41: =COUNTIF(V10:V40, "■") -> 0 | W41: =COUNTIF(W10:W40, "■") -> 0 | X41: =COUNTIF(X10:X40, "■") -> 0 | Y41: =COUNTIF(Y10:Y40, "■") -> 0 | Z41: =COUNTIF(Z10:Z40, "■") -> 0 | AA41: =COUNTIF(AA10:AA40, "■") -> 0 | AB41: =COUNTIF(AB10:AB40, "■") -> 0 | ... AS41: =COUNTIF(AS10:AS40, "■") -> 0
B42: Observações
B44: Domínio B - Leitura e literacia
F45: Responsáveis / Dinamizadores | I45: Projeto Educativo | U45: Escolas | AE45: Escolas | AO45: Escolas
B46: Objetivos | C46: Atividades | D46: PM | E46: AcBE | G46: Público-alvo | H46: Calendarização | I46: 1 | J46: 2 | K46: 3 | L46: 4 | M46: 5 | N46: 6 | O46: 7 | P46: 8 | Q46: 9 | R46: 10 | S46: Recursos | T46: Orçamento | U46: ='0. Informação geral'!E8 -> 1 | V46: ='0. Informação geral'!$E9 -> 2 | W46: ='0. Informação geral'!$E10 -> 3 | X46: ='0. Informação geral'!$E11 -> 4 | Y46: ='0. Informação geral'!$E12 -> 5 | Z46: ='0. Informação geral'!$E13 -> 6 | AA46: ='0. Informação geral'!$E14 -> 7 | AB46: ='0. Informação geral'!$E15 -> 8 | AC46: ='0. Informação geral'!$E16 -> 9 | AD46: ='0. Informação geral'!$E17 -> 10 | AE46: ='0. Informação geral'!$E18 -> 11 | AF46: ='0. Informação geral'!$E19 -> 12 | AG46: ='0. Informação geral'!$E20 -> 13 | AH46: ='0. Informação geral'!$E21 -> 14 | AI46: ='0. Informação geral'!$E22 -> 15 | AJ46: ='0. Informação geral'!$E23 -> 16 | AK46: ='0. Informação geral'!$E24 -> 17 | AL46: ='0. Informação geral'!$E25 -> 18 | AM46: ='0. Informação geral'!$E26 -> 19 | AN46: ='0. Informação geral'!$E27 -> 20 | AO46: ='0. Informação geral'!$E28 -> 21 | AP46: ='0. Informação geral'!$E29 -> 22 | AQ46: ='0. Informação geral'!$E30 -> 23 | AR46: ='0. Informação geral'!$E31 -> 24 | AS46: ='0. Informação geral'!$E32 -> 25
B78: Nº de atividades planificadas | C78: =COUNTA(C47:C77) -> 0 | T78: Nº de atividades planificadas por escola | U78: =COUNTIF(U47:U77, "■") -> 0 | V78: =COUNTIF(V47:V77, "■") -> 0 | W78: =COUNTIF(W47:W77, "■") -> 0 | X78: =COUNTIF(X47:X77, "■") -> 0 | Y78: =COUNTIF(Y47:Y77, "■") -> 0 | Z78: =COUNTIF(Z47:Z77, "■") -> 0 | AA78: =COUNTIF(AA47:AA77, "■") -> 0 | AB78: =COUNTIF(AB47:AB77, "■") -> 0 | ... AS78: =COUNTIF(AS47:AS77, "■") -> 0
B79: Observações
B81: Domínio C - Projetos e parcerias
F82: Responsáveis / Dinamizadores | I82: Projeto Educativo | U82: Escolas | AE82: Escolas | AO82: Escolas
B83: Objetivos | C83: Atividades | D83: PM | E83: AcBE | G83: Público-alvo | H83: Calendarização | I83: 1 | J83: 2 | K83: 3 | L83: 4 | M83: 5 | N83: 6 | O83: 7 | P83: 8 | Q83: 9 | R83: 10 | S83: Recursos | T83: Orçamento | U83: {=TRANSPOSE('0. Informação geral'!E8:E32)} -> 1 | V83: 2 | W83: 3 | X83: 4 | Y83: 5 | Z83: 6 | AA83: 7 | AB83: 8 | AC83: 9 | AD83: 10 | AE83: 11 | AF83: 12 | AG83: 13 | AH83: 14 | AI83: 15 | AJ83: 16 | AK83: 17 | AL83: 18 | AM83: 19 | AN83: 20 | AO83: 21 | AP83: 22 | AQ83: 23 | AR83: 24 | AS83: 25
B115: Nº de atividades planificadas | C115: =COUNTA(C84:C114) -> 0 | T115: Nº de atividades planificadas por escola | U115: =COUNTIF(U84:U114, "■") -> 0 | V115: =COUNTIF(V84:V114, "■") -> 0 | W115: =COUNTIF(W84:W114, "■") -> 0 | X115: =COUNTIF(X84:X114, "■") -> 0 | Y115: =COUNTIF(Y84:Y114, "■") -> 0 | Z115: =COUNTIF(Z84:Z114, "■") -> 0 | AA115: =COUNTIF(AA84:AA114, "■") -> 0 | AB115: =COUNTIF(AB84:AB114, "■") -> 0 | ... AS115: =COUNTIF(AS84:AS114, "■") -> 0
B116: Observações
B118: Domínio D - Gestão da biblioteca escolar
F119: Responsáveis / Dinamizadores | I119: Projeto Educativo | U119: Escolas | AE119: Escolas | AO119: Escolas
B120: Objetivos | C120: Atividades | D120: PM | E120: AcBE | G120: Público-alvo | H120: Calendarização | I120: 1 | J120: 2 | K120: 3 | L120: 4 | M120: 5 | N120: 6 | O120: 7 | P120: 8 | Q120: 9 | R120: 10 | S120: Recursos | T120: Orçamento | U120: {=TRANSPOSE('0. Informação geral'!E8:E32)} -> 1 | V120: 2 | W120: 3 | X120: 4 | Y120: 5 | Z120: 6 | AA120: 7 | AB120: 8 | AC120: 9 | AD120: 10 | AE120: 11 | AF120: 12 | AG120: 13 | AH120: 14 | AI120: 15 | AJ120: 16 | AK120: 17 | AL120: 18 | AM120: 19 | AN120: 20 | AO120: 21 | AP120: 22 | AQ120: 23 | AR120: 24 | AS120: 25
B152: Nº de atividades planificadas | C152: =COUNTA(C121:C151) -> 0 | T152: Nº de atividades planificadas por escola | U152: =COUNTIF(U121:U151, "■") -> 0 | V152: =COUNTIF(V121:V151, "■") -> 0 | W152: =COUNTIF(W121:W151, "■") -> 0 | X152: =COUNTIF(X121:X151, "■") -> 0 | Y152: =COUNTIF(Y121:Y151, "■") -> 0 | Z152: =COUNTIF(Z121:Z151, "■") -> 0 | AA152: =COUNTIF(AA121:AA151, "■") -> 0 | AB152: =COUNTIF(AB121:AB151, "■") -> 0 | ... AS152: =COUNTIF(AS121:AS151, "■") -> 0
B153: Observações
B155: Total de atividades planificadas | C155: =SUM(C41,C78,C115,C152) -> 0 | T155: Nº de atividades planificadas por escola | U155: =SUM(U41,U78,U115,U152) -> 0 | V155: =SUM(V41,V78,V115,V152) -> 0 | W155: =SUM(W41,W78,W115,W152) -> 0 | X155: =SUM(X41,X78,X115,X152) -> 0 | Y155: =SUM(Y41,Y78,Y115,Y152) -> 0 | Z155: =SUM(Z41,Z78,Z115,Z152) -> 0 | AA155: =SUM(AA41,AA78,AA115,AA152) -> 0 | AB155: =SUM(AB41,AB78,AB115,AB152) -> 0 | ... AS155: =SUM(AS41,AS78,AS115,AS152) -> 0
B157: Observações:
B158: PM - Plano de melhoria; AcBE - Referencial Aprender com a biblioteca escolar

Sheet 2. Monitorização
B2: Biblioteca escolar
B3: Recolha de evidências e indicadores de sucesso
B5: Domínio A - Currículo, literacias e aprendizagens
E6: Projeto Educativo | O6: N.º total | Q6: N.º de participações | R6: N.º de alunos envolvidos | T6: N.º participações de alunos | V6: N.º de docentes envolvidos | X6: N.º participações de docentes | AC6: Área de literacia | AF6: Área curricular e extracurricular | AM6: Alunos envolvidos | AR6: Docentes envolvidos | AW6: Nível de impacto | AY6: Projetos | AZ6: Propostas RBE | BA6: Propostas de outras instituições nacionais ou internacionais | BB6: Propostas locais ou regionais
B7: Atividades planificadas | C7: Executada | D7: PM | E7: 1 | F7: 2 | G7: 3 | H7: 4 | I7: 5 | J7: 6 | K7: 7 | L7: 8 | M7: 9 | N7: 10 | O7: Turmas | P7: Aulas/ sessões | Q7: Turmas | R7: Individual | S7: Em turma | T7: Individual | U7: Em turma | V7: Individual | W7: Com turma | X7: Individual | Y7: Com turma | Z7: N.º de Pais e EE envolvidos | AA7: N.º de outros envolvidos | AB7: AcBE | AC7: L | AD7: I | AE7: M | AF7: L | AG7: CSH | AH7: MCE | AI7: ET | AJ7: ACT | AK7: ALF | AL7: Outras | AM7: Pré-Escolar | AN7: 1.º CEB | AO7: 2.º CEB | AP7: 3.º CEB | AQ7: Ensino Secundário | AR7: Pré-Escolar | AS7: 1.º CEB | AT7: 2.º CEB | AU7: 3.º CEB | AV7: Ensino Secundário | AW7: CC | AX7: AV | BC7: 7D | BD7: N.º alunos | BE7: aler+ | BF7: N.º alunos | BG7: ECC | BH7: N.º alunos | BI7: CP | BJ7: N.º alunos | BK7: CR | BL7: N.º alunos | BM7: CC | BN7: N.º alunos | BO7: DIS | BP7: N.º alunos | BQ7: DMLP | BR7: N.º alunos | BS7: ITEC | BT7: N.º alunos | BU7: JR | BV7: N.º alunos | BW7: JC | BX7: N.º alunos | BY7: LECBE | BZ7: N.º alunos | CA7: LFE | CB7: N.º alunos | CC7: L | CD7: N.º alunos | CE7: M | CF7: N.º alunos | CG7: MIBE | CH7: N.º alunos | CI7: MV | CJ7: N.º alunos | CK7: NGL | CL7: N.º alunos | CM7: P | CN7: N.º alunos | CO7: PE | CP7: N.º alunos | CQ7: RO | CR7: N.º alunos | CS7: SL | CT7: N.º alunos | CU7: SAI | CV7: N.º alunos | CW7: TJPL | CX7: N.º alunos | CY7: VL | CZ7: N.º alunos | DA7: O | DB7: N.º alunos | DD7: PNA | DE7: N.º alunos | DF7: PNC | DG7: N.º alunos | DH7: PNFF | DI7: N.º alunos | DJ7: PNL | DK7: N.º alunos | DL7: O | DM7: N.º alunos | DO7: HCBE | DP7: N.º alunos | DQ7: JE | DR7: N.º alunos | DS7: RE | DT7: N.º alunos | DU7: TVE | DV7: N.º alunos | DW7: O | DX7: N.º alunos
B8: ='1. Plano anual atividades'!C10 -> 0 | D8: ='1. Plano anual atividades'!D10 -> 0 | E8: ='1. Plano anual atividades'!I10 -> 0 | F8: ='1. Plano anual atividades'!J10 -> 0 | G8: ='1. Plano anual atividades'!K10 -> 0 | H8: ='1. Plano anual atividades'!L10 -> 0 | I8: ='1. Plano anual atividades'!M10 -> 0 | J8: ='1. Plano anual atividades'!N10 -> 0 | K8: ='1. Plano anual atividades'!O10 -> 0 | L8: ='1. Plano anual atividades'!P10 -> 0 | ... N8: ='1. Plano anual atividades'!R10 -> 0 | Q8: =O8*P8 -> 0 | T8: =P8*R8 -> 0 | U8: =P8*S8 -> 0 | X8: =P8*V8 -> 0 | Y8: =P8*W8 -> 0 | AB8: ='1. Plano anual atividades'!E10 -> 0 | BC8: =IF($AZ8="7 dias com os media", "■",0) -> 0 | BD8: =IF(BC8="■", $R8+$S8) -> FALSE | BE8: =IF($AZ8="aLer mais e melhor", "■",0) -> 0 | BF8: =IF(BE8="■", $R8+$S8) -> FALSE | BG8: =IF($AZ8="Campeonato de Escrita e Ciência Criativa", "■",0) -> 0 | BH8: =IF(BG8="■", $R8+$S8) -> FALSE | BI8: =IF($AZ8="Cientificamente provável", "■",0) -> 0 | BJ8: =IF(BI8="■", $R8+$S8) -> FALSE | BK8: =IF($AZ8="Clássicos em rede", "■",0) -> 0 | BL8: =IF(BK8="■", $R8+$S8) -> FALSE | BM8: =IF($AZ8="Conto Contigo", "■",0) -> 0 | BN8: =IF(BM8="■", $R8+$S8) -> FALSE | BO8: =IF($AZ8="Dia da internet Mais Segura", "■",0) -> 0 | BP8: =IF(BO8="■", $R8+$S8) -> FALSE | BQ8: =IF($AZ8="Dia Mundial da Língua Portuguesa", "■",0) -> 0 | BR8: =IF(BQ8="■", $R8+$S8) -> FALSE | BS8: =IF($AZ8="Isto também é comigo", "■",0) -> 0 | BT8: =IF(BS8="■", $R8+$S8) -> FALSE | BU8: =IF($AZ8="Jornalistas em rede", "■",0) -> 0 | BV8: =IF(BU8="■", $R8+$S8) -> FALSE | BW8: =IF($AZ8="Juntos a criar", "■",0) -> 0 | BX8: =IF(BW8="■", $R8+$S8) -> FALSE | BY8: =IF($AZ8="Ler eescrever mais com a BE", "■",0) -> 0 | BZ8: =IF(BY8="■", $R8+$S8) -> FALSE | CA8: =IF($AZ8="Ler fora da escola", "■",0) -> 0 | CB8: =IF(CA8="■", $R8+$S8) -> FALSE | CC8: =IF($AZ8="Lidera", "■",0) -> 0 | CD8: =IF(CC8="■", $R8+$S8) -> FALSE | CE8: =IF($AZ8="Media@ção", "■",0) -> 0 | CF8: =IF(CE8="■", $R8+$S8) -> FALSE | CG8: =IF($AZ8="Mês Internacional da Biblioteca Escolar", "■",0) -> 0 | CH8: =IF(CG8="■", $R8+$S8) -> FALSE | CI8: =IF($AZ8="Miúdos a votos", "■",0) -> 0 | CJ8: =IF(CI8="■", $R8+$S8) -> FALSE | CK8: =IF($AZ8="Newton gostava de ler", "■",0) -> 0 | CL8: =IF(CK8="■", $R8+$S8) -> FALSE | CM8: =IF($AZ8="Proliteracias", "■",0) -> 0 | CN8: =IF(CM8="■", $R8+$S8) -> FALSE | CO8: =IF($AZ8="PÚBLICO na Escola", "■",0) -> 0 | CP8: =IF(CO8="■", $R8+$S8) -> FALSE | CQ8: =IF($AZ8="READ ON Portugal", "■",0) -> 0 | CR8: =IF(CQ8="■", $R8+$S8) -> FALSE | CS8: =IF($AZ8="Semana da leitura", "■",0) -> 0 | CT8: =IF(CS8="■", $R8+$S8) -> FALSE | CU8: =IF($AZ8="Supercharged by IA", "■",0) -> 0 | CV8: =IF(CU8="■", $R8+$S8) -> FALSE | CW8: =IF($AZ8="Todos Juntos Podemos Ler", "■",0) -> 0 | CX8: =IF(CW8="■", $R8+$S8) -> FALSE | CY8: =IF($AZ8="Voluntários de leitura", "■",0) -> 0 | CZ8: =IF(CY8="■", $R8+$S8) -> FALSE | DA8: =IF($AZ8="Outra(s)", "■",0) -> 0 | DB8: =IF(DA8="■", $R8+$S8) -> FALSE | DD8: =IF($BA8="Plano Nacional das Artes", "■",0) -> 0 | DE8: =IF(DD8="■", $R8+$S8) -> FALSE | DF8: =IF($BA8="Plano Nacional de Cinema", "■",0) -> 0 | DG8: =IF(DF8="■", $R8+$S8) -> FALSE | DH8: =IF($BA8="Plano Nacional de Formação Financeira", "■",0) -> 0 | DI8: =IF(DH8="■", $R8+$S8) -> FALSE | DJ8: =IF($BA8="Plano Nacional de Formação Financeira", "■",0) -> 0 | DK8: =IF(DJ8="■", $R8+$S8) -> FALSE | DL8: =IF($BA8="Outra(s)", "■",0) -> 0 | DM8: =IF(DL8="■", $R8+$S8) -> FALSE | DO8: =IF($BB8="Histórias com Ciência na Biblioteca Escolar", "■",0) -> 0 | DP8: =IF(DO8="■", $R8+$S8) -> FALSE | DQ8: =IF($BB8="Jornal escolar", "■",0) -> 0 | DR8: =IF(DQ8="■", $R8+$S8) -> FALSE | DS8: =IF($BB8="Rádio escolar", "■",0) -> 0 | DT8: =IF(DS8="■", $R8+$S8) -> FALSE | DU8: =IF($BB8="TV escolar", "■",0) -> 0 | DV8: =IF(DU8="■", $R8+$S8) -> FALSE | DW8: =IF($BB8="Outra(s)", "■",0) -> 0 | DX8: =IF(DW8="■", $R8+$S8) -> FALSE
B9: ='1. Plano anual atividades'!C11 -> 0 | D9: ='1. Plano anual atividades'!D11 -> 0 | E9: ='1. Plano anual atividades'!I11 -> 0 | F9: ='1. Plano anual atividades'!J11 -> 0 | G9: ='1. Plano anual atividades'!K11 -> 0 | H9: ='1. Plano anual atividades'!L11 -> 0 | I9: ='1. Plano anual atividades'!M11 -> 0 | J9: ='1. Plano anual atividades'!N11 -> 0 | K9: ='1. Plano anual atividades'!O11 -> 0 | L9: ='1. Plano anual atividades'!P11 -> 0 | ... N9: ='1. Plano anual atividades'!R11 -> 0 | Q9: =O9*P9 -> 0 | T9: =P9*R9 -> 0 | U9: =P9*S9 -> 0 | X9: =P9*V9 -> 0 | Y9: =P9*W9 -> 0 | AB9: ='1. Plano anual atividades'!E11 -> 0 | BC9: =IF($AZ9="7 dias com os media", "■",0) -> 0 | BD9: =IF(BC9="■", $R9+$S9) -> FALSE | BE9: =IF($AZ9="aLer mais e melhor", "■",0) -> 0 | BF9: =IF(BE9="■", $R9+$S9) -> FALSE | BG9: =IF($AZ9="Campeonato de Escrita e Ciência Criativa", "■",0) -> 0 | BH9: =IF(BG9="■", $R9+$S9) -> FALSE | BI9: =IF($AZ9="Cientificamente provável", "■",0) -> 0 | BJ9: =IF(BI9="■", $R9+$S9) -> FALSE | BK9: =IF($AZ9="Clássicos em rede", "■",0) -> 0 | BL9: =IF(BK9="■", $R9+$S9) -> FALSE | BM9: =IF($AZ9="Conto Contigo", "■",0) -> 0 | BN9: =IF(BM9="■", $R9+$S9) -> FALSE | BO9: =IF($AZ9="Dia da internet Mais Segura", "■",0) -> 0 | BP9: =IF(BO9="■", $R9+$S9) -> FALSE | BQ9: =IF($AZ9="Dia Mundial da Língua Portuguesa", "■",0) -> 0 | BR9: =IF(BQ9="■", $R9+$S9) -> FALSE | BS9: =IF($AZ9="Isto também é comigo", "■",0) -> 0 | BT9: =IF(BS9="■", $R9+$S9) -> FALSE | BU9: =IF($AZ9="Jornalistas em rede", "■",0) -> 0 | BV9: =IF(BU9="■", $R9+$S9) -> FALSE | BW9: =IF($AZ9="Juntos a criar", "■",0) -> 0 | BX9: =IF(BW9="■", $R9+$S9) -> FALSE | BY9: =IF($AZ9="Ler eescrever mais com a BE", "■",0) -> 0 | BZ9: =IF(BY9="■", $R9+$S9) -> FALSE | CA9: =IF($AZ9="Ler fora da escola", "■",0) -> 0 | CB9: =IF(CA9="■", $R9+$S9) -> FALSE | CC9: =IF($AZ9="Lidera", "■",0) -> 0 | CD9: =IF(CC9="■", $R9+$S9) -> FALSE | CE9: =IF($AZ9="Media@ção", "■",0) -> 0 | CF9: =IF(CE9="■", $R9+$S9) -> FALSE | CG9: =IF($AZ9="Mês Internacional da Biblioteca Escolar", "■",0) -> 0 | CH9: =IF(CG9="■", $R9+$S9) -> FALSE | CI9: =IF($AZ9="Miúdos a votos", "■",0) -> 0 | CJ9: =IF(CI9="■", $R9+$S9) -> FALSE | CK9: =IF($AZ9="Newton gostava de ler", "■",0) -> 0 | CL9: =IF(CK9="■", $R9+$S9) -> FALSE | CM9: =IF($AZ9="Proliteracias", "■",0) -> 0 | CN9: =IF(CM9="■", $R9+$S9) -> FALSE | CO9: =IF($AZ9="PÚBLICO na Escola", "■",0) -> 0 | CP9: =IF(CO9="■", $R9+$S9) -> FALSE | CQ9: =IF($AZ9="READ ON Portugal", "■",0) -> 0 | CR9: =IF(CQ9="■", $R9+$S9) -> FALSE | CS9: =IF($AZ9="Semana da leitura", "■",0) -> 0 | CT9: =IF(CS9="■", $R9+$S9) -> FALSE | CU9: =IF($AZ9="Supercharged by IA", "■",0) -> 0 | CV9: =IF(CU9="■", $R9+$S9) -> FALSE | CW9: =IF($AZ9="Todos Juntos Podemos Ler", "■",0) -> 0 | CX9: =IF(CW9="■", $R9+$S9) -> FALSE | CY9: =IF($AZ9="Voluntários de leitura", "■",0) -> 0 | CZ9: =IF(CY9="■", $R9+$S9) -> FALSE | DA9: =IF($AZ9="Outra(s)", "■",0) -> 0 | DB9: =IF(DA9="■", $R9+$S9) -> FALSE | DD9: =IF($BA9="Plano Nacional das Artes", "■",0) -> 0 | DE9: =IF(DD9="■", $R9+$S9) -> FALSE | DF9: =IF($BA9="Plano Nacional de Cinema", "■",0) -> 0 | DG9: =IF(DF9="■", $R9+$S9) -> FALSE | DH9: =IF($BA9="Plano Nacional de Formação Financeira", "■",0) -> 0 | DI9: =IF(DH9="■", $R9+$S9) -> FALSE | DJ9: =IF($BA9="Plano Nacional de Formação Financeira", "■",0) -> 0 | DK9: =IF(DJ9="■", $R9+$S9) -> FALSE | DL9: =IF($BA9="Outra(s)", "■",0) -> 0 | DM9: =IF(DL9="■", $R9+$S9) -> FALSE | DO9: =IF($BB9="Histórias com Ciência na Biblioteca Escolar", "■",0) -> 0 | DP9: =IF(DO9="■", $R9+$S9) -> FALSE | DQ9: =IF($BB9="Jornal escolar", "■",0) -> 0 | DR9: =IF(DQ9="■", $R9+$S9) -> FALSE | DS9: =IF($BB9="Rádio escolar", "■",0) -> 0 | DT9: =IF(DS9="■", $R9+$S9) -> FALSE | DU9: =IF($BB9="TV escolar", "■",0) -> 0 | DV9: =IF(DU9="■", $R9+$S9) -> FALSE | DW9: =IF($BB9="Outra(s)", "■",0) -> 0 | DX9: =IF(DW9="■", $R9+$S9) -> FALSE
B10: ='1. Plano anual atividades'!C12 -> 0 | D10: ='1. Plano anual atividades'!D12 -> 0 | E10: ='1. Plano anual atividades'!I12 -> 0 | F10: ='1. Plano anual atividades'!J12 -> 0 | G10: ='1. Plano anual atividades'!K12 -> 0 | H10: ='1. Plano anual atividades'!L12 -> 0 | I10: ='1. Plano anual atividades'!M12 -> 0 | J10: ='1. Plano anual atividades'!N12 -> 0 | K10: ='1. Plano anual atividades'!O12 -> 0 | L10: ='1. Plano anual atividades'!P12 -> 0 | ... N10: ='1. Plano anual atividades'!R12 -> 0 | Q10: =O10*P10 -> 0 | T10: =P10*R10 -> 0 | U10: =P10*S10 -> 0 | X10: =P10*V10 -> 0 | Y10: =P10*W10 -> 0 | AB10: ='1. Plano anual atividades'!E12 -> 0 | BC10: =IF($AZ10="7 dias com os media", "■",0) -> 0 | BD10: =IF(BC10="■", $R10+$S10) -> FALSE | BE10: =IF($AZ10="aLer mais e melhor", "■",0) -> 0 | BF10: =IF(BE10="■", $R10+$S10) -> FALSE | BG10: =IF($AZ10="Campeonato de Escrita e Ciência Criativa", "■",0) -> 0 | BH10: =IF(BG10="■", $R10+$S10) -> FALSE | BI10: =IF($AZ10="Cientificamente provável", "■",0) -> 0 | BJ10: =IF(BI10="■", $R10+$S10) -> FALSE | BK10: =IF($AZ10="Clássicos em rede", "■",0) -> 0 | BL10: =IF(BK10="■", $R10+$S10) -> FALSE | BM10: =IF($AZ10="Conto Contigo", "■",0) -> 0 | BN10: =IF(BM10="■", $R10+$S10) -> FALSE | BO10: =IF($AZ10="Dia da internet Mais Segura", "■",0) -> 0 | BP10: =IF(BO10="■", $R10+$S10) -> FALSE | BQ10: =IF($AZ10="Dia Mundial da Língua Portuguesa", "■",0) -> 0 | BR10: =IF(BQ10="■", $R10+$S10) -> FALSE | BS10: =IF($AZ10="Isto também é comigo", "■",0) -> 0 | BT10: =IF(BS10="■", $R10+$S10) -> FALSE | BU10: =IF($AZ10="Jornalistas em rede", "■",0) -> 0 | BV10: =IF(BU10="■", $R10+$S10) -> FALSE | BW10: =IF($AZ10="Juntos a criar", "■",0) -> 0 | BX10: =IF(BW10="■", $R10+$S10) -> FALSE | BY10: =IF($AZ10="Ler eescrever mais com a BE", "■",0) -> 0 | BZ10: =IF(BY10="■", $R10+$S10) -> FALSE | CA10: =IF($AZ10="Ler fora da escola", "■",0) -> 0 | CB10: =IF(CA10="■", $R10+$S10) -> FALSE | CC10: =IF($AZ10="Lidera", "■",0) -> 0 | CD10: =IF(CC10="■", $R10+$S10) -> FALSE | CE10: =IF($AZ10="Media@ção", "■",0) -> 0 | CF10: =IF(CE10="■", $R10+$S10) -> FALSE | CG10: =IF($AZ10="Mês Internacional da Biblioteca Escolar", "■",0) -> 0 | CH10: =IF(CG10="■", $R10+$S10) -> FALSE | CI10: =IF($AZ10="Miúdos a votos", "■",0) -> 0 | CJ10: =IF(CI10="■", $R10+$S10) -> FALSE | CK10: =IF($AZ10="Newton gostava de ler", "■",0) -> 0 | CL10: =IF(CK10="■", $R10+$S10) -> FALSE | CM10: =IF($AZ10="Proliteracias", "■",0) -> 0 | CN10: =IF(CM10="■", $R10+$S10) -> FALSE | CO10: =IF($AZ10="PÚBLICO na Escola", "■",0) -> 0 | CP10: =IF(CO10="■", $R10+$S10) -> FALSE | CQ10: =IF($AZ10="READ ON Portugal", "■",0) -> 0 | CR10: =IF(CQ10="■", $R10+$S10) -> FALSE | CS10: =IF($AZ10="Semana da leitura", "■",0) -> 0 | CT10: =IF(CS10="■", $R10+$S10) -> FALSE | CU10: =IF($AZ10="Supercharged by IA", "■",0) -> 0 | CV10: =IF(CU10="■", $R10+$S10) -> FALSE | CW10: =IF($AZ10="Todos Juntos Podemos Ler", "■",0) -> 0 | CX10: =IF(CW10="■", $R10+$S10) -> FALSE | CY10: =IF($AZ10="Voluntários de leitura", "■",0) -> 0 | CZ10: =IF(CY10="■", $R10+$S10) -> FALSE | DA10: =IF($AZ10="Outra(s)", "■",0) -> 0 | DB10: =IF(DA10="■", $R10+$S10) -> FALSE | DD10: =IF($BA10="Plano Nacional das Artes", "■",0) -> 0 | DE10: =IF(DD10="■", $R10+$S10) -> FALSE | DF10: =IF($BA10="Plano Nacional de Cinema", "■",0) -> 0 | DG10: =IF(DF10="■", $R10+$S10) -> FALSE | DH10: =IF($BA10="Plano Nacional de Formação Financeira", "■",0) -> 0 | DI10: =IF(DH10="■", $R10+$S10) -> FALSE | DJ10: =IF($BA10="Plano Nacional de Formação Financeira", "■",0) -> 0 | DK10: =IF(DJ10="■", $R10+$S10) -> FALSE | DL10: =IF($BA10="Outra(s)", "■",0) -> 0 | DM10: =IF(DL10="■", $R10+$S10) -> FALSE | DO10: =IF($BB10="Histórias com Ciência na Biblioteca Escolar", "■",0) -> 0 | DP10: =IF(DO10="■", $R10+$S10) -> FALSE | DQ10: =IF($BB10="Jornal escolar", "■",0) -> 0 | DR10: =IF(DQ10="■", $R10+$S10) -> FALSE | DS10: =IF($BB10="Rádio escolar", "■",0) -> 0 | DT10: =IF(DS10="■", $R10+$S10) -> FALSE | DU10: =IF($BB10="TV escolar", "■",0) -> 0 | DV10: =IF(DU10="■", $R10+$S10) -> FALSE | DW10: =IF($BB10="Outra(s)", "■",0) -> 0 | DX10: =IF(DW10="■", $R10+$S10) -> FALSE
B11: ='1. Plano anual atividades'!C13 -> 0 | D11: ='1. Plano anual atividades'!D13 -> 0 | E11: ='1. Plano anual atividades'!I13 -> 0 | F11: ='1. Plano anual atividades'!J13 -> 0 | G11: ='1. Plano anual atividades'!K13 -> 0 | H11: ='1. Plano anual atividades'!L13 -> 0 | I11: ='1. Plano anual atividades'!M13 -> 0 | J11: ='1. Plano anual atividades'!N13 -> 0 | K11: ='1. Plano anual atividades'!O13 -> 0 | L11: ='1. Plano anual atividades'!P13 -> 0 | ... N11: ='1. Plano anual atividades'!R13 -> 0 | Q11: =O11*P11 -> 0 | T11: =P11*R11 -> 0 | U11: =P11*S11 -> 0 | X11: =P11*V11 -> 0 | Y11: =P11*W11 -> 0 | AB11: ='1. Plano anual atividades'!E13 -> 0 | BC11: =IF($AZ11="7 dias com os media", "■",0) -> 0 | BD11: =IF(BC11="■", $R11+$S11) -> FALSE | BE11: =IF($AZ11="aLer mais e melhor", "■",0) -> 0 | BF11: =IF(BE11="■", $R11+$S11) -> FALSE | BG11: =IF($AZ11="Campeonato de Escrita e Ciência Criativa", "■",0) -> 0 | BH11: =IF(BG11="■", $R11+$S11) -> FALSE | BI11: =IF($AZ11="Cientificamente provável", "■",0) -> 0 | BJ11: =IF(BI11="■", $R11+$S11) -> FALSE | BK11: =IF($AZ11="Clássicos em rede", "■",0) -> 0 | BL11: =IF(BK11="■", $R11+$S11) -> FALSE | BM11: =IF($AZ11="Conto Contigo", "■",0) -> 0 | BN11: =IF(BM11="■", $R11+$S11) -> FALSE | BO11: =IF($AZ11="Dia da internet Mais Segura", "■",0) -> 0 | BP11: =IF(BO11="■", $R11+$S11) -> FALSE | BQ11: =IF($AZ11="Dia Mundial da Língua Portuguesa", "■",0) -> 0 | BR11: =IF(BQ11="■", $R11+$S11) -> FALSE | BS11: =IF($AZ11="Isto também é comigo", "■",0) -> 0 | BT11: =IF(BS11="■", $R11+$S11) -> FALSE | BU11: =IF($AZ11="Jornalistas em rede", "■",0) -> 0 | BV11: =IF(BU11="■", $R11+$S11) -> FALSE | BW11: =IF($AZ11="Juntos a criar", "■",0) -> 0 | BX11: =IF(BW11="■", $R11+$S11) -> FALSE | BY11: =IF($AZ11="Ler eescrever mais com a BE", "■",0) -> 0 | BZ11: =IF(BY11="■", $R11+$S11) -> FALSE | CA11: =IF($AZ11="Ler fora da escola", "■",0) -> 0 | CB11: =IF(CA11="■", $R11+$S11) -> FALSE | CC11: =IF($AZ11="Lidera", "■",0) -> 0 | CD11: =IF(CC11="■", $R11+$S11) -> FALSE | CE11: =IF($AZ11="Media@ção", "■",0) -> 0 | CF11: =IF(CE11="■", $R11+$S11) -> FALSE | CG11: =IF($AZ11="Mês Internacional da Biblioteca Escolar", "■",0) -> 0 | CH11: =IF(CG11="■", $R11+$S11) -> FALSE | CI11: =IF($AZ11="Miúdos a votos", "■",0) -> 0 | CJ11: =IF(CI11="■", $R11+$S11) -> FALSE | CK11: =IF($AZ11="Newton gostava de ler", "■",0) -> 0 | CL11: =IF(CK11="■", $R11+$S11) -> FALSE | CM11: =IF($AZ11="Proliteracias", "■",0) -> 0 | CN11: =IF(CM11="■", $R11+$S11) -> FALSE | CO11: =IF($AZ11="PÚBLICO na Escola", "■",0) -> 0 | CP11: =IF(CO11="■", $R11+$S11) -> FALSE | CQ11: =IF($AZ11="READ ON Portugal", "■",0) -> 0 | CR11: =IF(CQ11="■", $R11+$S11) -> FALSE | CS11: =IF($AZ11="Semana da leitura", "■",0) -> 0 | CT11: =IF(CS11="■", $R11+$S11) -> FALSE | CU11: =IF($AZ11="Supercharged by IA", "■",0) -> 0 | CV11: =IF(CU11="■", $R11+$S11) -> FALSE | CW11: =IF($AZ11="Todos Juntos Podemos Ler", "■",0) -> 0 | CX11: =IF(CW11="■", $R11+$S11) -> FALSE | CY11: =IF($AZ11="Voluntários de leitura", "■",0) -> 0 | CZ11: =IF(CY11="■", $R11+$S11) -> FALSE | DA11: =IF($AZ11="Outra(s)", "■",0) -> 0 | DB11: =IF(DA11="■", $R11+$S11) -> FALSE | DD11: =IF($BA11="Plano Nacional das Artes", "■",0) -> 0 | DE11: =IF(DD11="■", $R11+$S11) -> FALSE | DF11: =IF($BA11="Plano Nacional de Cinema", "■",0) -> 0 | DG11: =IF(DF11="■", $R11+$S11) -> FALSE | DH11: =IF($BA11="Plano Nacional de Formação Financeira", "■",0) -> 0 | DI11: =IF(DH11="■", $R11+$S11) -> FALSE | DJ11: =IF($BA11="Plano Nacional de Formação Financeira", "■",0) -> 0 | DK11: =IF(DJ11="■", $R11+$S11) -> FALSE | DL11: =IF($BA11="Outra(s)", "■",0) -> 0 | DM11: =IF(DL11="■", $R11+$S11) -> FALSE | DO11: =IF($BB11="Histórias com Ciência na Biblioteca Escolar", "■",0) -> 0 | DP11: =IF(DO11="■", $R11+$S11) -> FALSE | DQ11: =IF($BB11="Jornal escolar", "■",0) -> 0 | DR11: =IF(DQ11="■", $R11+$S11) -> FALSE | DS11: =IF($BB11="Rádio escolar", "■",0) -> 0 | DT11: =IF(DS11="■", $R11+$S11) -> FALSE | DU11: =IF($BB11="TV escolar", "■",0) -> 0 | DV11: =IF(DU11="■", $R11+$S11) -> FALSE | DW11: =IF($BB11="Outra(s)", "■",0) -> 0 | DX11: =IF(DW11="■", $R11+$S11) -> FALSE
B12: ='1. Plano anual atividades'!C14 -> 0 | D12: ='1. Plano anual atividades'!D14 -> 0 | E12: ='1. Plano anual atividades'!I14 -> 0 | F12: ='1. Plano anual atividades'!J14 -> 0 | G12: ='1. Plano anual atividades'!K14 -> 0 | H12: ='1. Plano anual atividades'!L14 -> 0 | I12: ='1. Plano anual atividades'!M14 -> 0 | J12: ='1. Plano anual atividades'!N14 -> 0 | K12: ='1. Plano anual atividades'!O14 -> 0 | L12: ='1. Plano anual atividades'!P14 -> 0 | ... N12: ='1. Plano anual atividades'!R14 -> 0 | Q12: =O12*P12 -> 0 | T12: =P12*R12 -> 0 | U12: =P12*S12 -> 0 | X12: =P12*V12 -> 0 | Y12: =P12*W12 -> 0 | AB12: ='1. Plano anual atividades'!E14 -> 0 | BC12: =IF($AZ12="7 dias com os media", "■",0) -> 0 | BD12: =IF(BC12="■", $R12+$S12) -> FALSE | BE12: =IF($AZ12="aLer mais e melhor", "■",0) -> 0 | BF12: =IF(BE12="■", $R12+$S12) -> FALSE | BG12: =IF($AZ12="Campeonato de Escrita e Ciência Criativa", "■",0) -> 0 | BH12: =IF(BG12="■", $R12+$S12) -> FALSE | BI12: =IF($AZ12="Cientificamente provável", "■",0) -> 0 | BJ12: =IF(BI12="■", $R12+$S12) -> FALSE | BK12: =IF($AZ12="Clássicos em rede", "■",0) -> 0 | BL12: =IF(BK12="■", $R12+$S12) -> FALSE | BM12: =IF($AZ12="Conto Contigo", "■",0) -> 0 | BN12: =IF(BM12="■", $R12+$S12) -> FALSE | BO12: =IF($AZ12="Dia da internet Mais Segura", "■",0) -> 0 | BP12: =IF(BO12="■", $R12+$S12) -> FALSE | BQ12: =IF($AZ12="Dia Mundial da Língua Portuguesa", "■",0) -> 0 | BR12: =IF(BQ12="■", $R12+$S12) -> FALSE | BS12: =IF($AZ12="Isto também é comigo", "■",0) -> 0 | BT12: =IF(BS12="■", $R12+$S12) -> FALSE | BU12: =IF($AZ12="Jornalistas em rede", "■",0) -> 0 | BV12: =IF(BU12="■", $R12+$S12) -> FALSE | BW12: =IF($AZ12="Juntos a criar", "■",0) -> 0 | BX12: =IF(BW12="■", $R12+$S12) -> FALSE | BY12: =IF($AZ12="Ler eescrever mais com a BE", "■",0) -> 0 | BZ12: =IF(BY12="■", $R12+$S12) -> FALSE | CA12: =IF($AZ12="Ler fora da escola", "■",0) -> 0 | CB12: =IF(CA12="■", $R12+$S12) -> FALSE | CC12: =IF($AZ12="Lidera", "■",0) -> 0 | CD12: =IF(CC12="■", $R12+$S12) -> FALSE | CE12: =IF($AZ12="Media@ção", "■",0) -> 0 | CF12: =IF(CE12="■", $R12+$S12) -> FALSE | CG12: =IF($AZ12="Mês Internacional da Biblioteca Escolar", "■",0) -> 0 | CH12: =IF(CG12="■", $R12+$S12) -> FALSE | CI12: =IF($AZ12="Miúdos a votos", "■",0) -> 0 | CJ12: =IF(CI12="■", $R12+$S12) -> FALSE | CK12: =IF($AZ12="Newton gostava de ler", "■",0) -> 0 | CL12: =IF(CK12="■", $R12+$S12) -> FALSE | CM12: =IF($AZ12="Proliteracias", "■",0) -> 0 | CN12: =IF(CM12="■", $R12+$S12) -> FALSE | CO12: =IF($AZ12="PÚBLICO na Escola", "■",0) -> 0 | CP12: =IF(CO12="■", $R12+$S12) -> FALSE | CQ12: =IF($AZ12="READ ON Portugal", "■",0) -> 0 | CR12: =IF(CQ12="■", $R12+$S12) -> FALSE | CS12: =IF($AZ12="Semana da leitura", "■",0) -> 0 | CT12: =IF(CS12="■", $R12+$S12) -> FALSE | CU12: =IF($AZ12="Supercharged by IA", "■",0) -> 0 | CV12: =IF(CU12="■", $R12+$S12) -> FALSE | CW12: =IF($AZ12="Todos Juntos Podemos Ler", "■",0) -> 0 | CX12: =IF(CW12="■", $R12+$S12) -> FALSE | CY12: =IF($AZ12="Voluntários de leitura", "■",0) -> 0 | CZ12: =IF(CY12="■", $R12+$S12) -> FALSE | DA12: =IF($AZ12="Outra(s)", "■",0) -> 0 | DB12: =IF(DA12="■", $R12+$S12) -> FALSE | DD12: =IF($BA12="Plano Nacional das Artes", "■",0) -> 0 | DE12: =IF(DD12="■", $R12+$S12) -> FALSE | DF12: =IF($BA12="Plano Nacional de Cinema", "■",0) -> 0 | DG12: =IF(DF12="■", $R12+$S12) -> FALSE | DH12: =IF($BA12="Plano Nacional de Formação Financeira", "■",0) -> 0 | DI12: =IF(DH12="■", $R12+$S12) -> FALSE | DJ12: =IF($BA12="Plano Nacional de Formação Financeira", "■",0) -> 0 | DK12: =IF(DJ12="■", $R12+$S12) -> FALSE | DL12: =IF($BA12="Outra(s)", "■",0) -> 0 | DM12: =IF(DL12="■", $R12+$S12) -> FALSE | DO12: =IF($BB12="Histórias com Ciência na Biblioteca Escolar", "■",0) -> 0 | DP12: =IF(DO12="■", $R12+$S12) -> FALSE | DQ12: =IF($BB12="Jornal escolar", "■",0) -> 0 | DR12: =IF(DQ12="■", $R12+$S12) -> FALSE | DS12: =IF($BB12="Rádio escolar", "■",0) -> 0 | DT12: =IF(DS12="■", $R12+$S12) -> FALSE | DU12: =IF($BB12="TV escolar", "■",0) -> 0 | DV12: =IF(DU12="■", $R12+$S12) -> FALSE | DW12: =IF($BB12="Outra(s)", "■",0) -> 0 | DX12: =IF(DW12="■", $R12+$S12) -> FALSE
B13: ='1. Plano anual atividades'!C15 -> 0 | D13: ='1. Plano anual atividades'!D15 -> 0 | E13: ='1. Plano anual atividades'!I15 -> 0 | F13: ='1. Plano anual atividades'!J15 -> 0 | G13: ='1. Plano anual atividades'!K15 -> 0 | H13: ='1. Plano anual atividades'!L15 -> 0 | I13: ='1. Plano anual atividades'!M15 -> 0 | J13: ='1. Plano anual atividades'!N15 -> 0 | K13: ='1. Plano anual atividades'!O15 -> 0 | L13: ='1. Plano anual atividades'!P15 -> 0 | ... N13: ='1. Plano anual atividades'!R15 -> 0 | Q13: =O13*P13 -> 0 | T13: =P13*R13 -> 0 | U13: =P13*S13 -> 0 | X13: =P13*V13 -> 0 | Y13: =P13*W13 -> 0 | AB13: ='1. Plano anual atividades'!E15 -> 0 | BC13: =IF($AZ13="7 dias com os media", "■",0) -> 0 | BD13: =IF(BC13="■", $R13+$S13) -> FALSE | BE13: =IF($AZ13="aLer mais e melhor", "■",0) -> 0 | BF13: =IF(BE13="■", $R13+$S13) -> FALSE | BG13: =IF($AZ13="Campeonato de Escrita e Ciência Criativa", "■",0) -> 0 | BH13: =IF(BG13="■", $R13+$S13) -> FALSE | BI13: =IF($AZ13="Cientificamente provável", "■",0) -> 0 | BJ13: =IF(BI13="■", $R13+$S13) -> FALSE | BK13: =IF($AZ13="Clássicos em rede", "■",0) -> 0 | BL13: =IF(BK13="■", $R13+$S13) -> FALSE | BM13: =IF($AZ13="Conto Contigo", "■",0) -> 0 | BN13: =IF(BM13="■", $R13+$S13) -> FALSE | BO13: =IF($AZ13="Dia da internet Mais Segura", "■",0) -> 0 | BP13: =IF(BO13="■", $R13+$S13) -> FALSE | BQ13: =IF($AZ13="Dia Mundial da Língua Portuguesa", "■",0) -> 0 | BR13: =IF(BQ13="■", $R13+$S13) -> FALSE | BS13: =IF($AZ13="Isto também é comigo", "■",0) -> 0 | BT13: =IF(BS13="■", $R13+$S13) -> FALSE | BU13: =IF($AZ13="Jornalistas em rede", "■",0) -> 0 | BV13: =IF(BU13="■", $R13+$S13) -> FALSE | BW13: =IF($AZ13="Juntos a criar", "■",0) -> 0 | BX13: =IF(BW13="■", $R13+$S13) -> FALSE | BY13: =IF($AZ13="Ler eescrever mais com a BE", "■",0) -> 0 | BZ13: =IF(BY13="■", $R13+$S13) -> FALSE | CA13: =IF($AZ13="Ler fora da escola", "■",0) -> 0 | CB13: =IF(CA13="■", $R13+$S13) -> FALSE | CC13: =IF($AZ13="Lidera", "■",0) -> 0 | CD13: =IF(CC13="■", $R13+$S13) -> FALSE | CE13: =IF($AZ13="Media@ção", "■",0) -> 0 | CF13: =IF(CE13="■", $R13+$S13) -> FALSE | CG13: =IF($AZ13="Mês Internacional da Biblioteca Escolar", "■",0) -> 0 | CH13: =IF(CG13="■", $R13+$S13) -> FALSE | CI13: =IF($AZ13="Miúdos a votos", "■",0) -> 0 | CJ13: =IF(CI13="■", $R13+$S13) -> FALSE | CK13: =IF($AZ13="Newton gostava de ler", "■",0) -> 0 | CL13: =IF(CK13="■", $R13+$S13) -> FALSE | CM13: =IF($AZ13="Proliteracias", "■",0) -> 0 | CN13: =IF(CM13="■", $R13+$S13) -> FALSE | CO13: =IF($AZ13="PÚBLICO na Escola", "■",0) -> 0 | CP13: =IF(CO13="■", $R13+$S13) -> FALSE | CQ13: =IF($AZ13="READ ON Portugal", "■",0) -> 0 | CR13: =IF(CQ13="■", $R13+$S13) -> FALSE | CS13: =IF($AZ13="Semana da leitura", "■",0) -> 0 | CT13: =IF(CS13="■", $R13+$S13) -> FALSE | CU13: =IF($AZ13="Supercharged by IA", "■",0) -> 0 | CV13: =IF(CU13="■", $R13+$S13) -> FALSE | CW13: =IF($AZ13="Todos Juntos Podemos Ler", "■",0) -> 0 | CX13: =IF(CW13="■", $R13+$S13) -> FALSE | CY13: =IF($AZ13="Voluntários de leitura", "■",0) -> 0 | CZ13: =IF(CY13="■", $R13+$S13) -> FALSE | DA13: =IF($AZ13="Outra(s)", "■",0) -> 0 | DB13: =IF(DA13="■", $R13+$S13) -> FALSE | DD13: =IF($BA13="Plano Nacional das Artes", "■",0) -> 0 | DE13: =IF(DD13="■", $R13+$S13) -> FALSE | DF13: =IF($BA13="Plano Nacional de Cinema", "■",0) -> 0 | DG13: =IF(DF13="■", $R13+$S13) -> FALSE | DH13: =IF($BA13="Plano Nacional de Formação Financeira", "■",0) -> 0 | DI13: =IF(DH13="■", $R13+$S13) -> FALSE | DJ13: =IF($BA13="Plano Nacional de Formação Financeira", "■",0) -> 0 | DK13: =IF(DJ13="■", $R13+$S13) -> FALSE | DL13: =IF($BA13="Outra(s)", "■",0) -> 0 | DM13: =IF(DL13="■", $R13+$S13) -> FALSE | DO13: =IF($BB13="Histórias com Ciência na Biblioteca Escolar", "■",0) -> 0 | DP13: =IF(DO13="■", $R13+$S13) -> FALSE | DQ13: =IF($BB13="Jornal escolar", "■",0) -> 0 | DR13: =IF(DQ13="■", $R13+$S13) -> FALSE | DS13: =IF($BB13="Rádio escolar", "■",0) -> 0 | DT13: =IF(DS13="■", $R13+$S13) -> FALSE | DU13: =IF($BB13="TV escolar", "■",0) -> 0 | DV13: =IF(DU13="■", $R13+$S13) -> FALSE | DW13: =IF($BB13="Outra(s)", "■",0) -> 0 | DX13: =IF(DW13="■", $R13+$S13) -> FALSE
B14: ='1. Plano anual atividades'!C16 -> 0 | D14: ='1. Plano anual atividades'!D16 -> 0 | E14: ='1. Plano anual atividades'!I16 -> 0 | F14: ='1. Plano anual atividades'!J16 -> 0 | G14: ='1. Plano anual atividades'!K16 -> 0 | H14: ='1. Plano anual atividades'!L16 -> 0 | I14: ='1. Plano anual atividades'!M16 -> 0 | J14: ='1. Plano anual atividades'!N16 -> 0 | K14: ='1. Plano anual atividades'!O16 -> 0 | L14: ='1. Plano anual atividades'!P16 -> 0 | ... N14: ='1. Plano anual atividades'!R16 -> 0 | Q14: =O14*P14 -> 0 | T14: =P14*R14 -> 0 | U14: =P14*S14 -> 0 | X14: =P14*V14 -> 0 | Y14: =P14*W14 -> 0 | AB14: ='1. Plano anual atividades'!E16 -> 0 | BC14: =IF($AZ14="7 dias com os media", "■",0) -> 0 | BD14: =IF(BC14="■", $R14+$S14) -> FALSE | BE14: =IF($AZ14="aLer mais e melhor", "■",0) -> 0 | BF14: =IF(BE14="■", $R14+$S14) -> FALSE | BG14: =IF($AZ14="Campeonato de Escrita e Ciência Criativa", "■",0) -> 0 | BH14: =IF(BG14="■", $R14+$S14) -> FALSE | BI14: =IF($AZ14="Cientificamente provável", "■",0) -> 0 | BJ14: =IF(BI14="■", $R14+$S14) -> FALSE | BK14: =IF($AZ14="Clássicos em rede", "■",0) -> 0 | BL14: =IF(BK14="■", $R14+$S14) -> FALSE | BM14: =IF($AZ14="Conto Contigo", "■",0) -> 0 | BN14: =IF(BM14="■", $R14+$S14) -> FALSE | BO14: =IF($AZ14="Dia da internet Mais Segura", "■",0) -> 0 | BP14: =IF(BO14="■", $R14+$S14) -> FALSE | BQ14: =IF($AZ14="Dia Mundial da Língua Portuguesa", "■",0) -> 0 | BR14: =IF(BQ14="■", $R14+$S14) -> FALSE | BS14: =IF($AZ14="Isto também é comigo", "■",0) -> 0 | BT14: =IF(BS14="■", $R14+$S14) -> FALSE | BU14: =IF($AZ14="Jornalistas em rede", "■",0) -> 0 | BV14: =IF(BU14="■", $R14+$S14) -> FALSE | BW14: =IF($AZ14="Juntos a criar", "■",0) -> 0 | BX14: =IF(BW14="■", $R14+$S14) -> FALSE | BY14: =IF($AZ14="Ler eescrever mais com a BE", "■",0) -> 0 | BZ14: =IF(BY14="■", $R14+$S14) -> FALSE | CA14: =IF($AZ14="Ler fora da escola", "■",0) -> 0 | CB14: =IF(CA14="■", $R14+$S14) -> FALSE | CC14: =IF($AZ14="Lidera", "■",0) -> 0 | CD14: =IF(CC14="■", $R14+$S14) -> FALSE | CE14: =IF($AZ14="Media@ção", "■",0) -> 0 | CF14: =IF(CE14="■", $R14+$S14) -> FALSE | CG14: =IF($AZ14="Mês Internacional da Biblioteca Escolar", "■",0) -> 0 | CH14: =IF(CG14="■", $R14+$S14) -> FALSE | CI14: =IF($AZ14="Miúdos a votos", "■",0) -> 0 | CJ14: =IF(CI14="■", $R14+$S14) -> FALSE | CK14: =IF($AZ14="Newton gostava de ler", "■",0) -> 0 | CL14: =IF(CK14="■", $R14+$S14) -> FALSE | CM14: =IF($AZ14="Proliteracias", "■",0) -> 0 | CN14: =IF(CM14="■", $R14+$S14) -> FALSE | CO14: =IF($AZ14="PÚBLICO na Escola", "■",0) -> 0 | CP14: =IF(CO14="■", $R14+$S14) -> FALSE | CQ14: =IF($AZ14="READ ON Portugal", "■",0) -> 0 | CR14: =IF(CQ14="■", $R14+$S14) -> FALSE | CS14: =IF($AZ14="Semana da leitura", "■",0) -> 0 | CT14: =IF(CS14="■", $R14+$S14) -> FALSE | CU14: =IF($AZ14="Supercharged by IA", "■",0) -> 0 | CV14: =IF(CU14="■", $R14+$S14) -> FALSE | CW14: =IF($AZ14="Todos Juntos Podemos Ler", "■",0) -> 0 | CX14: =IF(CW14="■", $R14+$S14) -> FALSE | CY14: =IF($AZ14="Voluntários de leitura", "■",0) -> 0 | CZ14: =IF(CY14="■", $R14+$S14) -> FALSE | DA14: =IF($AZ14="Outra(s)", "■",0) -> 0 | DB14: =IF(DA14="■", $R14+$S14) -> FALSE | DD14: =IF($BA14="Plano Nacional das Artes", "■",0) -> 0 | DE14: =IF(DD14="■", $R14+$S14) -> FALSE | DF14: =IF($BA14="Plano Nacional de Cinema", "■",0) -> 0 | DG14: =IF(DF14="■", $R14+$S14) -> FALSE | DH14: =IF($BA14="Plano Nacional de Formação Financeira", "■",0) -> 0 | DI14: =IF(DH14="■", $R14+$S14) -> FALSE | DJ14: =IF($BA14="Plano Nacional de Formação Financeira", "■",0) -> 0 | DK14: =IF(DJ14="■", $R14+$S14) -> FALSE | DL14: =IF($BA14="Outra(s)", "■",0) -> 0 | DM14: =IF(DL14="■", $R14+$S14) -> FALSE | DO14: =IF($BB14="Histórias com Ciência na Biblioteca Escolar", "■",0) -> 0 | DP14: =IF(DO14="■", $R14+$S14) -> FALSE | DQ14: =IF($BB14="Jornal escolar", "■",0) -> 0 | DR14: =IF(DQ14="■", $R14+$S14) -> FALSE | DS14: =IF($BB14="Rádio escolar", "■",0) -> 0 | DT14: =IF(DS14="■", $R14+$S14) -> FALSE | DU14: =IF($BB14="TV escolar", "■",0) -> 0 | DV14: =IF(DU14="■", $R14+$S14) -> FALSE | DW14: =IF($BB14="Outra(s)", "■",0) -> 0 | DX14: =IF(DW14="■", $R14+$S14) -> FALSE
B15: ='1. Plano anual atividades'!C17 -> 0 | D15: ='1. Plano anual atividades'!D17 -> 0 | E15: ='1. Plano anual atividades'!I17 -> 0 | F15: ='1. Plano anual atividades'!J17 -> 0 | G15: ='1. Plano anual atividades'!K17 -> 0 | H15: ='1. Plano anual atividades'!L17 -> 0 | I15: ='1. Plano anual atividades'!M17 -> 0 | J15: ='1. Plano anual atividades'!N17 -> 0 | K15: ='1. Plano anual atividades'!O17 -> 0 | L15: ='1. Plano anual atividades'!P17 -> 0 | ... N15: ='1. Plano anual atividades'!R17 -> 0 | Q15: =O15*P15 -> 0 | T15: =P15*R15 -> 0 | U15: =P15*S15 -> 0 | X15: =P15*V15 -> 0 | Y15: =P15*W15 -> 0 | AB15: ='1. Plano anual atividades'!E17 -> 0 | BC15: =IF($AZ15="7 dias com os media", "■",0) -> 0 | BD15: =IF(BC15="■", $R15+$S15) -> FALSE | BE15: =IF($AZ15="aLer mais e melhor", "■",0) -> 0 | BF15: =IF(BE15="■", $R15+$S15) -> FALSE | BG15: =IF($AZ15="Campeonato de Escrita e Ciência Criativa", "■",0) -> 0 | BH15: =IF(BG15="■", $R15+$S15) -> FALSE | BI15: =IF($AZ15="Cientificamente provável", "■",0) -> 0 | BJ15: =IF(BI15="■", $R15+$S15) -> FALSE | BK15: =IF($AZ15="Clássicos em rede", "■",0) -> 0 | BL15: =IF(BK15="■", $R15+$S15) -> FALSE | BM15: =IF($AZ15="Conto Contigo", "■",0) -> 0 | BN15: =IF(BM15="■", $R15+$S15) -> FALSE | BO15: =IF($AZ15="Dia da internet Mais Segura", "■",0) -> 0 | BP15: =IF(BO15="■", $R15+$S15) -> FALSE | BQ15: =IF($AZ15="Dia Mundial da Língua Portuguesa", "■",0) -> 0 | BR15: =IF(BQ15="■", $R15+$S15) -> FALSE | BS15: =IF($AZ15="Isto também é comigo", "■",0) -> 0 | BT15: =IF(BS15="■", $R15+$S15) -> FALSE | BU15: =IF($AZ15="Jornalistas em rede", "■",0) -> 0 | BV15: =IF(BU15="■", $R15+$S15) -> FALSE | BW15: =IF($AZ15="Juntos a criar", "■",0) -> 0 | BX15: =IF(BW15="■", $R15+$S15) -> FALSE | BY15: =IF($AZ15="Ler eescrever mais com a BE", "■",0) -> 0 | BZ15: =IF(BY15="■", $R15+$S15) -> FALSE | CA15: =IF($AZ15="Ler fora da escola", "■",0) -> 0 | CB15: =IF(CA15="■", $R15+$S15) -> FALSE | CC15: =IF($AZ15="Lidera", "■",0) -> 0 | CD15: =IF(CC15="■", $R15+$S15) -> FALSE | CE15: =IF($AZ15="Media@ção", "■",0) -> 0 | CF15: =IF(CE15="■", $R15+$S15) -> FALSE | CG15: =IF($AZ15="Mês Internacional da Biblioteca Escolar", "■",0) -> 0 | CH15: =IF(CG15="■", $R15+$S15) -> FALSE | CI15: =IF($AZ15="Miúdos a votos", "■",0) -> 0 | CJ15: =IF(CI15="■", $R15+$S15) -> FALSE | CK15: =IF($AZ15="Newton gostava de ler", "■",0) -> 0 | CL15: =IF(CK15="■", $R15+$S15) -> FALSE | CM15: =IF($AZ15="Proliteracias", "■",0) -> 0 | CN15: =IF(CM15="■", $R15+$S15) -> FALSE | CO15: =IF($AZ15="PÚBLICO na Escola", "■",0) -> 0 | CP15: =IF(CO15="■", $R15+$S15) -> FALSE | CQ15: =IF($AZ15="READ ON Portugal", "■",0) -> 0 | CR15: =IF(CQ15="■", $R15+$S15) -> FALSE | CS15: =IF($AZ15="Semana da leitura", "■",0) -> 0 | CT15: =IF(CS15="■", $R15+$S15) -> FALSE | CU15: =IF($AZ15="Supercharged by IA", "■",0) -> 0 | CV15: =IF(CU15="■", $R15+$S15) -> FALSE | CW15: =IF($AZ15="Todos Juntos Podemos Ler", "■",0) -> 0 | CX15: =IF(CW15="■", $R15+$S15) -> FALSE | CY15: =IF($AZ15="Voluntários de leitura", "■",0) -> 0 | CZ15: =IF(CY15="■", $R15+$S15) -> FALSE | DA15: =IF($AZ15="Outra(s)", "■",0) -> 0 | DB15: =IF(DA15="■", $R15+$S15) -> FALSE | DD15: =IF($BA15="Plano Nacional das Artes", "■",0) -> 0 | DE15: =IF(DD15="■", $R15+$S15) -> FALSE | DF15: =IF($BA15="Plano Nacional de Cinema", "■",0) -> 0 | DG15: =IF(DF15="■", $R15+$S15) -> FALSE | DH15: =IF($BA15="Plano Nacional de Formação Financeira", "■",0) -> 0 | DI15: =IF(DH15="■", $R15+$S15) -> FALSE | DJ15: =IF($BA15="Plano Nacional de Formação Financeira", "■",0) -> 0 | DK15: =IF(DJ15="■", $R15+$S15) -> FALSE | DL15: =IF($BA15="Outra(s)", "■",0) -> 0 | DM15: =IF(DL15="■", $R15+$S15) -> FALSE | DO15: =IF($BB15="Histórias com Ciência na Biblioteca Escolar", "■",0) -> 0 | DP15: =IF(DO15="■", $R15+$S15) -> FALSE | DQ15: =IF($BB15="Jornal escolar", "■",0) -> 0 | DR15: =IF(DQ15="■", $R15+$S15) -> FALSE | DS15: =IF($BB15="Rádio escolar", "■",0) -> 0 | DT15: =IF(DS15="■", $R15+$S15) -> FALSE | DU15: =IF($BB15="TV escolar", "■",0) -> 0 | DV15: =IF(DU15="■", $R15+$S15) -> FALSE | DW15: =IF($BB15="Outra(s)", "■",0) -> 0 | DX15: =IF(DW15="■", $R15+$S15) -> FALSE
B16: ='1. Plano anual atividades'!C18 -> 0 | D16: ='1. Plano anual atividades'!D18 -> 0 | E16: ='1. Plano anual atividades'!I18 -> 0 | F16: ='1. Plano anual atividades'!J18 -> 0 | G16: ='1. Plano anual atividades'!K18 -> 0 | H16: ='1. Plano anual atividades'!L18 -> 0 | I16: ='1. Plano anual atividades'!M18 -> 0 | J16: ='1. Plano anual atividades'!N18 -> 0 | K16: ='1. Plano anual atividades'!O18 -> 0 | L16: ='1. Plano anual atividades'!P18 -> 0 | ... N16: ='1. Plano anual atividades'!R18 -> 0 | Q16: =O16*P16 -> 0 | T16: =P16*R16 -> 0 | U16: =P16*S16 -> 0 | X16: =P16*V16 -> 0 | Y16: =P16*W16 -> 0 | AB16: ='1. Plano anual atividades'!E18 -> 0 | BC16: =IF($AZ16="7 dias com os media", "■",0) -> 0 | BD16: =IF(BC16="■", $R16+$S16) -> FALSE | BE16: =IF($AZ16="aLer mais e melhor", "■",0) -> 0 | BF16: =IF(BE16="■", $R16+$S16) -> FALSE | BG16: =IF($AZ16="Campeonato de Escrita e Ciência Criativa", "■",0) -> 0 | BH16: =IF(BG16="■", $R16+$S16) -> FALSE | BI16: =IF($AZ16="Cientificamente provável", "■",0) -> 0 | BJ16: =IF(BI16="■", $R16+$S16) -> FALSE | BK16: =IF($AZ16="Clássicos em rede", "■",0) -> 0 | BL16: =IF(BK16="■", $R16+$S16) -> FALSE | BM16: =IF($AZ16="Conto Contigo", "■",0) -> 0 | BN16: =IF(BM16="■", $R16+$S16) -> FALSE | BO16: =IF($AZ16="Dia da internet Mais Segura", "■",0) -> 0 | BP16: =IF(BO16="■", $R16+$S16) -> FALSE | BQ16: =IF($AZ16="Dia Mundial da Língua Portuguesa", "■",0) -> 0 | BR16: =IF(BQ16="■", $R16+$S16) -> FALSE | BS16: =IF($AZ16="Isto também é comigo", "■",0) -> 0 | BT16: =IF(BS16="■", $R16+$S16) -> FALSE | BU16: =IF($AZ16="Jornalistas em rede", "■",0) -> 0 | BV16: =IF(BU16="■", $R16+$S16) -> FALSE | BW16: =IF($AZ16="Juntos a criar", "■",0) -> 0 | BX16: =IF(BW16="■", $R16+$S16) -> FALSE | BY16: =IF($AZ16="Ler eescrever mais com a BE", "■",0) -> 0 | BZ16: =IF(BY16="■", $R16+$S16) -> FALSE | CA16: =IF($AZ16="Ler fora da escola", "■",0) -> 0 | CB16: =IF(CA16="■", $R16+$S16) -> FALSE | CC16: =IF($AZ16="Lidera", "■",0) -> 0 | CD16: =IF(CC16="■", $R16+$S16) -> FALSE | CE16: =IF($AZ16="Media@ção", "■",0) -> 0 | CF16: =IF(CE16="■", $R16+$S16) -> FALSE | CG16: =IF($AZ16="Mês Internacional da Biblioteca Escolar", "■",0) -> 0 | CH16: =IF(CG16="■", $R16+$S16) -> FALSE | CI16: =IF($AZ16="Miúdos a votos", "■",0) -> 0 | CJ16: =IF(CI16="■", $R16+$S16) -> FALSE | CK16: =IF($AZ16="Newton gostava de ler", "■",0) -> 0 | CL16: =IF(CK16="■", $R16+$S16) -> FALSE | CM16: =IF($AZ16="Proliteracias", "■",0) -> 0 | CN16: =IF(CM16="■", $R16+$S16) -> FALSE | CO16: =IF($AZ16="PÚBLICO na Escola", "■",0) -> 0 | CP16: =IF(CO16="■", $R16+$S16) -> FALSE | CQ16: =IF($AZ16="READ ON Portugal", "■",0) -> 0 | CR16: =IF(CQ16="■", $R16+$S16) -> FALSE | CS16: =IF($AZ16="Semana da leitura", "■",0) -> 0 | CT16: =IF(CS16="■", $R16+$S16) -> FALSE | CU16: =IF($AZ16="Supercharged by IA", "■",0) -> 0 | CV16: =IF(CU16="■", $R16+$S16) -> FALSE | CW16: =IF($AZ16="Todos Juntos Podemos Ler", "■",0) -> 0 | CX16: =IF(CW16="■", $R16+$S16) -> FALSE | CY16: =IF($AZ16="Voluntários de leitura", "■",0) -> 0 | CZ16: =IF(CY16="■", $R16+$S16) -> FALSE | DA16: =IF($AZ16="Outra(s)", "■",0) -> 0 | DB16: =IF(DA16="■", $R16+$S16) -> FALSE | DD16: =IF($BA16="Plano Nacional das Artes", "■",0) -> 0 | DE16: =IF(DD16="■", $R16+$S16) -> FALSE | DF16: =IF($BA16="Plano Nacional de Cinema", "■",0) -> 0 | DG16: =IF(DF16="■", $R16+$S16) -> FALSE | DH16: =IF($BA16="Plano Nacional de Formação Financeira", "■",0) -> 0 | DI16: =IF(DH16="■", $R16+$S16) -> FALSE | DJ16: =IF($BA16="Plano Nacional de Formação Financeira", "■",0) -> 0 | DK16: =IF(DJ16="■", $R16+$S16) -> FALSE | DL16: =IF($BA16="Outra(s)", "■",0) -> 0 | DM16: =IF(DL16="■", $R16+$S16) -> FALSE | DO16: =IF($BB16="Histórias com Ciência na Biblioteca Escolar", "■",0) -> 0 | DP16: =IF(DO16="■", $R16+$S16) -> FALSE | DQ16: =IF($BB16="Jornal escolar", "■",0) -> 0 | DR16: =IF(DQ16="■", $R16+$S16) -> FALSE | DS16: =IF($BB16="Rádio escolar", "■",0) -> 0 | DT16: =IF(DS16="■", $R16+$S16) -> FALSE | DU16: =IF($BB16="TV escolar", "■",0) -> 0 | DV16: =IF(DU16="■", $R16+$S16) -> FALSE | DW16: =IF($BB16="Outra(s)", "■",0) -> 0 | DX16: =IF(DW16="■", $R16+$S16) -> FALSE
B17: ='1. Plano anual atividades'!C19 -> 0 | D17: ='1. Plano anual atividades'!D19 -> 0 | E17: ='1. Plano anual atividades'!I19 -> 0 | F17: ='1. Plano anual atividades'!J19 -> 0 | G17: ='1. Plano anual atividades'!K19 -> 0 | H17: ='1. Plano anual atividades'!L19 -> 0 | I17: ='1. Plano anual atividades'!M19 -> 0 | J17: ='1. Plano anual atividades'!N19 -> 0 | K17: ='1. Plano anual atividades'!O19 -> 0 | L17: ='1. Plano anual atividades'!P19 -> 0 | ... N17: ='1. Plano anual atividades'!R19 -> 0 | Q17: =O17*P17 -> 0 | T17: =P17*R17 -> 0 | U17: =P17*S17 -> 0 | X17: =P17*V17 -> 0 | Y17: =P17*W17 -> 0 | AB17: ='1. Plano anual atividades'!E19 -> 0 | BC17: =IF($AZ17="7 dias com os media", "■",0) -> 0 | BD17: =IF(BC17="■", $R17+$S17) -> FALSE | BE17: =IF($AZ17="aLer mais e melhor", "■",0) -> 0 | BF17: =IF(BE17="■", $R17+$S17) -> FALSE | BG17: =IF($AZ17="Campeonato de Escrita e Ciência Criativa", "■",0) -> 0 | BH17: =IF(BG17="■", $R17+$S17) -> FALSE | BI17: =IF($AZ17="Cientificamente provável", "■",0) -> 0 | BJ17: =IF(BI17="■", $R17+$S17) -> FALSE | BK17: =IF($AZ17="Clássicos em rede", "■",0) -> 0 | BL17: =IF(BK17="■", $R17+$S17) -> FALSE | BM17: =IF($AZ17="Conto Contigo", "■",0) -> 0 | BN17: =IF(BM17="■", $R17+$S17) -> FALSE | BO17: =IF($AZ17="Dia da internet Mais Segura", "■",0) -> 0 | BP17: =IF(BO17="■", $R17+$S17) -> FALSE | BQ17: =IF($AZ17="Dia Mundial da Língua Portuguesa", "■",0) -> 0 | BR17: =IF(BQ17="■", $R17+$S17) -> FALSE | BS17: =IF($AZ17="Isto também é comigo", "■",0) -> 0 | BT17: =IF(BS17="■", $R17+$S17) -> FALSE | BU17: =IF($AZ17="Jornalistas em rede", "■",0) -> 0 | BV17: =IF(BU17="■", $R17+$S17) -> FALSE | BW17: =IF($AZ17="Juntos a criar", "■",0) -> 0 | BX17: =IF(BW17="■", $R17+$S17) -> FALSE | BY17: =IF($AZ17="Ler eescrever mais com a BE", "■",0) -> 0 | BZ17: =IF(BY17="■", $R17+$S17) -> FALSE | CA17: =IF($AZ17="Ler fora da escola", "■",0) -> 0 | CB17: =IF(CA17="■", $R17+$S17) -> FALSE | CC17: =IF($AZ17="Lidera", "■",0) -> 0 | CD17: =IF(CC17="■", $R17+$S17) -> FALSE | CE17: =IF($AZ17="Media@ção", "■",0) -> 0 | CF17: =IF(CE17="■", $R17+$S17) -> FALSE | CG17: =IF($AZ17="Mês Internacional da Biblioteca Escolar", "■",0) -> 0 | CH17: =IF(CG17="■", $R17+$S17) -> FALSE | CI17: =IF($AZ17="Miúdos a votos", "■",0) -> 0 | CJ17: =IF(CI17="■", $R17+$S17) -> FALSE | CK17: =IF($AZ17="Newton gostava de ler", "■",0) -> 0 | CL17: =IF(CK17="■", $R17+$S17) -> FALSE | CM17: =IF($AZ17="Proliteracias", "■",0) -> 0 | CN17: =IF(CM17="■", $R17+$S17) -> FALSE | CO17: =IF($AZ17="PÚBLICO na Escola", "■",0) -> 0 | CP17: =IF(CO17="■", $R17+$S17) -> FALSE | CQ17: =IF($AZ17="READ ON Portugal", "■",0) -> 0 | CR17: =IF(CQ17="■", $R17+$S17) -> FALSE | CS17: =IF($AZ17="Semana da leitura", "■",0) -> 0 | CT17: =IF(CS17="■", $R17+$S17) -> FALSE | CU17: =IF($AZ17="Supercharged by IA", "■",0) -> 0 | CV17: =IF(CU17="■", $R17+$S17) -> FALSE | CW17: =IF($AZ17="Todos Juntos Podemos Ler", "■",0) -> 0 | CX17: =IF(CW17="■", $R17+$S17) -> FALSE | CY17: =IF($AZ17="Voluntários de leitura", "■",0) -> 0 | CZ17: =IF(CY17="■", $R17+$S17) -> FALSE | DA17: =IF($AZ17="Outra(s)", "■",0) -> 0 | DB17: =IF(DA17="■", $R17+$S17) -> FALSE | DD17: =IF($BA17="Plano Nacional das Artes", "■",0) -> 0 | DE17: =IF(DD17="■", $R17+$S17) -> FALSE | DF17: =IF($BA17="Plano Nacional de Cinema", "■",0) -> 0 | DG17: =IF(DF17="■", $R17+$S17) -> FALSE | DH17: =IF($BA17="Plano Nacional de Formação Financeira", "■",0) -> 0 | DI17: =IF(DH17="■", $R17+$S17) -> FALSE | DJ17: =IF($BA17="Plano Nacional de Formação Financeira", "■",0) -> 0 | DK17: =IF(DJ17="■", $R17+$S17) -> FALSE | DL17: =IF($BA17="Outra(s)", "■",0) -> 0 | DM17: =IF(DL17="■", $R17+$S17) -> FALSE | DO17: =IF($BB17="Histórias com Ciência na Biblioteca Escolar", "■",0) -> 0 | DP17: =IF(DO17="■", $R17+$S17) -> FALSE | DQ17: =IF($BB17="Jornal escolar", "■",0) -> 0 | DR17: =IF(DQ17="■", $R17+$S17) -> FALSE | DS17: =IF($BB17="Rádio escolar", "■",0) -> 0 | DT17: =IF(DS17="■", $R17+$S17) -> FALSE | DU17: =IF($BB17="TV escolar", "■",0) -> 0 | DV17: =IF(DU17="■", $R17+$S17) -> FALSE | DW17: =IF($BB17="Outra(s)", "■",0) -> 0 | DX17: =IF(DW17="■", $R17+$S17) -> FALSE
B18: ='1. Plano anual atividades'!C20 -> 0 | D18: ='1. Plano anual atividades'!D30 -> 0 | E18: ='1. Plano anual atividades'!I30 -> 0 | F18: ='1. Plano anual atividades'!J30 -> 0 | G18: ='1. Plano anual atividades'!K30 -> 0 | H18: ='1. Plano anual atividades'!L30 -> 0 | I18: ='1. Plano anual atividades'!M30 -> 0 | J18: ='1. Plano anual atividades'!N30 -> 0 | K18: ='1. Plano anual atividades'!O30 -> 0 | L18: ='1. Plano anual atividades'!P30 -> 0 | ... N18: ='1. Plano anual atividades'!R30 -> 0 | Q18: =O18*P18 -> 0 | T18: =P18*R18 -> 0 | U18: =P18*S18 -> 0 | X18: =P18*V18 -> 0 | Y18: =P18*W18 -> 0 | AB18: ='1. Plano anual atividades'!E30 -> 0 | BC18: =IF($AZ18="7 dias com os media", "■",0) -> 0 | BD18: =IF(BC18="■", $R18+$S18) -> FALSE | BE18: =IF($AZ18="aLer mais e melhor", "■",0) -> 0 | BF18: =IF(BE18="■", $R18+$S18) -> FALSE | BG18: =IF($AZ18="Campeonato de Escrita e Ciência Criativa", "■",0) -> 0 | BH18: =IF(BG18="■", $R18+$S18) -> FALSE | BI18: =IF($AZ18="Cientificamente provável", "■",0) -> 0 | BJ18: =IF(BI18="■", $R18+$S18) -> FALSE | BK18: =IF($AZ18="Clássicos em rede", "■",0) -> 0 | BL18: =IF(BK18="■", $R18+$S18) -> FALSE | BM18: =IF($AZ18="Conto Contigo", "■",0) -> 0 | BN18: =IF(BM18="■", $R18+$S18) -> FALSE | BO18: =IF($AZ18="Dia da internet Mais Segura", "■",0) -> 0 | BP18: =IF(BO18="■", $R18+$S18) -> FALSE | BQ18: =IF($AZ18="Dia Mundial da Língua Portuguesa", "■",0) -> 0 | BR18: =IF(BQ18="■", $R18+$S18) -> FALSE | BS18: =IF($AZ18="Isto também é comigo", "■",0) -> 0 | BT18: =IF(BS18="■", $R18+$S18) -> FALSE | BU18: =IF($AZ18="Jornalistas em rede", "■",0) -> 0 | BV18: =IF(BU18="■", $R18+$S18) -> FALSE | BW18: =IF($AZ18="Juntos a criar", "■",0) -> 0 | BX18: =IF(BW18="■", $R18+$S18) -> FALSE | BY18: =IF($AZ18="Ler eescrever mais com a BE", "■",0) -> 0 | BZ18: =IF(BY18="■", $R18+$S18) -> FALSE | CA18: =IF($AZ18="Ler fora da escola", "■",0) -> 0 | CB18: =IF(CA18="■", $R18+$S18) -> FALSE | CC18: =IF($AZ18="Lidera", "■",0) -> 0 | CD18: =IF(CC18="■", $R18+$S18) -> FALSE | CE18: =IF($AZ18="Media@ção", "■",0) -> 0 | CF18: =IF(CE18="■", $R18+$S18) -> FALSE | CG18: =IF($AZ18="Mês Internacional da Biblioteca Escolar", "■",0) -> 0 | CH18: =IF(CG18="■", $R18+$S18) -> FALSE | CI18: =IF($AZ18="Miúdos a votos", "■",0) -> 0 | CJ18: =IF(CI18="■", $R18+$S18) -> FALSE | CK18: =IF($AZ18="Newton gostava de ler", "■",0) -> 0 | CL18: =IF(CK18="■", $R18+$S18) -> FALSE | CM18: =IF($AZ18="Proliteracias", "■",0) -> 0 | CN18: =IF(CM18="■", $R18+$S18) -> FALSE | CO18: =IF($AZ18="PÚBLICO na Escola", "■",0) -> 0 | CP18: =IF(CO18="■", $R18+$S18) -> FALSE | CQ18: =IF($AZ18="READ ON Portugal", "■",0) -> 0 | CR18: =IF(CQ18="■", $R18+$S18) -> FALSE | CS18: =IF($AZ18="Semana da leitura", "■",0) -> 0 | CT18: =IF(CS18="■", $R18+$S18) -> FALSE | CU18: =IF($AZ18="Supercharged by IA", "■",0) -> 0 | CV18: =IF(CU18="■", $R18+$S18) -> FALSE | CW18: =IF($AZ18="Todos Juntos Podemos Ler", "■",0) -> 0 | CX18: =IF(CW18="■", $R18+$S18) -> FALSE | CY18: =IF($AZ18="Voluntários de leitura", "■",0) -> 0 | CZ18: =IF(CY18="■", $R18+$S18) -> FALSE | DA18: =IF($AZ18="Outra(s)", "■",0) -> 0 | DB18: =IF(DA18="■", $R18+$S18) -> FALSE | DD18: =IF($BA18="Plano Nacional das Artes", "■",0) -> 0 | DE18: =IF(DD18="■", $R18+$S18) -> FALSE | DF18: =IF($BA18="Plano Nacional de Cinema", "■",0) -> 0 | DG18: =IF(DF18="■", $R18+$S18) -> FALSE | DH18: =IF($BA18="Plano Nacional de Formação Financeira", "■",0) -> 0 | DI18: =IF(DH18="■", $R18+$S18) -> FALSE | DJ18: =IF($BA18="Plano Nacional de Formação Financeira", "■",0) -> 0 | DK18: =IF(DJ18="■", $R18+$S18) -> FALSE | DL18: =IF($BA18="Outra(s)", "■",0) -> 0 | DM18: =IF(DL18="■", $R18+$S18) -> FALSE | DO18: =IF($BB18="Histórias com Ciência na Biblioteca Escolar", "■",0) -> 0 | DP18: =IF(DO18="■", $R18+$S18) -> FALSE | DQ18: =IF($BB18="Jornal escolar", "■",0) -> 0 | DR18: =IF(DQ18="■", $R18+$S18) -> FALSE | DS18: =IF($BB18="Rádio escolar", "■",0) -> 0 | DT18: =IF(DS18="■", $R18+$S18) -> FALSE | DU18: =IF($BB18="TV escolar", "■",0) -> 0 | DV18: =IF(DU18="■", $R18+$S18) -> FALSE | DW18: =IF($BB18="Outra(s)", "■",0) -> 0 | DX18: =IF(DW18="■", $R18+$S18) -> FALSE
